View In:
ArcGIS JavaScript
ArcGIS Online Map Viewer
ArcGIS Earth
Service Description: POWER/POWER_901_CLIMATOLOGY_HORIZON_UTC
Name: POWER/POWER_901_CLIMATOLOGY_HORIZON_UTC
Description:
Single Fused Map Cache: false
Extent:
XMin: -180.25
YMin: -90.25
XMax: 179.75
YMax: 89.75
Spatial Reference: 4326
(4326)
LatestVCSWkid(0)
Initial Extent:
XMin: -180.25
YMin: -90.25
XMax: 179.75
YMax: 89.75
Spatial Reference: 4326
(4326)
LatestVCSWkid(0)
Full Extent:
XMin: -180.25
YMin: -90.25
XMax: 179.75
YMax: 89.75
Spatial Reference: 4326
(4326)
LatestVCSWkid(0)
Pixel Size X: 1.0
Pixel Size Y: 1.0
Band Count: 1
Pixel Type: F32
RasterFunction Infos: {"rasterFunctionInfos": [{
"name": "None",
"description": "",
"help": ""
}]}
Mensuration Capabilities: Basic
Inspection Capabilities:
Has Histograms: true
Has Colormap: false
Has Multi Dimensions : true
Rendering Rule:
Min Scale: 0
Max Scale: 0
Resampling: false
Copyright Text:
Service Data Type: esriImageServiceDataTypeScientific
Min Values: 0
Max Values: 89.83000183105469
Mean Values: 28.095728043502547
Standard Deviation Values: 20.320892961630825
Object ID Field:
Fields:
None
Default Mosaic Method: Center
Allowed Mosaic Methods:
SortField:
SortValue: null
Mosaic Operator: First
Default Compression Quality: 75
Default Resampling Method: Bilinear
Max Record Count: null
Max Image Height: 4100
Max Image Width: 15000
Max Download Image Count: null
Max Mosaic Image Count: null
Allow Raster Function: true
Allow Copy: true
Allow Analysis: true
Allow Compute TiePoints: false
Supports Statistics: false
Supports Advanced Queries: false
Use StandardizedQueries: true
Raster Type Infos:
Name: Raster Dataset
Description: Supports all ArcGIS Raster Datasets
Help:
Has Raster Attribute Table: false
Edit Fields Info: null
Ownership Based AccessControl For Rasters: null
Child Resources:
Info
Histograms
Statistics
Key Properties
Legend
Raster Function Infos
Multidimensional Info
Slices
Supported Operations:
Export Image
Identify
Measure
Compute Histograms
Compute Statistics Histograms
Get Samples
Compute Class Statistics
Query Boundary
Compute Pixel Location
Compute Angles
Validate
Project