View In:
ArcGIS JavaScript
ArcGIS Online Map Viewer
ArcGIS Earth
Service Description: SMASH/aus_annual_irmt_99th_percentile_hourly
Name: SMASH/aus_annual_irmt_99th_percentile_hourly
Description:
Single Fused Map Cache: false
Extent:
XMin: 109.00000381469727
YMin: -45.0
XMax: 159.00000381469727
YMax: -5.0
Spatial Reference: 4326
(4326)
LatestVCSWkid(0)
Initial Extent:
XMin: 109.00000381469727
YMin: -45.0
XMax: 159.00000381469727
YMax: -5.0
Spatial Reference: 4326
(4326)
LatestVCSWkid(0)
Full Extent:
XMin: 109.00000381469727
YMin: -45.0
XMax: 159.00000381469727
YMax: -5.0
Spatial Reference: 4326
(4326)
LatestVCSWkid(0)
Time Info:
Start Time Field: StdTime
End Time Field: StdTime
Time Extent:
[2016/07/01 00:30:00 UTC, 2022/07/01 23:30:00 UTC]
Time Reference:
N/A
Pixel Size X: 0.03571428571428571
Pixel Size Y: 0.03571428571428571
Band Count: 1
Pixel Type: S16
RasterFunction Infos: {"rasterFunctionInfos": [{
"name": "None",
"description": "",
"help": ""
}]}
Mensuration Capabilities: Basic
Inspection Capabilities:
Has Histograms: true
Has Colormap: false
Has Multi Dimensions : true
Rendering Rule:
Min Scale: 0
Max Scale: 0
Resampling: false
Copyright Text:
Service Data Type: esriImageServiceDataTypeScientific
Min Values: -23
Max Values: 27
Mean Values: 4.173938147713403
Standard Deviation Values: 4.127100606840954
Object ID Field:
Fields:
None
Default Mosaic Method: Center
Allowed Mosaic Methods:
SortField:
SortValue: null
Mosaic Operator: First
Default Compression Quality: 75
Default Resampling Method: Bilinear
Max Record Count: null
Max Image Height: 4100
Max Image Width: 15000
Max Download Image Count: null
Max Mosaic Image Count: null
Allow Raster Function: true
Allow Copy: true
Allow Analysis: true
Allow Compute TiePoints: false
Supports Statistics: false
Supports Advanced Queries: false
Use StandardizedQueries: true
Raster Type Infos:
Name: Raster Dataset
Description: Supports all ArcGIS Raster Datasets
Help:
Has Raster Attribute Table: false
Edit Fields Info: null
Ownership Based AccessControl For Rasters: null
Child Resources:
Info
Histograms
Statistics
Key Properties
Legend
Raster Function Infos
Multidimensional Info
Slices
Supported Operations:
Export Image
Identify
Measure
Compute Histograms
Compute Statistics Histograms
Get Samples
Compute Class Statistics
Query Boundary
Compute Pixel Location
Compute Angles
Validate
Project