{
 "currentVersion": 11.5,
 "serviceDescription": "SMASH/eu_seasclim_ot_frequency_hourly",
 "serviceItemId": "1af6136f52674a19ad16f8d5a84ce585",
 "name": "SMASH/eu_seasclim_ot_frequency_hourly",
 "description": "",
 "extent": {
  "xmin": -11.714285373687744,
  "ymin": 32.28571069157671,
  "xmax": 39.64285707473755,
  "ymax": 59.999996185302734,
  "spatialReference": {
   "wkid": 4326,
   "latestWkid": 4326
  }
 },
 "initialExtent": {
  "xmin": -11.714285373687744,
  "ymin": 32.28571069157671,
  "xmax": 39.64285707473755,
  "ymax": 59.999996185302734,
  "spatialReference": {
   "wkid": 4326,
   "latestWkid": 4326
  }
 },
 "fullExtent": {
  "xmin": -11.714285373687744,
  "ymin": 32.28571069157671,
  "xmax": 39.64285707473755,
  "ymax": 59.999996185302734,
  "spatialReference": {
   "wkid": 4326,
   "latestWkid": 4326
  }
 },
 "sortableFields": "",
 "bandCount": 1,
 "pixelType": "F32",
 "minValues": [
  0
 ],
 "maxValues": [
  0.8999999761581421
 ],
 "meanValues": [
  0.011192924322682114
 ],
 "stdvValues": [
  0.029762784986477914
 ],
 "serviceProperties": "Center<\/MosaicMethod>First<\/MosaicOperator>true<\/SortAscending><\/LockImageID><\/TileOrderField>0<\/TileOrderBase>0.000000<\/AvgImageSpacingX>0.000000<\/AvgImageSpacingY>0.0<\/ViewPointX>0.0<\/ViewPointY>0.0<\/ViewPointDefShiftX>0.0<\/ViewPointDefShiftY>None<\/CompressionMethod>75<\/CompressionQuality>0.010000<\/CompressionTolerance>Bilinear<\/SamplingMethod><\/ImageServiceProperties><\/ImageServer>",
 "allowedFields": "",
 "hasMultidimensions": true,
 "timeInfo": {
  "startTimeField": "StdTime",
  "endTimeField": "StdTime",
  "timeExtent": [
   1719707400000,
   1719790200000
  ],
  "timeReference": null,
  "defaultTimeInterval": 1,
  "defaultTimeIntervalUnits": "esriTimeUnitsHours"
 },
 "pixelSizeX": 0.03571428543005931,
 "pixelSizeY": 0.035714285430059306,
 "meanPixelSize": 3975.696068119831,
 "datasetFormat": "Cache/LERC2D",
 "uncompressedSize": 4463552,
 "blockWidth": 256,
 "blockHeight": 256,
 "compressionType": "LERC2D",
 "bandNames": [
  "Band_1"
 ],
 "allowCopy": true,
 "allowAnalysis": true,
 "itemAccess": false,
 "defaultVariable": "",
 "inspectionCapabilities": "",
 "noDataValue": -1,
 "noDataValues": [
  -1
 ],
 "minPixelSize": 0,
 "maxPixelSize": 0,
 "copyrightText": "",
 "serviceDataType": "esriImageServiceDataTypeScientific",
 "serviceSourceType": "esriImageServiceSourceTypeDataset",
 "objectIdField": "",
 "fields": [],
 "capabilities": "Mensuration,Image,Metadata",
 "defaultMosaicMethod": "Center",
 "allowedMosaicMethods": "",
 "sortField": "",
 "sortValue": null,
 "sortAscending": true,
 "mosaicOperator": "First",
 "defaultCompressionQuality": 75,
 "defaultResamplingMethod": "Bilinear",
 "maxImageHeight": 4100,
 "maxImageWidth": 15000,
 "allowRasterFunction": true,
 "rasterFunctionInfos": [
  {
   "name": "None",
   "description": "",
   "help": ""
  }
 ],
 "rasterTypeInfos": [
  {
   "name": "Raster Dataset",
   "description": "Supports all ArcGIS Raster Datasets",
   "help": ""
  }
 ],
 "mensurationCapabilities": "Basic",
 "hasHistograms": true,
 "hasColormap": false,
 "hasRasterAttributeTable": false,
 "minScale": 0,
 "maxScale": 0,
 "exportTilesAllowed": false,
 "supportsStatistics": false,
 "supportsAdvancedQueries": false,
 "editFieldsInfo": null,
 "ownershipBasedAccessControlForRasters": null,
 "allowComputeTiePoints": false,
 "useStandardizedQueries": true,
 "transposeInfo": {
  "cols": 128,
  "rows": 128
 },
 "advancedQueryCapabilities": {
  "useStandardizedQueries": true,
  "supportsStatistics": false,
  "supportsOrderBy": false,
  "supportsDistinct": false,
  "supportsPagination": false
 },
 "spatialReference": {
  "wkid": 4326,
  "latestWkid": 4326
 },
 "resampling": false
}
