{
 "currentVersion": 11.5,
 "serviceDescription": "Harmonized Landsat Sentinel-2 Surface Reflectance 30m - Multiband Mode",
 "serviceItemId": "090ad86b215e4552b61e734eed3755f1",
 "name": "nasa_lp_daac/HLSS30_v2_Service",
 "description": "",
 "extent": {
  "xmin": -179.99999999999997,
  "ymin": -51.539335732999916,
  "xmax": 180,
  "ymax": 89.99999104300008,
  "spatialReference": {
   "wkid": 4326,
   "latestWkid": 4326
  }
 },
 "initialExtent": {
  "xmin": -179.99999999999997,
  "ymin": -51.539335732999916,
  "xmax": 180,
  "ymax": 89.99999104300008,
  "spatialReference": {
   "wkid": 4326,
   "latestWkid": 4326
  }
 },
 "fullExtent": {
  "xmin": -179.99999999999997,
  "ymin": -51.539335732999916,
  "xmax": 180,
  "ymax": 89.99999104300008,
  "spatialReference": {
   "wkid": 4326,
   "latestWkid": 4326
  }
 },
 "sortableFields": "",
 "bandCount": 9,
 "pixelType": "S16",
 "minValues": [],
 "maxValues": [],
 "meanValues": [],
 "stdvValues": [],
 "serviceProperties": "ByAttribute<\/MosaicMethod>First<\/MosaicOperator>false<\/SortAscending><\/LockImageID>acquisitiondate<\/TileOrderField>2050/01/01<\/TileOrderBase>600.000000<\/AvgImageSpacingX>300.000000<\/AvgImageSpacingY>0.0<\/ViewPointX>0.0<\/ViewPointY>0.0<\/ViewPointDefShiftX>0.0<\/ViewPointDefShiftY>None<\/CompressionMethod>75<\/CompressionQuality>0.010000<\/CompressionTolerance>Bilinear<\/SamplingMethod><\/ImageServiceProperties><\/ImageServer>",
 "allowedFields": "name,minps,maxps,lowps,highps,tag,groupname,productname,centerx,centery,zorder,cloudcover,daynight,tileid,processinglevel,st_area(shape),st_perimeter(shape),AcquisitionDate",
 "hasMultidimensions": false,
 "timeInfo": {
  "startTimeField": "acquisitiondate",
  "endTimeField": null,
  "timeExtent": [
   1777594061000,
   1785021700000
  ],
  "timeReference": null
 },
 "pixelSizeX": 2.694939577208896E-4,
 "pixelSizeY": 2.69494E-4,
 "meanPixelSize": 29.99993249859795,
 "datasetFormat": "AMD",
 "uncompressedSize": 12628564843464,
 "blockWidth": 2048,
 "blockHeight": 256,
 "compressionType": "None",
 "bandNames": [
  "Band_1",
  "Band_2",
  "Band_3",
  "Band_4",
  "Band_5",
  "Band_6",
  "Band_7",
  "Band_8",
  "Band_9"
 ],
 "allowCopy": true,
 "allowAnalysis": true,
 "itemAccess": false,
 "inspectionCapabilities": "",
 "minPixelSize": 0,
 "maxPixelSize": 0,
 "copyrightText": "",
 "serviceDataType": "esriImageServiceDataTypeGeneric",
 "serviceSourceType": "esriImageServiceSourceTypeMosaicDataset",
 "objectIdField": "objectid",
 "fields": [
  {
   "name": "objectid",
   "type": "esriFieldTypeOID",
   "alias": "objectid",
   "domain": null
  },
  {
   "name": "name",
   "type": "esriFieldTypeString",
   "alias": "name",
   "domain": null,
   "length": 200
  },
  {
   "name": "minps",
   "type": "esriFieldTypeDouble",
   "alias": "minps",
   "domain": null
  },
  {
   "name": "maxps",
   "type": "esriFieldTypeDouble",
   "alias": "maxps",
   "domain": null
  },
  {
   "name": "lowps",
   "type": "esriFieldTypeDouble",
   "alias": "lowps",
   "domain": null
  },
  {
   "name": "highps",
   "type": "esriFieldTypeDouble",
   "alias": "highps",
   "domain": null
  },
  {
   "name": "category",
   "type": "esriFieldTypeInteger",
   "alias": "category",
   "domain": {
    "type": "codedValue",
    "name": "MosaicCatalogItemCategoryDomain",
    "description": "Catalog item categories.",
    "codedValues": [
     {
      "name": "Unknown",
      "code": 0
     },
     {
      "name": "Primary",
      "code": 1
     },
     {
      "name": "Overview",
      "code": 2
     },
     {
      "name": "Unprocessed Overview",
      "code": 3
     },
     {
      "name": "Partial Overview",
      "code": 4
     },
     {
      "name": "Inactive",
      "code": 5
     },
     {
      "name": "Uploaded",
      "code": 253
     },
     {
      "name": "Incomplete",
      "code": 254
     },
     {
      "name": "Custom",
      "code": 255
     }
    ],
    "mergePolicy": "esriMPTDefaultValue",
    "splitPolicy": "esriSPTDefaultValue"
   }
  },
  {
   "name": "tag",
   "type": "esriFieldTypeString",
   "alias": "tag",
   "domain": null,
   "length": 100
  },
  {
   "name": "groupname",
   "type": "esriFieldTypeString",
   "alias": "groupname",
   "domain": null,
   "length": 100
  },
  {
   "name": "productname",
   "type": "esriFieldTypeString",
   "alias": "productname",
   "domain": null,
   "length": 100
  },
  {
   "name": "centerx",
   "type": "esriFieldTypeDouble",
   "alias": "centerx",
   "domain": null
  },
  {
   "name": "centery",
   "type": "esriFieldTypeDouble",
   "alias": "centery",
   "domain": null
  },
  {
   "name": "zorder",
   "type": "esriFieldTypeInteger",
   "alias": "zorder",
   "domain": null
  },
  {
   "name": "shape",
   "type": "esriFieldTypeGeometry",
   "alias": "shape",
   "domain": null
  },
  {
   "name": "cloudcover",
   "type": "esriFieldTypeDouble",
   "alias": "Cloud cover percentage from CMR UMM-G metadata",
   "domain": null
  },
  {
   "name": "daynight",
   "type": "esriFieldTypeString",
   "alias": "Day or Night acquisition flag from CMR",
   "domain": null,
   "length": 10
  },
  {
   "name": "tileid",
   "type": "esriFieldTypeString",
   "alias": "MGRS tile identifier extracted from filename (e.g., T11SKA)",
   "domain": null,
   "length": 10
  },
  {
   "name": "processinglevel",
   "type": "esriFieldTypeString",
   "alias": "Processing level (static value S30 for Sentinel-2)",
   "domain": null,
   "length": 5
  },
  {
   "name": "acquisitiondate",
   "type": "esriFieldTypeDate",
   "alias": "Acquisition Date",
   "domain": null,
   "length": 8
  },
  {
   "name": "st_area(shape)",
   "type": "esriFieldTypeDouble",
   "alias": "st_area(shape)",
   "domain": null
  },
  {
   "name": "st_perimeter(shape)",
   "type": "esriFieldTypeDouble",
   "alias": "st_perimeter(shape)",
   "domain": null
  }
 ],
 "capabilities": "Image,Catalog,Mensuration",
 "defaultMosaicMethod": "ByAttribute",
 "allowedMosaicMethods": "ByAttribute,NorthWest,Center,LockRaster,Nadir,Viewpoint,Seamline,None",
 "sortField": "acquisitiondate",
 "sortValue": "2050/01/01",
 "sortAscending": false,
 "mosaicOperator": "First",
 "maxDownloadSizeLimit": 2048,
 "defaultCompressionQuality": 75,
 "defaultResamplingMethod": "Bilinear",
 "maxImageHeight": 4100,
 "maxImageWidth": 15000,
 "maxRecordCount": 1000,
 "maxDownloadImageCount": 20,
 "maxMosaicImageCount": 20,
 "allowRasterFunction": true,
 "rasterFunctionInfos": [
  {
   "name": "Natural Color",
   "description": "Natural Color bands red, green, blue(4, 3, 2) displayed with fixed stretch applied.",
   "help": ""
  },
  {
   "name": "NDVI Colormap with Cloud Mask",
   "description": "Normalized difference vegetation index (NDVI) with colormap and cloud mask. Dark green represents vigorous vegetation and brown represents sparse vegetation. It is computed as (b5 - b4) / (b5 + b4) and is suitable for vegetation, land cover and plant health monitoring.",
   "help": ""
  },
  {
   "name": "NDVI Colormap",
   "description": "Normalized difference vegetation index (NDVI) with colormap. Dark green represents vigorous vegetation and brown represents sparse vegetation. It is computed as (b5 - b4) / (b5 + b4) and is suitable for vegetation, land cover and plant health monitoring.",
   "help": ""
  },
  {
   "name": "NDVI Raw with Cloud Mask",
   "description": "Normalized difference vegetation index (NDVI) computed as (b5 - b4) / (b5 + b4) and is suitable for vegetation, land cover and plant health monitoring. Also includes a cloud mask.",
   "help": ""
  },
  {
   "name": "NDVI Raw",
   "description": "Normalized difference vegetation index (NDVI) computed as (b5 - b4) / (b5 + b4) and is suitable for vegetation, land cover and plant health monitoring.",
   "help": ""
  },
  {
   "name": "NDWI Raw with Cloud Mask",
   "description": "The NDWI index is computed as Green(Band03)-NIR(Band05)/ Green(Band03)+NIR(Band05) and is most suitable for mapping of water bodies, droughts, boundary evaluation. Water bodies have strong absorbability and low radiation within the visible to infrared spectral ranges and this index is based on this phenomenon. Also includes a cloud mask.",
   "help": ""
  },
  {
   "name": "NDWI Raw",
   "description": "The NDWI index is computed as Green(Band03)-NIR(Band05)/ Green(Band03)+NIR(Band05) and is most suitable for mapping of water bodies, droughts, boundary evaluation. Water bodies have strong absorbability and low radiation within the visible to infrared spectral ranges and this index is based on this phenomenon.",
   "help": ""
  },
  {
   "name": "Natural Color with Cloud Mask",
   "description": "Natural Color bands red, green, blue(4, 3, 2) displayed with fixed stretch and cloud mask applied.",
   "help": ""
  },
  {
   "name": "Natural Color with DRA and Cloud Mask",
   "description": "Natural Color bands red, green, blue (4, 3, 2) displayed with dynamic range adjustment and cloud mask applied.",
   "help": ""
  },
  {
   "name": "Natural Color with DRA",
   "description": "Natural Color bands red, green, blue (4, 3, 2) displayed with dynamic range adjustment applied.",
   "help": ""
  },
  {
   "name": "Normalized Burn Ratio (NBR) with Cloud Mask",
   "description": "The NBR index is computed as NIR(Band05)-SWIR(Band7)/NIR(Band05)+SWIR(Band7) and appropriate for highlighting burned areas and estimating fire severity. It highlights burnt areas in fire zones greater than 500 acres. You will need to generate a differenced NBR image by subtracting a post-fire image from a pre-fire image. The resulting darker pixels represent burned areas. This index also contains a cloud mask.",
   "help": ""
  },
  {
   "name": "Normalized Burn Ratio",
   "description": "The NBR index is computed as NIR(Band05)-SWIR(Band7)/NIR(Band05)+SWIR(Band7) and appropriate for highlighting burned areas and estimating fire severity. It highlights burnt areas in fire zones greater than 500 acres. You will need to generate a differenced NBR image by subtracting a post-fire image from a pre-fire image. The resulting darker pixels represent burned areas.",
   "help": ""
  },
  {
   "name": "Normalized Difference Built-Up Index (NDBI) with Cloud Mask",
   "description": "The NDBI index is computed as SWIR(Band6)-NIR(Band05)/ SWIR(Band6)+NIR(Band05) and is suitable for watershed runoff predictions, tracking urbananisation and land-use planning. It highlights urban areas with higher reflectance in the SWIR region, compared to the NIR region. This index also contains a cloud mask.",
   "help": ""
  },
  {
   "name": "Normalized Difference Built-Up Index (NDBI)",
   "description": "The NDBI index is computed as SWIR(Band6)-NIR(Band05)/ SWIR(Band6)+NIR(Band05) and is suitable for watershed runoff predictions, tracking urbananisation and land-use planning. It highlights urban areas with higher reflectance in the SWIR region, compared to the NIR region.",
   "help": ""
  },
  {
   "name": "None",
   "description": "Make a Raster or Raster Dataset into a Function Raster Dataset.",
   "help": ""
  }
 ],
 "rasterTypeInfos": [
  {
   "name": "Raster Dataset",
   "description": "Supports all ArcGIS Raster Datasets",
   "help": ""
  }
 ],
 "mensurationCapabilities": "None",
 "hasHistograms": false,
 "hasColormap": false,
 "hasRasterAttributeTable": false,
 "minScale": 0,
 "maxScale": 0,
 "exportTilesAllowed": false,
 "supportsStatistics": true,
 "supportsAdvancedQueries": true,
 "editFieldsInfo": null,
 "ownershipBasedAccessControlForRasters": null,
 "allowComputeTiePoints": false,
 "useStandardizedQueries": true,
 "advancedQueryCapabilities": {
  "useStandardizedQueries": true,
  "supportsStatistics": true,
  "supportsOrderBy": true,
  "supportsDistinct": true,
  "supportsPagination": true
 },
 "spatialReference": {
  "wkid": 4326,
  "latestWkid": 4326
 }
}
