{
 "currentVersion": 11.4,
 "serviceDescription": "test/TEMPO_NO2_L3_V03_T_A",
 "name": "test/TEMPO_NO2_L3_V03_T_A",
 "description": "",
 "extent": {
  "xmin": -168.00000549350375,
  "ymin": 14.00000081336853,
  "xmax": -13.00001324350373,
  "ymax": 72.99999786336853,
  "spatialReference": {
   "wkid": 4326,
   "latestWkid": 4326
  }
 },
 "initialExtent": {
  "xmin": -168.00000549350375,
  "ymin": 14.00000081336853,
  "xmax": -13.00001324350373,
  "ymax": 72.99999786336853,
  "spatialReference": {
   "wkid": 4326,
   "latestWkid": 4326
  }
 },
 "fullExtent": {
  "xmin": -168.00000549350375,
  "ymin": 14.00000081336853,
  "xmax": -13.00001324350373,
  "ymax": 72.99999786336853,
  "spatialReference": {
   "wkid": 4326,
   "latestWkid": 4326
  }
 },
 "sortableFields": "",
 "bandCount": 1,
 "pixelType": "F32",
 "minValues": [
  -5.312927794500133E20
 ],
 "maxValues": [
  8.723631687500353E19
 ],
 "meanValues": [
  8.608818223624115E14
 ],
 "stdvValues": [
  5193251267296406
 ],
 "hasMultidimensions": true,
 "timeInfo": {
  "startTimeField": "StdTime",
  "endTimeField": "StdTime",
  "timeExtent": [
   1690989169000,
   1751759448000
  ],
  "timeReference": null,
  "defaultTimeInterval": 5.25,
  "defaultTimeIntervalUnits": "esriTimeUnitsMinutes"
 },
 "pixelSizeX": 0.019999999,
 "pixelSizeY": 0.019999999,
 "meanPixelSize": 2226.3897045459807,
 "datasetFormat": "Cache/LERC2D",
 "uncompressedSize": 91450000,
 "blockWidth": 256,
 "blockHeight": 256,
 "compressionType": "LERC2D",
 "bandNames": [
  "Band_1"
 ],
 "allowCopy": true,
 "allowAnalysis": true,
 "itemAccess": false,
 "defaultVariable": "",
 "inspectionCapabilities": "",
 "noDataValue": -3.4028230607370965E38,
 "noDataValues": [
  -3.4028230607370965E38
 ],
 "minPixelSize": 0,
 "maxPixelSize": 0,
 "copyrightText": "",
 "serviceDataType": "esriImageServiceDataTypeScientific",
 "serviceSourceType": "esriImageServiceSourceTypeDataset",
 "objectIdField": "",
 "fields": [],
 "capabilities": "Image,Metadata,Mensuration",
 "defaultMosaicMethod": "Center",
 "allowedMosaicMethods": "",
 "sortField": "",
 "sortValue": null,
 "sortAscending": true,
 "mosaicOperator": "First",
 "defaultCompressionQuality": 75,
 "defaultResamplingMethod": "Bilinear",
 "maxImageHeight": 4100,
 "maxImageWidth": 15000,
 "allowRasterFunction": true,
 "rasterFunctionInfos": [
  {
   "name": "None",
   "description": "Make a Raster or Raster Dataset into a Function Raster Dataset.",
   "help": ""
  },
  {
   "name": "NO2_Troposphere",
   "description": "vertical_column_troposphere, sza (80), quality flag (0 & 1), cloud (.5), max 3e16",
   "help": ""
  },
  {
   "name": "eff_cloud_fraction",
   "description": "A raster function template.",
   "help": ""
  },
  {
   "name": "main_data_quality_flag",
   "description": "A raster function template.",
   "help": ""
  },
  {
   "name": "solar_zenith_angle",
   "description": "A raster function template.",
   "help": ""
  },
  {
   "name": "vertical_column_stratosphere",
   "description": "A raster function template.",
   "help": ""
  },
  {
   "name": "vertical_column_troposphere",
   "description": "A raster function template.",
   "help": ""
  }
 ],
 "rasterTypeInfos": [
  {
   "name": "Raster Dataset",
   "description": "Supports all ArcGIS Raster Datasets",
   "help": ""
  }
 ],
 "mensurationCapabilities": "Basic",
 "hasHistograms": true,
 "hasColormap": false,
 "hasRasterAttributeTable": false,
 "minScale": 0,
 "maxScale": 0,
 "exportTilesAllowed": false,
 "supportsStatistics": false,
 "supportsAdvancedQueries": false,
 "editFieldsInfo": null,
 "ownershipBasedAccessControlForRasters": null,
 "allowComputeTiePoints": false,
 "useStandardizedQueries": true,
 "transposeInfo": {
  "cols": 16,
  "rows": 16
 },
 "advancedQueryCapabilities": {
  "useStandardizedQueries": true,
  "supportsStatistics": false,
  "supportsOrderBy": false,
  "supportsDistinct": false,
  "supportsPagination": false
 },
 "spatialReference": {
  "wkid": 4326,
  "latestWkid": 4326
 }
}
