{
 "extent": {
  "ymin": -7746222.065200001,
  "xmin": -20037507.067200001,
  "ymax": 17688947.934799999,
  "xmax": 20037507.842788246,
  "spatialReference": {
   "latestWkid": 3857,
   "wkid": 102100
  }
 },
 "blockWidth": 2048,
 "mosaicOperator": "First",
 "serviceSourceType": "esriImageServiceSourceTypeMosaicDataset",
 "hasMultidimensions": false,
 "maxImageWidth": 15000,
 "maxRecordCount": 1000,
 "meanValues": [
  1000,
  1000,
  1000,
  1000,
  1000,
  1000,
  1000,
  1000,
  128,
  3000,
  3000
 ],
 "hasColormap": false,
 "compressionType": "None",
 "defaultCompressionQuality": 75,
 "maxValues": [
  3000,
  3000,
  3000,
  3000,
  3000,
  3000,
  3000,
  3000,
  255,
  3400,
  3400
 ],
 "hasHistograms": false,
 "datasetFormat": "AMD",
 "maxImageHeight": 4100,
 "sortField": "best",
 "bandNames": [
  "Coastal Aerosol",
  "Blue",
  "Green",
  "Red",
  "NIR Narrow",
  "SWIR 1",
  "SWIR 2",
  "Cirrus",
  "Fmask",
  "Thermal 1",
  "Thermal 2"
 ],
 "spatialReference": {
  "latestWkid": 3857,
  "wkid": 102100
 },
 "fullExtent": {
  "ymin": -7746222.065200001,
  "xmin": -20037507.067200001,
  "ymax": 17688947.934799999,
  "xmax": 20037507.842788246,
  "spatialReference": {
   "latestWkid": 3857,
   "wkid": 102100
  }
 },
 "bandCount": 11,
 "rasterFunctionInfos": [
  {
   "help": "",
   "name": "Natural Color",
   "description": "Natural Color bands red, green, blue(4, 3, 2) displayed with fixed stretch applied."
  },
  {
   "help": "",
   "name": "Bathymetric with Cloud Mask",
   "description": "Bands red, green, coastal/aerosol(4, 3, 1) with fixed stretched and cloud mask applied. Useful in bathymetric mapping applications."
  },
  {
   "help": "",
   "name": "Bathymetric with DRA and Cloud Mask",
   "description": "Bands red, green, coastal/aerosol(4, 3, 1) with dynamic range adjustment and cloud mask applied. Useful in bathymetric mapping applications."
  },
  {
   "help": "",
   "name": "Bathymetric with DRA",
   "description": "Bands red, green, coastal/aerosol(4, 3, 1) with dynamic range adjustment applied. Useful in bathymetric mapping applicaitons."
  },
  {
   "help": "",
   "name": "Bathymetric",
   "description": "Bands red, green, coastal/aerosol(4, 3, 1) with fixed stretched applied. Useful in bathymetric mapping applicaitons."
  },
  {
   "help": "",
   "name": "Color Infrared with Cloud Mask",
   "description": "Bands near-infrared, red, green (5,4,3) with fixed stretch and cloud mask applied. Healthy vegetation is bright red while stressed vegetation is dull red."
  },
  {
   "help": "",
   "name": "Color Infrared with DRA and Cloud Mask",
   "description": "Bands near-infrared, red, green (5,4,3) with dynamic range adjustment and cloud mask applied. Healthy vegetation is bright red while stressed vegetation is dull red."
  },
  {
   "help": "",
   "name": "Color Infrared with DRA",
   "description": "Bands near-infrared, red, green (5,4,3) with dynamic range adjustment applied. Healthy vegetation is bright red while stressed vegetation is dull red."
  },
  {
   "help": "",
   "name": "Color Infrared",
   "description": "Bands near-infrared, red, green (5,4,3) with fixed stretch applied. Healthy vegetation is bright red while stressed vegetation is dull red."
  },
  {
   "help": "",
   "name": "Geology with Cloud Mask",
   "description": "Bands shortwave IR-2, shortwave IR-1, blue (7, 6, 2) with fixed stretched and cloud mask applied. Highlights geological features."
  },
  {
   "help": "",
   "name": "Geology with DRA and Cloud Mask",
   "description": "Bands shortwave IR-2, shortwave IR-1, blue (7, 6, 2) with dynamic range adjustment and cloud mask applied. Highlights geological features."
  },
  {
   "help": "",
   "name": "Geology with DRA",
   "description": "Bands shortwave IR-2, shortwave IR-1, blue (7, 6, 2) with dynamic range adjustment applied. Highlights geological features."
  },
  {
   "help": "",
   "name": "Geology",
   "description": "Bands shortwave IR-2, shortwave IR-1, blue (7, 6, 2) with fixed stretched applied. Highlights geological features."
  },
  {
   "help": "",
   "name": "NDVI Colormap with Cloud Mask",
   "description": "Normalized difference vegetation index (NDVI) with colormap and cloud mask. Dark green represents vigorous vegetation and brown represents sparse vegetation. It is computed as (b5 - b4) / (b5 + b4) and is suitable for vegetation, land cover and plant health monitoring."
  },
  {
   "help": "",
   "name": "NDVI Colormap",
   "description": "Normalized difference vegetation index (NDVI) with colormap. Dark green represents vigorous vegetation and brown represents sparse vegetation. It is computed as (b5 - b4) / (b5 + b4) and is suitable for vegetation, land cover and plant health monitoring."
  },
  {
   "help": "",
   "name": "NDVI Raw with Cloud Mask",
   "description": "Normalized difference vegetation index (NDVI) computed as (b5 - b4) / (b5 + b4) and is suitable for vegetation, land cover and plant health monitoring. Also includes a cloud mask."
  },
  {
   "help": "",
   "name": "NDVI Raw",
   "description": "Normalized difference vegetation index (NDVI) computed as (b5 - b4) / (b5 + b4) and is suitable for vegetation, land cover and plant health monitoring."
  },
  {
   "help": "",
   "name": "NDWI Raw with Cloud Mask",
   "description": "The NDWI index is computed as Green(Band03)-NIR(Band05)/ Green(Band03)+NIR(Band05) and is most suitable for mapping of water bodies, droughts, boundary evaluation. Water bodies have strong absorbability and low radiation within the visible to infrared spectral ranges and this index is based on this phenomenon. Also includes a cloud mask."
  },
  {
   "help": "",
   "name": "NDWI Raw",
   "description": "The NDWI index is computed as Green(Band03)-NIR(Band05)/ Green(Band03)+NIR(Band05) and is most suitable for mapping of water bodies, droughts, boundary evaluation. Water bodies have strong absorbability and low radiation within the visible to infrared spectral ranges and this index is based on this phenomenon."
  },
  {
   "help": "",
   "name": "Natural Color with Cloud Mask",
   "description": "Natural Color bands red, green, blue(4, 3, 2) displayed with fixed stretch and cloud mask applied."
  },
  {
   "help": "",
   "name": "Natural Color with DRA and Cloud Mask",
   "description": "Natural Color bands red, green, blue (4, 3, 2) displayed with dynamic range adjustment and cloud mask applied."
  },
  {
   "help": "",
   "name": "Natural Color with DRA",
   "description": "Natural Color bands red, green, blue (4, 3, 2) displayed with dynamic range adjustment applied."
  },
  {
   "help": "",
   "name": "Normalized Burn Ratio (NBR) with Cloud Mask",
   "description": "The NBR index is computed as NIR(Band05)-SWIR(Band7)/NIR(Band05)+SWIR(Band7) and appropriate for highlighting burned areas and estimating fire severity. It highlights burnt areas in fire zones greater than 500 acres. You will need to generate a differenced NBR image by subtracting a post-fire image from a pre-fire image. The resulting darker pixels represent burned areas. This index also contains a cloud mask."
  },
  {
   "help": "",
   "name": "Normalized Burn Ratio",
   "description": "The NBR index is computed as NIR(Band05)-SWIR(Band7)/NIR(Band05)+SWIR(Band7) and appropriate for highlighting burned areas and estimating fire severity. It highlights burnt areas in fire zones greater than 500 acres. You will need to generate a differenced NBR image by subtracting a post-fire image from a pre-fire image. The resulting darker pixels represent burned areas."
  },
  {
   "help": "",
   "name": "Normalized Difference Built-Up Index (NDBI) with Cloud Mask",
   "description": "The NDBI index is computed as SWIR(Band6)-NIR(Band05)/ SWIR(Band6)+NIR(Band05) and is suitable for watershed runoff predictions, tracking urbananisation and land-use planning. It highlights urban areas with higher reflectance in the SWIR region, compared to the NIR region. This index also contains a cloud mask."
  },
  {
   "help": "",
   "name": "Normalized Difference Built-Up Index (NDBI)",
   "description": "The NDBI index is computed as SWIR(Band6)-NIR(Band05)/ SWIR(Band6)+NIR(Band05) and is suitable for watershed runoff predictions, tracking urbananisation and land-use planning. It highlights urban areas with higher reflectance in the SWIR region, compared to the NIR region."
  },
  {
   "help": "",
   "name": "Short-wave Infrared with Cloud Mask",
   "description": "Bands shortwave infrared-2, shortwave infrared-1, red (7, 6, 4) with fixed stretch and cloud mask applied."
  },
  {
   "help": "",
   "name": "Short-wave Infrared with DRA and Cloud Mask",
   "description": "Bands shortwave infrared-2, shortwave infrared-1, red (7, 6, 4) with dynamic range adjustment and cloud mask applied."
  },
  {
   "help": "",
   "name": "Short-wave Infrared with DRA",
   "description": "Bands shortwave infrared-2, shortwave infrared-1, red (7, 6, 4) with dynamic range adjustment applied."
  },
  {
   "help": "",
   "name": "Short-wave Infrared",
   "description": "Bands shortwave infrared-2, shortwave infrared-1, red (7, 6, 4) with fixed stretch."
  },
  {
   "help": "",
   "name": "None",
   "description": "Make a Raster or Raster Dataset into a Function Raster Dataset."
  }
 ],
 "supportsStatistics": true,
 "sortableFields": "",
 "minValues": [
  0,
  0,
  0,
  0,
  0,
  0,
  0,
  0,
  0,
  2500,
  2500
 ],
 "allowRasterFunction": true,
 "allowComputeTiePoints": false,
 "serviceDataType": "esriImageServiceDataTypeGeneric",
 "supportsAdvancedQueries": true,
 "maxDownloadSizeLimit": 2048,
 "currentVersion": 12,
 "sortValue": "0",
 "timeInfo": {
  "startTimeField": "AcquisitionDate",
  "endTimeField": "AcquisitionDate",
  "defaultTimeIntervalUnits": "esriTimeUnitsDays",
  "timeExtent": [
   1365639285000,
   1792971290000
  ],
  "timeReference": null,
  "defaultTimeInterval": 8
 },
 "objectIdField": "objectid",
 "blockHeight": 256,
 "initialExtent": {
  "ymin": -7746222.065200001,
  "xmin": -20037507.067200001,
  "ymax": 17688947.934799999,
  "xmax": 20037507.842788246,
  "spatialReference": {
   "latestWkid": 3857,
   "wkid": 102100
  }
 },
 "pixelSizeX": 29.999996189637521,
 "pixelSizeY": 30,
 "defaultMosaicMethod": "ByAttribute",
 "name": "C2021957657-LPCLOUD/HLSL30_V02",
 "allowedMosaicMethods": "ByAttribute,NorthWest,Center,LockRaster,Nadir,Viewpoint,Seamline,None",
 "maxDownloadImageCount": 20,
 "fields": [
  {
   "domain": null,
   "name": "objectid",
   "alias": "objectid",
   "type": "esriFieldTypeOID"
  },
  {
   "domain": null,
   "name": "name",
   "length": 200,
   "alias": "name",
   "type": "esriFieldTypeString"
  },
  {
   "domain": null,
   "name": "minps",
   "alias": "minps",
   "type": "esriFieldTypeDouble"
  },
  {
   "domain": null,
   "name": "maxps",
   "alias": "maxps",
   "type": "esriFieldTypeDouble"
  },
  {
   "domain": null,
   "name": "lowps",
   "alias": "lowps",
   "type": "esriFieldTypeDouble"
  },
  {
   "domain": null,
   "name": "highps",
   "alias": "highps",
   "type": "esriFieldTypeDouble"
  },
  {
   "domain": {
    "splitPolicy": "esriSPTDefaultValue",
    "name": "MosaicCatalogItemCategoryDomain",
    "description": "Catalog item categories.",
    "type": "codedValue",
    "codedValues": [
     {
      "code": 0,
      "name": "Unknown"
     },
     {
      "code": 1,
      "name": "Primary"
     },
     {
      "code": 2,
      "name": "Overview"
     },
     {
      "code": 3,
      "name": "Unprocessed Overview"
     },
     {
      "code": 4,
      "name": "Partial Overview"
     },
     {
      "code": 5,
      "name": "Inactive"
     },
     {
      "code": 253,
      "name": "Uploaded"
     },
     {
      "code": 254,
      "name": "Incomplete"
     },
     {
      "code": 255,
      "name": "Custom"
     }
    ],
    "mergePolicy": "esriMPTDefaultValue"
   },
   "name": "category",
   "alias": "category",
   "type": "esriFieldTypeInteger"
  },
  {
   "domain": null,
   "name": "tag",
   "length": 100,
   "alias": "tag",
   "type": "esriFieldTypeString"
  },
  {
   "domain": null,
   "name": "groupname",
   "length": 100,
   "alias": "groupname",
   "type": "esriFieldTypeString"
  },
  {
   "domain": null,
   "name": "productname",
   "length": 100,
   "alias": "productname",
   "type": "esriFieldTypeString"
  },
  {
   "domain": null,
   "name": "centerx",
   "alias": "centerx",
   "type": "esriFieldTypeDouble"
  },
  {
   "domain": null,
   "name": "centery",
   "alias": "centery",
   "type": "esriFieldTypeDouble"
  },
  {
   "domain": null,
   "name": "zorder",
   "alias": "zorder",
   "type": "esriFieldTypeInteger"
  },
  {
   "domain": null,
   "name": "shape",
   "alias": "shape",
   "type": "esriFieldTypeGeometry"
  },
  {
   "domain": null,
   "name": "tileid",
   "length": 16,
   "alias": "tileid",
   "type": "esriFieldTypeString"
  },
  {
   "domain": null,
   "name": "cloudcover",
   "alias": "cloudcover",
   "type": "esriFieldTypeDouble"
  },
  {
   "domain": null,
   "name": "best",
   "alias": "best",
   "type": "esriFieldTypeInteger"
  },
  {
   "domain": null,
   "name": "dayofyear",
   "alias": "dayofyear",
   "type": "esriFieldTypeSmallInteger"
  },
  {
   "domain": null,
   "name": "month",
   "alias": "month",
   "type": "esriFieldTypeSmallInteger"
  },
  {
   "domain": null,
   "name": "acquisitiondate",
   "length": 8,
   "alias": "acquisitiondate",
   "type": "esriFieldTypeDate"
  },
  {
   "domain": null,
   "name": "conceptid",
   "length": 40,
   "alias": "conceptid",
   "type": "esriFieldTypeString"
  },
  {
   "domain": null,
   "name": "revisionid",
   "alias": "revisionid",
   "type": "esriFieldTypeInteger"
  },
  {
   "domain": null,
   "name": "spatialcoverage",
   "alias": "spatialcoverage",
   "type": "esriFieldTypeSmallInteger"
  },
  {
   "domain": null,
   "name": "sunzenith",
   "alias": "sunzenith",
   "type": "esriFieldTypeDouble"
  },
  {
   "domain": null,
   "name": "sunazimuth",
   "alias": "sunazimuth",
   "type": "esriFieldTypeDouble"
  },
  {
   "domain": null,
   "name": "viewzenith",
   "alias": "viewzenith",
   "type": "esriFieldTypeDouble"
  },
  {
   "domain": null,
   "name": "viewazimuth",
   "alias": "viewazimuth",
   "type": "esriFieldTypeDouble"
  },
  {
   "domain": null,
   "name": "st_area(shape)",
   "alias": "st_area(shape)",
   "type": "esriFieldTypeDouble"
  },
  {
   "domain": null,
   "name": "st_perimeter(shape)",
   "alias": "st_perimeter(shape)",
   "type": "esriFieldTypeDouble"
  }
 ],
 "allowAnalysis": true,
 "hasRasterAttributeTable": false,
 "useStandardizedQueries": true,
 "description": "HLS provides consistent surface reflectance and brightness data from Landsat OLI and Sentinel-2 MSI, enabling 30 m global land observations every 1.6 days. Algorithms harmonize OLI and MSI through atmospheric correction, cloud masking, co-registration, gridding, and bandpass adjustment. Learn More: https://doi.org/10.5067/HLS/HLSL30.002",
 "pixelType": "S16",
 "meanPixelSize": 29.999998094818761,
 "exportTilesAllowed": false,
 "editFieldsInfo": null,
 "rasterTypeInfos": [
  {
   "help": "",
   "name": "Raster Dataset",
   "description": "Supports all ArcGIS Raster Datasets"
  }
 ],
 "defaultResamplingMethod": "Bilinear",
 "itemAccess": false,
 "minScale": 0,
 "serviceProperties": "ByAttribute<\/MosaicMethod>First<\/MosaicOperator>true<\/SortAscending><\/LockImageID>best<\/TileOrderField>0<\/TileOrderBase>600.000000<\/AvgImageSpacingX>300.000000<\/AvgImageSpacingY>0.0<\/ViewPointX>0.0<\/ViewPointY>0.0<\/ViewPointDefShiftX>0.0<\/ViewPointDefShiftY>None<\/CompressionMethod>75<\/CompressionQuality>0.010000<\/CompressionTolerance>Bilinear<\/SamplingMethod><\/ImageServiceProperties><\/ImageServer>",
 "advancedQueryCapabilities": {
  "supportsStatistics": true,
  "supportsSqlExpression": true,
  "supportsOrderBy": true,
  "useStandardizedQueries": true,
  "supportsPagination": true,
  "supportsDistinct": true
 },
 "serviceItemId": "9a1b5125932f4f1c8ee6afd966205f89",
 "capabilities": "Image,Metadata,Catalog",
 "maxScale": 0,
 "stdvValues": [
  800,
  800,
  800,
  800,
  800,
  800,
  800,
  800,
  64,
  200,
  200
 ],
 "allowedFields": "name,minps,maxps,lowps,highps,tag,groupname,productname,centerx,centery,zorder,tileid,cloudcover,best,dayofyear,month,acquisitiondate,conceptid,revisionid,spatialcoverage,sunzenith,sunazimuth,viewzenith,viewazimuth,st_area(shape),st_perimeter(shape)",
 "minPixelSize": 0,
 "sortAscending": true,
 "maxMosaicImageCount": 20,
 "inspectionCapabilities": "",
 "maxPixelSize": 0,
 "uncompressedSize": 24916587579972,
 "serviceDescription": "HLS provides consistent surface reflectance and brightness data from Landsat OLI and Sentinel-2 MSI, enabling 30 m global land observations every 1.6 days. Algorithms harmonize OLI and MSI through atmospheric correction, cloud masking, co-registration, gridding, and bandpass adjustment. Learn More: https://doi.org/10.5067/HLS/HLSL30.002",
 "allowCopy": true,
 "copyrightText": "The HLS project is funded by NASA\u2019s Satellite Needs Working Group (SNWG) which provides data products developed to meet the needs of stakeholders from US government agencies in cooperation with the Interagency Implementation and Advanced Concepts Team, NASA (NASA/IMPACT)",
 "mensurationCapabilities": "",
 "ownershipBasedAccessControlForRasters": null
}
