{
 "extent": {
  "ymin": -10907662.3803,
  "xmin": -20037507.067200001,
  "ymax": 18544657.6197,
  "xmax": 20037507.842788246,
  "spatialReference": {
   "latestWkid": 3857,
   "wkid": 102100
  }
 },
 "blockWidth": 2048,
 "mosaicOperator": "First",
 "serviceSourceType": "esriImageServiceSourceTypeMosaicDataset",
 "hasMultidimensions": false,
 "maxImageWidth": 2048,
 "maxRecordCount": 1000,
 "meanValues": [],
 "hasColormap": false,
 "compressionType": "None",
 "defaultCompressionQuality": 75,
 "maxValues": [],
 "hasHistograms": false,
 "datasetFormat": "AMD",
 "maxImageHeight": 2048,
 "sortField": "DateTime",
 "bandNames": [
  "Band_1"
 ],
 "spatialReference": {
  "latestWkid": 3857,
  "wkid": 102100
 },
 "fullExtent": {
  "ymin": -10907662.3803,
  "xmin": -20037507.067200001,
  "ymax": 18544657.6197,
  "xmax": 20037507.842788246,
  "spatialReference": {
   "latestWkid": 3857,
   "wkid": 102100
  }
 },
 "bandCount": 1,
 "rasterFunctionInfos": [
  {
   "help": "",
   "name": "OPERA_L3_DSWX-HLS_V1_B03_CONF",
   "description": "OPERA_L3_DSWX-HLS_V1_B03_CONF water confidence classification."
  },
  {
   "help": "",
   "name": "None",
   "description": "Make a Raster or Raster Dataset into a Function Raster Dataset."
  }
 ],
 "supportsStatistics": true,
 "sortableFields": "",
 "minValues": [],
 "allowRasterFunction": true,
 "allowComputeTiePoints": false,
 "serviceDataType": "esriImageServiceDataTypeGeneric",
 "supportsAdvancedQueries": true,
 "maxDownloadSizeLimit": 2048,
 "currentVersion": 12,
 "sortValue": "1/1/2050 12:00:00 AM",
 "timeInfo": {
  "startTimeField": "DateTime",
  "endTimeField": null,
  "timeExtent": [
   1672532999000,
   1792972619000
  ],
  "timeReference": null
 },
 "objectIdField": "objectid",
 "blockHeight": 256,
 "initialExtent": {
  "ymin": -10907662.3803,
  "xmin": -20037507.067200001,
  "ymax": 18544657.6197,
  "xmax": 20037507.842788246,
  "spatialReference": {
   "latestWkid": 3857,
   "wkid": 102100
  }
 },
 "pixelSizeX": 29.999996189637521,
 "pixelSizeY": 30,
 "defaultMosaicMethod": "ByAttribute",
 "name": "C2617126679-POCLOUD/OPERA_L3_DSWX-HLS_V1_B03_CONF",
 "allowedMosaicMethods": "ByAttribute,Center,NorthWest,Nadir,LockRaster,Seamline,None",
 "maxDownloadImageCount": 20,
 "fields": [
  {
   "domain": null,
   "name": "objectid",
   "alias": "objectid",
   "type": "esriFieldTypeOID"
  },
  {
   "domain": null,
   "name": "name",
   "length": 200,
   "alias": "name",
   "type": "esriFieldTypeString"
  },
  {
   "domain": null,
   "name": "minps",
   "alias": "minps",
   "type": "esriFieldTypeDouble"
  },
  {
   "domain": null,
   "name": "maxps",
   "alias": "maxps",
   "type": "esriFieldTypeDouble"
  },
  {
   "domain": null,
   "name": "lowps",
   "alias": "lowps",
   "type": "esriFieldTypeDouble"
  },
  {
   "domain": null,
   "name": "highps",
   "alias": "highps",
   "type": "esriFieldTypeDouble"
  },
  {
   "domain": {
    "splitPolicy": "esriSPTDefaultValue",
    "name": "MosaicCatalogItemCategoryDomain",
    "description": "Catalog item categories.",
    "type": "codedValue",
    "codedValues": [
     {
      "code": 0,
      "name": "Unknown"
     },
     {
      "code": 1,
      "name": "Primary"
     },
     {
      "code": 2,
      "name": "Overview"
     },
     {
      "code": 3,
      "name": "Unprocessed Overview"
     },
     {
      "code": 4,
      "name": "Partial Overview"
     },
     {
      "code": 5,
      "name": "Inactive"
     },
     {
      "code": 253,
      "name": "Uploaded"
     },
     {
      "code": 254,
      "name": "Incomplete"
     },
     {
      "code": 255,
      "name": "Custom"
     }
    ],
    "mergePolicy": "esriMPTDefaultValue"
   },
   "name": "category",
   "alias": "category",
   "type": "esriFieldTypeInteger"
  },
  {
   "domain": null,
   "name": "centerx",
   "alias": "centerx",
   "type": "esriFieldTypeDouble"
  },
  {
   "domain": null,
   "name": "centery",
   "alias": "centery",
   "type": "esriFieldTypeDouble"
  },
  {
   "domain": null,
   "name": "shape",
   "alias": "shape",
   "type": "esriFieldTypeGeometry"
  },
  {
   "domain": null,
   "name": "processingdate",
   "length": 255,
   "alias": "ProcessingDate",
   "type": "esriFieldTypeString"
  },
  {
   "domain": null,
   "name": "tileid",
   "length": 8000,
   "alias": "TileID",
   "type": "esriFieldTypeString"
  },
  {
   "domain": null,
   "name": "datetime",
   "length": 8,
   "alias": "DateTime",
   "type": "esriFieldTypeDate"
  },
  {
   "domain": null,
   "name": "productgenerationdatetime",
   "length": 8000,
   "alias": "ProductGenerationDateTime",
   "type": "esriFieldTypeString"
  },
  {
   "domain": null,
   "name": "cloud_coverage",
   "alias": "CLOUD_COVERAGE",
   "type": "esriFieldTypeInteger"
  },
  {
   "domain": null,
   "name": "spacecraft_name",
   "length": 8000,
   "alias": "SPACECRAFT_NAME",
   "type": "esriFieldTypeString"
  },
  {
   "domain": null,
   "name": "downloadurl",
   "length": 8000,
   "alias": "DownloadURL",
   "type": "esriFieldTypeString"
  },
  {
   "domain": null,
   "name": "urldisplay",
   "length": 8000,
   "alias": "URLDisplay",
   "type": "esriFieldTypeString"
  }
 ],
 "allowAnalysis": true,
 "hasRasterAttributeTable": false,
 "useStandardizedQueries": true,
 "description": "A representation of the confidence associated with the WTR classification that is based on a combination of Diagnostic Layer (DIAG) results and quality assurance information provided with the input HLS data. For example, the Open water class of the WTR layer is split into two classes: High Confidence and Moderate Confidence while WTR Partial surface water Class pixels of WTR are flagged as either Partial surface water Conservative or Partial surface water Aggressive, with the latter exhibiting less certainty. As in the WTR layers, pixels for which water retrievals are difficult or impossible due to HLS snow/ice, HLS cloud/shadow, or fill values are also noted in the CONF layer.\n\nThis dataset contains Level-3 Dynamic OPERA surface water extent product version 1. The data are validated surface water extent observations beginning April 2023. Known issues and caveats on usage are described in the Product Documentation. The input dataset for generating each product is the Harmonized Landsat-8 and Sentinel-2A/B/C (HLS) product version 2.0. HLS products provide surface reflectance (SR) data from the Operational Land Imager (OLI) aboard the Landsat 8 satellite and the MultiSpectral Instrument (MSI) aboard the Sentinel-2A/B/C satellite. The surface water extent products are distributed over projected map coordinates using the Universal Transverse Mercator (UTM) projection. Each UTM tile covers an area of 109.8 km × 109.8 km. This area is divided into 3,660 rows and 3,660 columns at 30-m pixel spacing. This EGIS service offers access to the confidence data layer.\n\nMore information about the dataset is available at https://www.earthdata.nasa.gov/data/catalog/pocloud-opera-l3-dswx-hls-v1-1.0\n\nOPERA was informed by the Satellite Needs Working Group (SNWG), an interagency effort of the U.S. Government dedicated to identifying and addressing Earth observation needs across U.S. civilian federal agencies.\n\nFor questions about this service, please contact podaac@podaac.jpl.nasa.gov ",
 "pixelType": "U8",
 "meanPixelSize": 29.999998094818761,
 "exportTilesAllowed": false,
 "editFieldsInfo": null,
 "rasterTypeInfos": [
  {
   "help": "",
   "name": "Raster Dataset",
   "description": "Supports all ArcGIS Raster Datasets"
  }
 ],
 "defaultResamplingMethod": "Nearest",
 "itemAccess": false,
 "minScale": 0,
 "serviceProperties": "ByAttribute<\/MosaicMethod>First<\/MosaicOperator>true<\/SortAscending><\/LockImageID>DateTime<\/TileOrderField>1/1/2050 12:00:00 AM<\/TileOrderBase>600.000000<\/AvgImageSpacingX>600.000000<\/AvgImageSpacingY>0.0<\/ViewPointX>0.0<\/ViewPointY>0.0<\/ViewPointDefShiftX>0.0<\/ViewPointDefShiftY>LZ77<\/CompressionMethod>75<\/CompressionQuality>0.000000<\/CompressionTolerance>Nearest<\/SamplingMethod><\/ImageServiceProperties><\/ImageServer>",
 "advancedQueryCapabilities": {
  "supportsStatistics": true,
  "supportsSqlExpression": true,
  "supportsOrderBy": true,
  "useStandardizedQueries": true,
  "supportsPagination": true,
  "supportsDistinct": true
 },
 "serviceItemId": "f417d9093b714c06951f4c4bdf28e64e",
 "capabilities": "Catalog,Mensuration,Image,Metadata",
 "maxScale": 0,
 "stdvValues": [],
 "allowedFields": "Name,DateTime,ProductGenerationDateTime,cloud_coverage,spacecraft_name,TileID,MinPS,MaxPS,LowPS,HighPS,CenterX,CenterY,DownloadURL,URLDisplay,ProcessingDate",
 "minPixelSize": 0,
 "sortAscending": true,
 "maxMosaicImageCount": 100,
 "inspectionCapabilities": "",
 "maxPixelSize": 0,
 "uncompressedSize": 1311447014496,
 "serviceDescription": "A representation of the confidence associated with the WTR classification that is based on a combination of Diagnostic Layer (DIAG) results and quality assurance information provided with the input HLS data. For example, the Open water class of the WTR layer is split into two classes: High Confidence and Moderate Confidence while WTR Partial surface water Class pixels of WTR are flagged as either Partial surface water Conservative or Partial surface water Aggressive, with the latter exhibiting less certainty. As in the WTR layers, pixels for which water retrievals are difficult or impossible due to HLS snow/ice, HLS cloud/shadow, or fill values are also noted in the CONF layer.\n\nThis dataset contains Level-3 Dynamic OPERA surface water extent product version 1. The data are validated surface water extent observations beginning April 2023. Known issues and caveats on usage are described in the Product Documentation. The input dataset for generating each product is the Harmonized Landsat-8 and Sentinel-2A/B/C (HLS) product version 2.0. HLS products provide surface reflectance (SR) data from the Operational Land Imager (OLI) aboard the Landsat 8 satellite and the MultiSpectral Instrument (MSI) aboard the Sentinel-2A/B/C satellite. The surface water extent products are distributed over projected map coordinates using the Universal Transverse Mercator (UTM) projection. Each UTM tile covers an area of 109.8 km × 109.8 km. This area is divided into 3,660 rows and 3,660 columns at 30-m pixel spacing. This EGIS service offers access to the confidence data layer.\n\nMore information about the dataset is available at https://www.earthdata.nasa.gov/data/catalog/pocloud-opera-l3-dswx-hls-v1-1.0\n\nOPERA was informed by the Satellite Needs Working Group (SNWG), an interagency effort of the U.S. Government dedicated to identifying and addressing Earth observation needs across U.S. civilian federal agencies.\n\nFor questions about this service, please contact podaac@podaac.jpl.nasa.gov ",
 "allowCopy": true,
 "copyrightText": "Observational Products for End-Users from Remote Sensing Analysis (OPERA) Project, National Aeronautics and Space Administration (NASA), Jet Propulsion Laboratory (JPL), California Institute of Technology, Physical Oceanography Distributed Active Archive Center (PO.DAAC).",
 "mensurationCapabilities": "Basic",
 "ownershipBasedAccessControlForRasters": null
}
