{
 "extent": {
  "ymin": -89.986113660000015,
  "xmin": -179.98611450000001,
  "ymax": 89.986114499999999,
  "xmax": 179.98611531200001,
  "spatialReference": {
   "latestWkid": 4326,
   "wkid": 4326
  }
 },
 "blockWidth": 2048,
 "mosaicOperator": "First",
 "serviceSourceType": "esriImageServiceSourceTypeMosaicDataset",
 "hasMultidimensions": true,
 "maxImageWidth": 15000,
 "maxRecordCount": 1000,
 "meanValues": [
  245
 ],
 "hasColormap": false,
 "compressionType": "None",
 "defaultCompressionQuality": 10000,
 "maxValues": [
  310
 ],
 "hasHistograms": true,
 "datasetFormat": "AMD",
 "maxImageHeight": 4100,
 "bandNames": [
  "Band_1"
 ],
 "spatialReference": {
  "latestWkid": 4326,
  "wkid": 4326
 },
 "fullExtent": {
  "ymin": -89.986113660000015,
  "xmin": -179.98611450000001,
  "ymax": 89.986114499999999,
  "xmax": 179.98611531200001,
  "spatialReference": {
   "latestWkid": 4326,
   "wkid": 4326
  }
 },
 "bandCount": 1,
 "rasterFunctionInfos": [
  {
   "help": "",
   "name": "Cloud Top Height",
   "description": "Cloud Top Height with Statistics - Stretch"
  },
  {
   "help": "",
   "name": "Cloud Top Height with Color Bar",
   "description": "Cloud Top Height with Color Bar"
  },
  {
   "help": "",
   "name": "Brightness Temperature in 10.8um with Color Bar",
   "description": "Brightness Temperature in 10.8um with Statistics and Color Bar"
  },
  {
   "help": "",
   "name": "Brightness Temperature in 10.8um",
   "description": "Brightness Temperature in 10.8um with Statistics - Stretch"
  },
  {
   "help": "",
   "name": "Brightness Temperature in 6.75um",
   "description": "Brightness Temperature in 6.75um with Statistics - Stretch"
  },
  {
   "help": "",
   "name": "Reflectance in 0.63um",
   "description": "Reflectance in 0.63um with Statistics - Stretch"
  },
  {
   "help": "",
   "name": "Cloud Bottom Height with Color Bar",
   "description": "Cloud Bottom Height with Color Bar"
  },
  {
   "help": "",
   "name": "Cloud Optical Depth with Color Bar",
   "description": "Cloud Optical Depth with Color Bar"
  },
  {
   "help": "",
   "name": "Vertically Informed Liquid Water Path",
   "description": "Vertically Informed Liquid Water Path with Statistics - Stretch"
  },
  {
   "help": "",
   "name": "Vertically Informed Liquid Water Path with Color Bar",
   "description": "Vertically Informed Liquid Water Path with Color Bar"
  },
  {
   "help": "",
   "name": "Cloud Bottom Pressure with Color Bar",
   "description": "Cloud Bottom Pressure with Color Bar"
  },
  {
   "help": "",
   "name": "Cloud Bottom Temperature",
   "description": "Cloud Bottom Temperature with Statistics - Stretch"
  },
  {
   "help": "",
   "name": "Cloud Bottom Temperature with Color Bar",
   "description": "Cloud Bottom Temperature with Color Bar"
  },
  {
   "help": "",
   "name": "SLW Aircraft Icing Index",
   "description": "SLW Aircraft Icing Index with Statistics - Stretch"
  },
  {
   "help": "",
   "name": "Cloud Top Pressure",
   "description": "Cloud Top Pressure with Statistics - Stretch"
  },
  {
   "help": "",
   "name": "Cloud Top Temperature with Color Bar",
   "description": "Cloud Top Temperature with Color Bar"
  },
  {
   "help": "",
   "name": "Solar Zenith",
   "description": "Solar Zenith with Statistics - Stretch"
  },
  {
   "help": "",
   "name": "Cloud Effective Height",
   "description": "Cloud Effective Height with Statistics - Stretch"
  },
  {
   "help": "",
   "name": "Cloud Effective Height with Color Bar",
   "description": "Cloud Effective Height with Color Bar"
  },
  {
   "help": "",
   "name": "Cloud Effective Pressure with Color Bar",
   "description": "Cloud Effective Pressure with Color Bar"
  },
  {
   "help": "",
   "name": "Cloud Effective Temperature",
   "description": "Cloud Effective Temperature with Statistics - Stretch"
  },
  {
   "help": "",
   "name": "Cloud Effective Temperature with Color Bar",
   "description": "Cloud Effective Temperature with Color Bar"
  },
  {
   "help": "",
   "name": "Cloud Infrared Emittance",
   "description": "Cloud Infrared Emittance with Statistics - Stretch"
  },
  {
   "help": "",
   "name": "Cloud Mask with Color Bar",
   "description": "Cloud Mask with Color Bar"
  },
  {
   "help": "",
   "name": "Cloud Effective Particle Radius",
   "description": "Cloud Effective Particle Radius with Statistics - Stretch"
  },
  {
   "help": "",
   "name": "None",
   "description": "Make a Raster or Raster Dataset into a Function Raster Dataset."
  },
  {
   "help": "",
   "name": "BT_10.8um",
   "description": "A raster function template."
  },
  {
   "help": "",
   "name": "cloud_phase",
   "description": "A raster function template."
  },
  {
   "help": "",
   "name": "cloud_top_height",
   "description": "A raster function template."
  },
  {
   "help": "",
   "name": "cloud_bottom_height",
   "description": "A raster function template."
  },
  {
   "help": "",
   "name": "satellite_ID",
   "description": "A raster function template."
  },
  {
   "help": "",
   "name": "cloud_optical_depth",
   "description": "A raster function template."
  },
  {
   "help": "",
   "name": "vi_iwp",
   "description": "A raster function template."
  },
  {
   "help": "",
   "name": "vi_lwp",
   "description": "A raster function template."
  },
  {
   "help": "",
   "name": "BT_6.75um",
   "description": "A raster function template."
  },
  {
   "help": "",
   "name": "cloud_bottom_pressure",
   "description": "A raster function template."
  },
  {
   "help": "",
   "name": "cloud_bottom_temperature",
   "description": "A raster function template."
  },
  {
   "help": "",
   "name": "cloud_eff_height",
   "description": "A raster function template."
  },
  {
   "help": "",
   "name": "cloud_eff_particle_size",
   "description": "A raster function template."
  },
  {
   "help": "",
   "name": "cloud_eff_pressure",
   "description": "A raster function template."
  },
  {
   "help": "",
   "name": "cloud_eff_temperature",
   "description": "A raster function template."
  },
  {
   "help": "",
   "name": "cloud_emittance",
   "description": "A raster function template."
  },
  {
   "help": "",
   "name": "cloud_top_pressure",
   "description": "A raster function template."
  },
  {
   "help": "",
   "name": "cloud_top_temperature",
   "description": "A raster function template."
  },
  {
   "help": "",
   "name": "cloud_lwp_iwp",
   "description": "A raster function template."
  },
  {
   "help": "",
   "name": "LW_broadband_flux",
   "description": "A raster function template."
  },
  {
   "help": "",
   "name": "ref_0.63um",
   "description": "A raster function template."
  },
  {
   "help": "",
   "name": "relative_azimuth",
   "description": "A raster function template."
  },
  {
   "help": "",
   "name": "SW_broadband_albedo",
   "description": "A raster function template."
  },
  {
   "help": "",
   "name": "skin_temperature",
   "description": "A raster function template."
  },
  {
   "help": "",
   "name": "slw_icing_index",
   "description": "A raster function template."
  },
  {
   "help": "",
   "name": "solar_zenith",
   "description": "A raster function template."
  },
  {
   "help": "",
   "name": "relative_time",
   "description": "A raster function template."
  },
  {
   "help": "",
   "name": "view_zenith",
   "description": "A raster function template."
  }
 ],
 "supportsStatistics": true,
 "sortableFields": "",
 "minValues": [
  180
 ],
 "allowRasterFunction": true,
 "allowComputeTiePoints": false,
 "serviceDataType": "esriImageServiceDataTypeScientific",
 "supportsAdvancedQueries": true,
 "maxDownloadSizeLimit": 2048,
 "currentVersion": 12,
 "timeInfo": {
  "startTimeField": "StdTime",
  "endTimeField": "StdTime",
  "defaultTimeIntervalUnits": "esriTimeUnitsHours",
  "timeExtent": [
   1722470400000,
   1830294000000
  ],
  "timeReference": null,
  "defaultTimeInterval": 1
 },
 "objectIdField": "objectid",
 "blockHeight": 256,
 "initialExtent": {
  "ymin": -89.986113660000015,
  "xmin": -179.98611450000001,
  "ymax": 89.986114499999999,
  "xmax": 179.98611531200001,
  "spatialReference": {
   "latestWkid": 4326,
   "wkid": 4326
  }
 },
 "pixelSizeX": 0.027773492,
 "pixelSizeY": 0.027773492000000004,
 "defaultMosaicMethod": "None",
 "name": "C43245-EAP-SATCORPS/GLOBCOMP01A_HOURLY_FULL",
 "allowedMosaicMethods": "None,NorthWest,Center,LockRaster,ByAttribute,Nadir,Viewpoint,Seamline",
 "maxDownloadImageCount": 20,
 "fields": [
  {
   "domain": null,
   "name": "objectid",
   "alias": "objectid",
   "type": "esriFieldTypeOID"
  },
  {
   "domain": null,
   "name": "name",
   "length": 200,
   "alias": "name",
   "type": "esriFieldTypeString"
  },
  {
   "domain": null,
   "name": "minps",
   "alias": "minps",
   "type": "esriFieldTypeDouble"
  },
  {
   "domain": null,
   "name": "maxps",
   "alias": "maxps",
   "type": "esriFieldTypeDouble"
  },
  {
   "domain": null,
   "name": "lowps",
   "alias": "lowps",
   "type": "esriFieldTypeDouble"
  },
  {
   "domain": null,
   "name": "highps",
   "alias": "highps",
   "type": "esriFieldTypeDouble"
  },
  {
   "domain": {
    "splitPolicy": "esriSPTDefaultValue",
    "name": "MosaicCatalogItemCategoryDomain",
    "description": "Catalog item categories.",
    "type": "codedValue",
    "codedValues": [
     {
      "code": 0,
      "name": "Unknown"
     },
     {
      "code": 1,
      "name": "Primary"
     },
     {
      "code": 2,
      "name": "Overview"
     },
     {
      "code": 3,
      "name": "Unprocessed Overview"
     },
     {
      "code": 4,
      "name": "Partial Overview"
     },
     {
      "code": 5,
      "name": "Inactive"
     },
     {
      "code": 253,
      "name": "Uploaded"
     },
     {
      "code": 254,
      "name": "Incomplete"
     },
     {
      "code": 255,
      "name": "Custom"
     }
    ],
    "mergePolicy": "esriMPTDefaultValue"
   },
   "name": "category",
   "alias": "category",
   "type": "esriFieldTypeInteger"
  },
  {
   "domain": null,
   "name": "tag",
   "length": 100,
   "alias": "tag",
   "type": "esriFieldTypeString"
  },
  {
   "domain": null,
   "name": "groupname",
   "length": 100,
   "alias": "groupname",
   "type": "esriFieldTypeString"
  },
  {
   "domain": null,
   "name": "productname",
   "length": 100,
   "alias": "productname",
   "type": "esriFieldTypeString"
  },
  {
   "domain": null,
   "name": "centerx",
   "alias": "centerx",
   "type": "esriFieldTypeDouble"
  },
  {
   "domain": null,
   "name": "centery",
   "alias": "centery",
   "type": "esriFieldTypeDouble"
  },
  {
   "domain": null,
   "name": "zorder",
   "alias": "zorder",
   "type": "esriFieldTypeInteger"
  },
  {
   "domain": null,
   "name": "file",
   "length": 255,
   "alias": "file",
   "type": "esriFieldTypeString"
  },
  {
   "domain": null,
   "name": "key",
   "length": 255,
   "alias": "key",
   "type": "esriFieldTypeString"
  },
  {
   "domain": null,
   "name": "domain",
   "length": 255,
   "alias": "domain",
   "type": "esriFieldTypeString"
  },
  {
   "domain": null,
   "name": "satellite",
   "length": 255,
   "alias": "satellite",
   "type": "esriFieldTypeString"
  },
  {
   "domain": null,
   "name": "visst",
   "length": 255,
   "alias": "visst",
   "type": "esriFieldTypeString"
  },
  {
   "domain": null,
   "name": "ingested",
   "length": 8,
   "alias": "ingested",
   "type": "esriFieldTypeDate"
  },
  {
   "domain": null,
   "name": "updated",
   "length": 8,
   "alias": "updated",
   "type": "esriFieldTypeDate"
  },
  {
   "domain": null,
   "name": "units",
   "length": 255,
   "alias": "units",
   "type": "esriFieldTypeString"
  },
  {
   "domain": null,
   "name": "long_name",
   "length": 255,
   "alias": "long_name",
   "type": "esriFieldTypeString"
  },
  {
   "domain": null,
   "name": "uuid",
   "length": 255,
   "alias": "uuid",
   "type": "esriFieldTypeString"
  },
  {
   "domain": null,
   "name": "variable",
   "length": 8000,
   "alias": "Variable",
   "type": "esriFieldTypeString"
  },
  {
   "domain": null,
   "name": "collection",
   "length": 8000,
   "alias": "Collection",
   "type": "esriFieldTypeString"
  },
  {
   "domain": null,
   "name": "dimensions",
   "length": 8000,
   "alias": "Dimensions",
   "type": "esriFieldTypeString"
  },
  {
   "domain": null,
   "name": "stdtime",
   "length": 8,
   "alias": "StdTime",
   "type": "esriFieldTypeDate"
  },
  {
   "domain": null,
   "name": "shape",
   "alias": "shape",
   "type": "esriFieldTypeGeometry"
  },
  {
   "domain": null,
   "name": "st_area(shape)",
   "alias": "st_area(shape)",
   "type": "esriFieldTypeDouble"
  },
  {
   "domain": null,
   "name": "st_perimeter(shape)",
   "alias": "st_perimeter(shape)",
   "type": "esriFieldTypeDouble"
  }
 ],
 "defaultVariable": "",
 "allowAnalysis": true,
 "hasRasterAttributeTable": false,
 "useStandardizedQueries": true,
 "description": "",
 "pixelType": "U8",
 "meanPixelSize": 3091.7309869910573,
 "exportTilesAllowed": false,
 "editFieldsInfo": null,
 "rasterTypeInfos": [
  {
   "help": "",
   "name": "Raster Dataset",
   "description": "Supports all ArcGIS Raster Datasets"
  }
 ],
 "defaultResamplingMethod": "Nearest",
 "itemAccess": false,
 "minScale": 0,
 "serviceProperties": "None<\/MosaicMethod>First<\/MosaicOperator>true<\/SortAscending><\/LockImageID>StdTime<\/TileOrderField>0<\/TileOrderBase>600.000000<\/AvgImageSpacingX>300.000000<\/AvgImageSpacingY>0.0<\/ViewPointX>0.0<\/ViewPointY>0.0<\/ViewPointDefShiftX>0.0<\/ViewPointDefShiftY>LERC<\/CompressionMethod>75<\/CompressionQuality>0.010000<\/CompressionTolerance>Nearest<\/SamplingMethod><\/ImageServiceProperties><\/ImageServer>",
 "advancedQueryCapabilities": {
  "supportsStatistics": true,
  "supportsSqlExpression": true,
  "supportsOrderBy": true,
  "useStandardizedQueries": true,
  "supportsPagination": true,
  "supportsDistinct": true
 },
 "serviceItemId": "f1a7827398fe4af39012a30b1ae9261f",
 "capabilities": "Catalog,Pixels,Image,Metadata",
 "maxScale": 0,
 "stdvValues": [
  0
 ],
 "allowedFields": "name,minps,maxps,lowps,highps,tag,groupname,productname,centerx,centery,zorder,st_area(shape),st_perimeter(shape),variable,collection,file,key,domain,satellite,visst,ingested,updated,units,long_name,Dimensions,stdtime,uuid",
 "minPixelSize": 0,
 "maxMosaicImageCount": 20,
 "inspectionCapabilities": "",
 "maxPixelSize": 0,
 "uncompressedSize": 83987280,
 "serviceDescription": "C43245-EAP-SATCORPS/GLOBCOMP01A_HOURLY_FULL",
 "allowCopy": true,
 "copyrightText": "",
 "mensurationCapabilities": "Basic",
 "ownershipBasedAccessControlForRasters": null
}
