{ "extent": { "ymin": 33.495963562202519, "xmin": 32.207645290000073, "ymax": 39.983237218000056, "xmax": 43.010874728349847, "spatialReference": { "latestWkid": 4326, "wkid": 4326 } }, "blockWidth": 2048, "mosaicOperator": "First", "serviceSourceType": "esriImageServiceSourceTypeMosaicDataset", "hasMultidimensions": false, "maxImageWidth": 15000, "maxRecordCount": 1000, "meanValues": [ 107.47727441329462, 118.03961213343767, 105.21987917274087 ], "hasColormap": false, "compressionType": "None", "defaultCompressionQuality": 75, "maxValues": [ 255, 255, 255 ], "hasHistograms": true, "datasetFormat": "AMD", "maxImageHeight": 4100, "sortField": "", "bandNames": [ "Band_1", "Band_2", "Band_3" ], "spatialReference": { "latestWkid": 4326, "wkid": 4326 }, "fullExtent": { "ymin": 33.495963562202519, "xmin": 32.207645290000073, "ymax": 39.983237218000056, "xmax": 43.010874728349847, "spatialReference": { "latestWkid": 4326, "wkid": 4326 } }, "bandCount": 3, "rasterFunctionInfos": [{ "help": "", "name": "None", "description": "" }], "supportsStatistics": true, "sortableFields": "", "minValues": [ 0, 0, 0 ], "allowRasterFunction": true, "allowComputeTiePoints": false, "serviceDataType": "esriImageServiceDataTypeRGB", "supportsAdvancedQueries": true, "maxDownloadSizeLimit": 2048, "currentVersion": 12, "sortValue": null, "objectIdField": "objectid", "blockHeight": 256, "initialExtent": { "ymin": 33.495963562202519, "xmin": 32.207645290000073, "ymax": 39.983237218000056, "xmax": 43.010874728349847, "spatialReference": { "latestWkid": 4326, "wkid": 4326 } }, "pixelSizeX": 0.00026949458523585636, "pixelSizeY": 0.00026949458523585647, "defaultMosaicMethod": "Northwest", "name": "DISASTERS_202302_EARTHQUAKE_TURKIYE/2302_landsat", "allowedMosaicMethods": "NorthWest,Center,LockRaster,ByAttribute,Nadir,Viewpoint,Seamline,None", "maxDownloadImageCount": 20, "fields": [ { "domain": null, "name": "objectid", "alias": "OBJECTID", "type": "esriFieldTypeOID" }, { "domain": null, "name": "name", "length": 200, "alias": "Name", "type": "esriFieldTypeString" }, { "domain": null, "name": "minps", "alias": "MinPS", "type": "esriFieldTypeDouble" }, { "domain": null, "name": "maxps", "alias": "MaxPS", "type": "esriFieldTypeDouble" }, { "domain": null, "name": "lowps", "alias": "LowPS", "type": "esriFieldTypeDouble" }, { "domain": null, "name": "highps", "alias": "HighPS", "type": "esriFieldTypeDouble" }, { "domain": { "splitPolicy": "esriSPTDefaultValue", "name": "MosaicCatalogItemCategoryDomain", "description": "Catalog item categories.", "type": "codedValue", "codedValues": [ { "code": 0, "name": "Unknown" }, { "code": 1, "name": "Primary" }, { "code": 2, "name": "Overview" }, { "code": 3, "name": "Unprocessed Overview" }, { "code": 4, "name": "Partial Overview" }, { "code": 5, "name": "Inactive" }, { "code": 253, "name": "Uploaded" }, { "code": 254, "name": "Incomplete" }, { "code": 255, "name": "Custom" } ], "mergePolicy": "esriMPTDefaultValue" }, "name": "category", "alias": "Category", "type": "esriFieldTypeInteger" }, { "domain": null, "name": "tag", "length": 100, "alias": "Tag", "type": "esriFieldTypeString" }, { "domain": null, "name": "groupname", "length": 100, "alias": "GroupName", "type": "esriFieldTypeString" }, { "domain": null, "name": "productname", "length": 100, "alias": "ProductName", "type": "esriFieldTypeString" }, { "domain": null, "name": "centerx", "alias": "CenterX", "type": "esriFieldTypeDouble" }, { "domain": null, "name": "centery", "alias": "CenterY", "type": "esriFieldTypeDouble" }, { "domain": null, "name": "zorder", "alias": "ZOrder", "type": "esriFieldTypeInteger" }, { "domain": null, "name": "date", "alias": "Date", "type": "esriFieldTypeDateOnly" }, { "domain": null, "name": "shape", "alias": "Shape", "type": "esriFieldTypeGeometry" } ], "allowAnalysis": true, "hasRasterAttributeTable": false, "useStandardizedQueries": true, "description": "
Date of Images:<\/span><\/p> Post-Event: 2/7/2023, 2/9/2023, 2/11/2023, 2/12/2023, 2/14/2023, 2/19/2023, 2/20/2023, 2/21/2023, 2/22/2023, 2/23/2023<\/span><\/p> Pre-Event: None<\/span><\/p> <\/p> Date of Next Image:<\/span><\/p> Unknown<\/span><\/p> <\/p> Summary:<\/span><\/p> The Natural Color RGB provides a false composite look at the surface. This RGB uses a shortwave, the near-infrared, and red channels from the instrument.<\/span><\/p> <\/p> Suggested Use:<\/span><\/p> For the Natural Color RGB, areas of water will appear blue, healthy green vegetation will appear as a bright green, urban areas in various shades of magenta, snow covered areas in cyan.<\/span><\/p> <\/p> Satellite/Sensor:<\/span><\/p> Landsat 8 Operational Land Imager (OLI)<\/span><\/p> Landsat 9 Operational Land Imager-2 (OLI-2)<\/span><\/p> <\/p> Resolution:<\/span><\/p> 30 meters<\/span><\/p> <\/p> Credits:<\/span><\/p> NASA/MSFC, USGS<\/span><\/p> <\/p> Service URL:<\/span><\/p> <\/p> WMS Endpoint:<\/span><\/p><\/div><\/div><\/div>",
"pixelType": "U8",
"meanPixelSize": 29.999999999999996,
"exportTilesAllowed": false,
"editFieldsInfo": null,
"rasterTypeInfos": [{
"help": "",
"name": "Raster Dataset",
"description": "Supports all ArcGIS Raster Datasets"
}],
"defaultResamplingMethod": "Bilinear",
"itemAccess": false,
"minScale": 0,
"serviceProperties": " Date of Images:<\/span><\/p> Post-Event: 2/7/2023, 2/9/2023, 2/11/2023, 2/12/2023, 2/14/2023, 2/19/2023, 2/20/2023, 2/21/2023, 2/22/2023, 2/23/2023<\/span><\/p> Pre-Event: None<\/span><\/p> <\/p> Date of Next Image:<\/span><\/p> Unknown<\/span><\/p> <\/p> Summary:<\/span><\/p> The Natural Color RGB provides a false composite look at the surface. This RGB uses a shortwave, the near-infrared, and red channels from the instrument.<\/span><\/p> <\/p> Suggested Use:<\/span><\/p> For the Natural Color RGB, areas of water will appear blue, healthy green vegetation will appear as a bright green, urban areas in various shades of magenta, snow covered areas in cyan.<\/span><\/p> <\/p> Satellite/Sensor:<\/span><\/p> Landsat 8 Operational Land Imager (OLI)<\/span><\/p> Landsat 9 Operational Land Imager-2 (OLI-2)<\/span><\/p> <\/p> Resolution:<\/span><\/p> 30 meters<\/span><\/p> <\/p> Credits:<\/span><\/p> NASA/MSFC, USGS<\/span><\/p> <\/p> Service URL:<\/span><\/p> <\/p> WMS Endpoint:<\/span><\/p><\/div><\/div><\/div>",
"allowCopy": true,
"copyrightText": "NASA/MSFC, USGS",
"mensurationCapabilities": "None",
"ownershipBasedAccessControlForRasters": null
}