{ "extent": { "ymin": 36.513597321321335, "xmin": 36.018311435000044, "ymax": 37.129122954000024, "xmax": 36.611172573060401, "spatialReference": { "latestWkid": 4326, "wkid": 4326 } }, "blockWidth": 2048, "mosaicOperator": "First", "serviceSourceType": "esriImageServiceSourceTypeMosaicDataset", "hasMultidimensions": false, "maxImageWidth": 15000, "maxRecordCount": 1000, "meanValues": [ 49.377670438928575, 44.823713118559631, 50.225235055493876, 122.44034045134229 ], "hasColormap": false, "compressionType": "None", "defaultCompressionQuality": 75, "maxValues": [ 255, 255, 255, 255 ], "hasHistograms": true, "datasetFormat": "AMD", "maxImageHeight": 4100, "sortField": "", "bandNames": [ "Band_1", "Band_2", "Band_3", "Band_4" ], "spatialReference": { "latestWkid": 4326, "wkid": 4326 }, "fullExtent": { "ymin": 36.513597321321335, "xmin": 36.018311435000044, "ymax": 37.129122954000024, "xmax": 36.611172573060401, "spatialReference": { "latestWkid": 4326, "wkid": 4326 } }, "bandCount": 4, "rasterFunctionInfos": [{ "help": "", "name": "None", "description": "" }], "supportsStatistics": true, "sortableFields": "", "minValues": [ 0, 0, 0, 0 ], "allowRasterFunction": true, "allowComputeTiePoints": false, "serviceDataType": "esriImageServiceDataTypeGeneric", "supportsAdvancedQueries": true, "maxDownloadSizeLimit": 2048, "currentVersion": 12, "sortValue": null, "objectIdField": "objectid", "blockHeight": 256, "initialExtent": { "ymin": 36.513597321321335, "xmin": 36.018311435000044, "ymax": 37.129122954000024, "xmax": 36.611172573060401, "spatialReference": { "latestWkid": 4326, "wkid": 4326 } }, "pixelSizeX": 0.00002694945852358548, "pixelSizeY": 0.000026949458523585365, "defaultMosaicMethod": "Northwest", "name": "DISASTERS_202302_EARTHQUAKE_TURKIYE/2302_planet", "allowedMosaicMethods": "NorthWest,Center,LockRaster,ByAttribute,Nadir,Viewpoint,Seamline,None", "maxDownloadImageCount": 20, "fields": [ { "domain": null, "name": "objectid", "alias": "OBJECTID", "type": "esriFieldTypeOID" }, { "domain": null, "name": "name", "length": 200, "alias": "Name", "type": "esriFieldTypeString" }, { "domain": null, "name": "minps", "alias": "MinPS", "type": "esriFieldTypeDouble" }, { "domain": null, "name": "maxps", "alias": "MaxPS", "type": "esriFieldTypeDouble" }, { "domain": null, "name": "lowps", "alias": "LowPS", "type": "esriFieldTypeDouble" }, { "domain": null, "name": "highps", "alias": "HighPS", "type": "esriFieldTypeDouble" }, { "domain": { "splitPolicy": "esriSPTDefaultValue", "name": "MosaicCatalogItemCategoryDomain", "description": "Catalog item categories.", "type": "codedValue", "codedValues": [ { "code": 0, "name": "Unknown" }, { "code": 1, "name": "Primary" }, { "code": 2, "name": "Overview" }, { "code": 3, "name": "Unprocessed Overview" }, { "code": 4, "name": "Partial Overview" }, { "code": 5, "name": "Inactive" }, { "code": 253, "name": "Uploaded" }, { "code": 254, "name": "Incomplete" }, { "code": 255, "name": "Custom" } ], "mergePolicy": "esriMPTDefaultValue" }, "name": "category", "alias": "Category", "type": "esriFieldTypeInteger" }, { "domain": null, "name": "tag", "length": 100, "alias": "Tag", "type": "esriFieldTypeString" }, { "domain": null, "name": "groupname", "length": 100, "alias": "GroupName", "type": "esriFieldTypeString" }, { "domain": null, "name": "productname", "length": 100, "alias": "ProductName", "type": "esriFieldTypeString" }, { "domain": null, "name": "centerx", "alias": "CenterX", "type": "esriFieldTypeDouble" }, { "domain": null, "name": "centery", "alias": "CenterY", "type": "esriFieldTypeDouble" }, { "domain": null, "name": "zorder", "alias": "ZOrder", "type": "esriFieldTypeInteger" }, { "domain": null, "name": "date", "alias": "Date", "type": "esriFieldTypeDateOnly" }, { "domain": null, "name": "shape", "alias": "Shape", "type": "esriFieldTypeGeometry" } ], "allowAnalysis": true, "hasRasterAttributeTable": false, "useStandardizedQueries": true, "description": "
Date of Images:<\/span><\/p> 2/2/2023, 2/10/2023, 2/17/2023<\/span><\/p> <\/span><\/p> Summary:<\/span><\/p> This PlanetScope imagery captured by Planet Labs Inc. in February 2023 shows a few landslides following the earthquakes in Türkiye. True Color RGB provides a product of how the surface would look to the naked eye from space. The True Color RGB s produced using the 3 visible wavelength bands (red, green, and blue) from the respective sensor. Some minor atmospheric corrections have occurred.<\/span><\/p> <\/span><\/p> Suggested Use:<\/span><\/p> True Color RGB provides a product of how the surface would look to the naked eye from space. The True Color RGB is produced using the 3 visible wavelength bands (red, green, and blue) from the respective sensor. Some minor atmospheric corrections have occurred.<\/span><\/p> <\/span><\/p> Satellite/Sensor:<\/span><\/p> PlanetScope<\/span><\/p> <\/span><\/p> Resolution:<\/span><\/p> 3 meters<\/span><\/p> <\/span><\/p> Credits:<\/span><\/p> NASA Disasters Program, NASA GSFC, Includes copyrighted material of Planet Labs PBC. All rights reserved.<\/span><\/p> <\/span><\/p> Service URL:<\/span><\/p> https://gis.earthdata.nasa.gov/portal/home/item.html?id=871506b5ebee48c18ff6b89fa5f775f9<\/a><\/p> <\/span><\/p> WMS Endpoint:<\/span><\/p> https://gis.earthdata.nasa.gov/portal/services/DISASTERS_202302_EARTHQUAKE_TURKIYE/2302_planet/ImageServer/WMSServer<\/a><\/p><\/div><\/div><\/div>",
"pixelType": "U8",
"meanPixelSize": 2.9999999999999751,
"exportTilesAllowed": false,
"editFieldsInfo": null,
"rasterTypeInfos": [{
"help": "",
"name": "Raster Dataset",
"description": "Supports all ArcGIS Raster Datasets"
}],
"defaultResamplingMethod": "Bilinear",
"itemAccess": false,
"minScale": 0,
"serviceProperties": " Date of Images:<\/span><\/p> 2/2/2023, 2/10/2023, 2/17/2023<\/span><\/p> <\/span><\/p> Summary:<\/span><\/p> This PlanetScope imagery captured by Planet Labs Inc. in February 2023 shows a few landslides following the earthquakes in Türkiye. True Color RGB provides a product of how the surface would look to the naked eye from space. The True Color RGB s produced using the 3 visible wavelength bands (red, green, and blue) from the respective sensor. Some minor atmospheric corrections have occurred.<\/span><\/p> <\/span><\/p> Suggested Use:<\/span><\/p> True Color RGB provides a product of how the surface would look to the naked eye from space. The True Color RGB is produced using the 3 visible wavelength bands (red, green, and blue) from the respective sensor. Some minor atmospheric corrections have occurred.<\/span><\/p> <\/span><\/p> Satellite/Sensor:<\/span><\/p> PlanetScope<\/span><\/p> <\/span><\/p> Resolution:<\/span><\/p> 3 meters<\/span><\/p> <\/span><\/p> Credits:<\/span><\/p> NASA Disasters Program, NASA GSFC, Includes copyrighted material of Planet Labs PBC. All rights reserved.<\/span><\/p> <\/span><\/p> Service URL:<\/span><\/p> https://gis.earthdata.nasa.gov/portal/home/item.html?id=871506b5ebee48c18ff6b89fa5f775f9<\/a><\/p>