{ "extent": { "ymin": 33.718512243119292, "xmin": 34.306342464000068, "ymax": 39.07256116800005, "xmax": 41.059337780840153, "spatialReference": { "latestWkid": 4326, "wkid": 4326 } }, "blockWidth": 2048, "mosaicOperator": "First", "serviceSourceType": "esriImageServiceSourceTypeMosaicDataset", "hasMultidimensions": false, "maxImageWidth": 15000, "maxRecordCount": 1000, "meanValues": [0.13112593580906343], "hasColormap": false, "compressionType": "None", "defaultCompressionQuality": 75, "maxValues": [2], "hasHistograms": true, "datasetFormat": "AMD", "maxImageHeight": 4100, "sortField": "", "bandNames": ["Band_1"], "spatialReference": { "latestWkid": 4326, "wkid": 4326 }, "fullExtent": { "ymin": 33.718512243119292, "xmin": 34.306342464000068, "ymax": 39.07256116800005, "xmax": 41.059337780840153, "spatialReference": { "latestWkid": 4326, "wkid": 4326 } }, "bandCount": 1, "rasterFunctionInfos": [{ "help": "", "name": "None", "description": "" }], "supportsStatistics": true, "sortableFields": "", "minValues": [0], "allowRasterFunction": true, "allowComputeTiePoints": false, "serviceDataType": "esriImageServiceDataTypeGeneric", "supportsAdvancedQueries": true, "maxDownloadSizeLimit": 2048, "currentVersion": 12, "sortValue": null, "objectIdField": "objectid", "blockHeight": 256, "initialExtent": { "ymin": 33.718512243119292, "xmin": 34.306342464000068, "ymax": 39.07256116800005, "xmax": 41.059337780840153, "spatialReference": { "latestWkid": 4326, "wkid": 4326 } }, "pixelSizeX": 0.0002694945852358562, "pixelSizeY": 0.00026949458523585631, "defaultMosaicMethod": "Northwest", "name": "DISASTERS_202302_EARTHQUAKE_TURKIYE/2302_sentinel1_water", "allowedMosaicMethods": "NorthWest,Center,LockRaster,ByAttribute,Nadir,Viewpoint,Seamline,None", "maxDownloadImageCount": 20, "fields": [ { "domain": null, "name": "objectid", "alias": "OBJECTID", "type": "esriFieldTypeOID" }, { "domain": null, "name": "name", "length": 200, "alias": "Name", "type": "esriFieldTypeString" }, { "domain": null, "name": "minps", "alias": "MinPS", "type": "esriFieldTypeDouble" }, { "domain": null, "name": "maxps", "alias": "MaxPS", "type": "esriFieldTypeDouble" }, { "domain": null, "name": "lowps", "alias": "LowPS", "type": "esriFieldTypeDouble" }, { "domain": null, "name": "highps", "alias": "HighPS", "type": "esriFieldTypeDouble" }, { "domain": { "splitPolicy": "esriSPTDefaultValue", "name": "MosaicCatalogItemCategoryDomain", "description": "Catalog item categories.", "type": "codedValue", "codedValues": [ { "code": 0, "name": "Unknown" }, { "code": 1, "name": "Primary" }, { "code": 2, "name": "Overview" }, { "code": 3, "name": "Unprocessed Overview" }, { "code": 4, "name": "Partial Overview" }, { "code": 5, "name": "Inactive" }, { "code": 253, "name": "Uploaded" }, { "code": 254, "name": "Incomplete" }, { "code": 255, "name": "Custom" } ], "mergePolicy": "esriMPTDefaultValue" }, "name": "category", "alias": "Category", "type": "esriFieldTypeInteger" }, { "domain": null, "name": "tag", "length": 100, "alias": "Tag", "type": "esriFieldTypeString" }, { "domain": null, "name": "groupname", "length": 100, "alias": "GroupName", "type": "esriFieldTypeString" }, { "domain": null, "name": "productname", "length": 100, "alias": "ProductName", "type": "esriFieldTypeString" }, { "domain": null, "name": "centerx", "alias": "CenterX", "type": "esriFieldTypeDouble" }, { "domain": null, "name": "centery", "alias": "CenterY", "type": "esriFieldTypeDouble" }, { "domain": null, "name": "zorder", "alias": "ZOrder", "type": "esriFieldTypeInteger" }, { "domain": null, "name": "date", "alias": "Date", "type": "esriFieldTypeDateOnly" }, { "domain": null, "name": "shape", "alias": "Shape", "type": "esriFieldTypeGeometry" } ], "allowAnalysis": true, "hasRasterAttributeTable": false, "useStandardizedQueries": true, "description": "

Date of Images:<\/span><\/p>
2/4/2023, 2/5/2023, 2/9/2023, 2/10/2023<\/span><\/p>
<\/p>
Date of Next Image:<\/span><\/p>
None Expected<\/span><\/p>
<\/p>
Summary:<\/span><\/p>
The Alaska Satellite Facility has developed water extent images using the Sentinel-1A/B Synthetic Aperture Radar (SAR) instrument. These images can be used to see where water is located at the time of the satellite overpass. This product shows all water detected and does not differentiate between normal water and flood water. To determine where flooding may have occurred, combine this layer with a reference water layer.<\/span><\/p>
<\/p>
Additional SAR Information<\/span><\/a><\/p>
<\/p>
Suggested Use:<\/span><\/p>
This product shows all water detected and does not differentiate between normal water and flood water. To determine where flooding may have occurred, combine this layer with a reference water layer.<\/span><\/p>
Satellite/Sensor:<\/span><\/p>
Synthetic Aperture Radar on European Space Agency's (ESA) Copernicus Sentinel-1A satellite<\/span><\/p>
<\/p>
Resolution:<\/span><\/p>
30 meters<\/span><\/p>
<\/p>
Credits:<\/span><\/p>
Sentinel data used in this derived product, contains modified Copernicus Sentinel data (2023), processed by ESA, Alaska Satellite Facility, NASA MSFC<\/span><\/p>
<\/p>
Service URL:<\/span><\/p>
<\/p>
WMS Endpoint:<\/span><\/p><\/div><\/div><\/div><\/p>", "pixelType": "U8", "meanPixelSize": 29.999999999999979, "exportTilesAllowed": false, "editFieldsInfo": null, "rasterTypeInfos": [{ "help": "", "name": "Raster Dataset", "description": "Supports all ArcGIS Raster Datasets" }], "defaultResamplingMethod": "Bilinear", "itemAccess": false, "minScale": 0, "serviceProperties": "NorthWest<\/MosaicMethod>First<\/MosaicOperator>true<\/SortAscending><\/LockImageID>Name<\/TileOrderField>0<\/TileOrderBase>600.000000<\/AvgImageSpacingX>300.000000<\/AvgImageSpacingY>0.0<\/ViewPointX>0.0<\/ViewPointY>0.0<\/ViewPointDefShiftX>0.0<\/ViewPointDefShiftY>None<\/CompressionMethod>75<\/CompressionQuality>0.010000<\/CompressionTolerance>Bilinear<\/SamplingMethod><\/ImageServiceProperties><\/ImageServer>", "advancedQueryCapabilities": { "supportsStatistics": true, "supportsSqlExpression": true, "supportsOrderBy": true, "useStandardizedQueries": true, "supportsPagination": true, "supportsDistinct": true }, "serviceItemId": "c9225c80d734497a8a8509383feb65b8", "capabilities": "Catalog,Mensuration,Image,Metadata", "maxScale": 0, "stdvValues": [0.33755146052135077], "allowedFields": "Name,MinPS,MaxPS,LowPS,HighPS,Tag,GroupName,ProductName,CenterX,CenterY,ZOrder,Shape_Length,Shape_Area,Date", "minPixelSize": 0, "sortAscending": true, "maxMosaicImageCount": 20, "inspectionCapabilities": "", "maxPixelSize": 0, "uncompressedSize": 497827286, "serviceDescription": "

Date of Images:<\/span><\/p>
2/4/2023, 2/5/2023, 2/9/2023, 2/10/2023<\/span><\/p>
<\/p>
Date of Next Image:<\/span><\/p>
None Expected<\/span><\/p>
<\/p>
Summary:<\/span><\/p>
The Alaska Satellite Facility has developed water extent images using the Sentinel-1A/B Synthetic Aperture Radar (SAR) instrument. These images can be used to see where water is located at the time of the satellite overpass. This product shows all water detected and does not differentiate between normal water and flood water. To determine where flooding may have occurred, combine this layer with a reference water layer.<\/span><\/p>
<\/p>
Additional SAR Information<\/span><\/a><\/p>
<\/p>
Suggested Use:<\/span><\/p>
This product shows all water detected and does not differentiate between normal water and flood water. To determine where flooding may have occurred, combine this layer with a reference water layer.<\/span><\/p>
Satellite/Sensor:<\/span><\/p>
Synthetic Aperture Radar on European Space Agency's (ESA) Copernicus Sentinel-1A satellite<\/span><\/p>
<\/p>
Resolution:<\/span><\/p>
30 meters<\/span><\/p>
<\/p>
Credits:<\/span><\/p>
Sentinel data used in this derived product, contains modified Copernicus Sentinel data (2023), processed by ESA, Alaska Satellite Facility, NASA MSFC<\/span><\/p>
<\/p>
Service URL:<\/span><\/p>
<\/p>
WMS Endpoint:<\/span><\/p><\/div><\/div><\/div><\/p>", "allowCopy": true, "copyrightText": "NASA MSFC, Alaska Satellite Facility, ESA, Copernicus", "mensurationCapabilities": "", "ownershipBasedAccessControlForRasters": null }