{ "extent": { "ymin": 34.206751622781567, "xmin": 34.097853839000038, "ymax": 39.750267927000039, "xmax": 40.281206933109964, "spatialReference": { "latestWkid": 4326, "wkid": 4326 } }, "blockWidth": 2048, "mosaicOperator": "First", "serviceSourceType": "esriImageServiceSourceTypeMosaicDataset", "hasMultidimensions": false, "maxImageWidth": 15000, "maxRecordCount": 1000, "meanValues": [ 143.83674288140395, 178.86413373252586, 141.1072729616576 ], "hasColormap": false, "compressionType": "None", "defaultCompressionQuality": 75, "maxValues": [ 255, 255, 255 ], "hasHistograms": true, "datasetFormat": "AMD", "maxImageHeight": 4100, "sortField": "", "bandNames": [ "Band_1", "Band_2", "Band_3" ], "spatialReference": { "latestWkid": 4326, "wkid": 4326 }, "fullExtent": { "ymin": 34.206751622781567, "xmin": 34.097853839000038, "ymax": 39.750267927000039, "xmax": 40.281206933109964, "spatialReference": { "latestWkid": 4326, "wkid": 4326 } }, "bandCount": 3, "rasterFunctionInfos": [{ "help": "", "name": "None", "description": "" }], "supportsStatistics": true, "sortableFields": "", "minValues": [ 0, 0, 0 ], "allowRasterFunction": true, "allowComputeTiePoints": false, "serviceDataType": "esriImageServiceDataTypeRGB", "supportsAdvancedQueries": true, "maxDownloadSizeLimit": 2048, "currentVersion": 12, "sortValue": null, "objectIdField": "objectid", "blockHeight": 256, "initialExtent": { "ymin": 34.206751622781567, "xmin": 34.097853839000038, "ymax": 39.750267927000039, "xmax": 40.281206933109964, "spatialReference": { "latestWkid": 4326, "wkid": 4326 } }, "pixelSizeX": 0.00010014662543300335, "pixelSizeY": 0.00010014662543300341, "defaultMosaicMethod": "Northwest", "name": "DISASTERS_202302_EARTHQUAKE_TURKIYE/2302_sentinel2", "allowedMosaicMethods": "NorthWest,Center,LockRaster,ByAttribute,Nadir,Viewpoint,Seamline,None", "maxDownloadImageCount": 20, "fields": [ { "domain": null, "name": "objectid", "alias": "OBJECTID", "type": "esriFieldTypeOID" }, { "domain": null, "name": "name", "length": 200, "alias": "Name", "type": "esriFieldTypeString" }, { "domain": null, "name": "minps", "alias": "MinPS", "type": "esriFieldTypeDouble" }, { "domain": null, "name": "maxps", "alias": "MaxPS", "type": "esriFieldTypeDouble" }, { "domain": null, "name": "lowps", "alias": "LowPS", "type": "esriFieldTypeDouble" }, { "domain": null, "name": "highps", "alias": "HighPS", "type": "esriFieldTypeDouble" }, { "domain": { "splitPolicy": "esriSPTDefaultValue", "name": "MosaicCatalogItemCategoryDomain", "description": "Catalog item categories.", "type": "codedValue", "codedValues": [ { "code": 0, "name": "Unknown" }, { "code": 1, "name": "Primary" }, { "code": 2, "name": "Overview" }, { "code": 3, "name": "Unprocessed Overview" }, { "code": 4, "name": "Partial Overview" }, { "code": 5, "name": "Inactive" }, { "code": 253, "name": "Uploaded" }, { "code": 254, "name": "Incomplete" }, { "code": 255, "name": "Custom" } ], "mergePolicy": "esriMPTDefaultValue" }, "name": "category", "alias": "Category", "type": "esriFieldTypeInteger" }, { "domain": null, "name": "tag", "length": 100, "alias": "Tag", "type": "esriFieldTypeString" }, { "domain": null, "name": "groupname", "length": 100, "alias": "GroupName", "type": "esriFieldTypeString" }, { "domain": null, "name": "productname", "length": 100, "alias": "ProductName", "type": "esriFieldTypeString" }, { "domain": null, "name": "centerx", "alias": "CenterX", "type": "esriFieldTypeDouble" }, { "domain": null, "name": "centery", "alias": "CenterY", "type": "esriFieldTypeDouble" }, { "domain": null, "name": "zorder", "alias": "ZOrder", "type": "esriFieldTypeInteger" }, { "domain": null, "name": "date", "alias": "Date", "type": "esriFieldTypeDateOnly" }, { "domain": null, "name": "shape", "alias": "Shape", "type": "esriFieldTypeGeometry" } ], "allowAnalysis": true, "hasRasterAttributeTable": false, "useStandardizedQueries": true, "description": "
Date of Images:<\/span><\/p> Post-Event: 2/7/2023, 2/9/2023, 2/11/2023, 2/12/2023, 2/14/2023, 2/16/2023, 2/17/2023, 2/19/2023, 2/21/2023, 2/22/2023, 2/24/2023<\/span><\/p> Pre-Event: 12/28/2022, 1/10/2023, 1/22/2023, 1/25/2023, 1/28/2023<\/span><\/p> <\/span><\/p> Date of Next Image:<\/span><\/p> Unknown<\/span><\/p> <\/span><\/p> Summary:<\/span><\/p> The True Color RGB composite provides a product of how the surface would look to the naked eye from space. The RGB is created using the red, green, and blue channels of the respective instrument.<\/span><\/p> The Shortwave Infrared RGB provides a false composite look at the surface. This RGB uses a shortwave, the near-infrared, and red channels from the instrument.<\/span><\/p> <\/span><\/p> Suggested Use:<\/span><\/p> The True Color RGB provides a product of how the surface would look to the naked eye from space and may show damage caused by severe weather. The True Color RGB is produced using the 3 visible wavelength bands (red, green, and blue) from the respective sensor. Some minor atmospheric corrections have occurred.<\/span><\/p> For the Shortwave Infrared RGB, areas of water will appear blue, healthy green vegetation will appear as a bright green, urban areas in various shades of magenta, snow covered areas in cyan.<\/span><\/p> <\/span><\/p> Satellite/Sensor:<\/span><\/p> MultiSpectral Instrument (MSI) on European Space Agency's (ESA) Copernicus Sentinel-2A/2B satellites<\/span><\/p> <\/span><\/p> Resolution:<\/span><\/p> True Color: 10 meters<\/span><\/p> Shortwave Infrared: 20 meters<\/span><\/p> <\/span><\/p> Credits:<\/span><\/p> NASA/MSFC, USGS, ESA Copernicus<\/span><\/p> <\/span><\/p> Service URL:<\/span><\/p> https://gis.earthdata.nasa.gov/portal/home/item.html?id=5bd8e58267b5457e8f9f0299e30055ce<\/a><\/p> <\/span><\/p> WMS Endpoint:<\/span><\/p> https://gis.earthdata.nasa.gov/portal/services/DISASTERS_202302_EARTHQUAKE_TURKIYE/2302_sentinel2/ImageServer/WMSServer<\/a><\/p><\/div><\/div><\/div>",
"pixelType": "U8",
"meanPixelSize": 11.148271347866636,
"exportTilesAllowed": false,
"editFieldsInfo": null,
"rasterTypeInfos": [{
"help": "",
"name": "Raster Dataset",
"description": "Supports all ArcGIS Raster Datasets"
}],
"defaultResamplingMethod": "Bilinear",
"itemAccess": false,
"minScale": 0,
"serviceProperties": " Date of Images:<\/span><\/p> Post-Event: 2/7/2023, 2/9/2023, 2/11/2023, 2/12/2023, 2/14/2023, 2/16/2023, 2/17/2023, 2/19/2023, 2/21/2023, 2/22/2023, 2/24/2023<\/span><\/p> Pre-Event: 12/28/2022, 1/10/2023, 1/22/2023, 1/25/2023, 1/28/2023<\/span><\/p> <\/span><\/p> Date of Next Image:<\/span><\/p> Unknown<\/span><\/p> <\/span><\/p> Summary:<\/span><\/p> The True Color RGB composite provides a product of how the surface would look to the naked eye from space. The RGB is created using the red, green, and blue channels of the respective instrument.<\/span><\/p> The Shortwave Infrared RGB provides a false composite look at the surface. This RGB uses a shortwave, the near-infrared, and red channels from the instrument.<\/span><\/p> <\/span><\/p> Suggested Use:<\/span><\/p> The True Color RGB provides a product of how the surface would look to the naked eye from space and may show damage caused by severe weather. The True Color RGB is produced using the 3 visible wavelength bands (red, green, and blue) from the respective sensor. Some minor atmospheric corrections have occurred.<\/span><\/p> For the Shortwave Infrared RGB, areas of water will appear blue, healthy green vegetation will appear as a bright green, urban areas in various shades of magenta, snow covered areas in cyan.<\/span><\/p> <\/span><\/p> Satellite/Sensor:<\/span><\/p> MultiSpectral Instrument (MSI) on European Space Agency's (ESA) Copernicus Sentinel-2A/2B satellites<\/span><\/p> <\/span><\/p> Resolution:<\/span><\/p> True Color: 10 meters<\/span><\/p> Shortwave Infrared: 20 meters<\/span><\/p> <\/span><\/p> Credits:<\/span><\/p> NASA/MSFC, USGS, ESA Copernicus<\/span><\/p> <\/span><\/p> Service URL:<\/span><\/p>