{ "extent": { "ymin": -4459060.6548999995, "xmin": -6660161.5062000006, "ymax": -3206040.6548999995, "xmax": -5562581.5062000006, "spatialReference": { "latestWkid": 3857, "wkid": 102100 } }, "blockWidth": 2048, "mosaicOperator": "First", "serviceSourceType": "esriImageServiceSourceTypeMosaicDataset", "hasMultidimensions": false, "maxImageWidth": 15000, "maxRecordCount": 1000, "meanValues": [ 63.086873632057454, 112.26841353049832, 32.896096498317775 ], "hasColormap": false, "compressionType": "None", "defaultCompressionQuality": 75, "maxValues": [ 255, 255, 247 ], "hasHistograms": true, "datasetFormat": "AMD", "maxImageHeight": 4100, "sortField": "", "bandNames": [ "Band_1", "Band_2", "Band_3" ], "spatialReference": { "latestWkid": 3857, "wkid": 102100 }, "fullExtent": { "ymin": -4459060.6548999995, "xmin": -6660161.5062000006, "ymax": -3206040.6548999995, "xmax": -5562581.5062000006, "spatialReference": { "latestWkid": 3857, "wkid": 102100 } }, "bandCount": 3, "rasterFunctionInfos": [{ "help": "", "name": "None", "description": "" }], "supportsStatistics": true, "sortableFields": "", "minValues": [ 0, 0, 0 ], "allowRasterFunction": true, "allowComputeTiePoints": false, "serviceDataType": "esriImageServiceDataTypeRGB", "supportsAdvancedQueries": true, "maxDownloadSizeLimit": 2048, "currentVersion": 12, "sortValue": null, "objectIdField": "objectid", "blockHeight": 256, "initialExtent": { "ymin": -4459060.6548999995, "xmin": -6660161.5062000006, "ymax": -3206040.6548999995, "xmax": -5562581.5062000006, "spatialReference": { "latestWkid": 3857, "wkid": 102100 } }, "pixelSizeX": 20, "pixelSizeY": 20, "defaultMosaicMethod": "Northwest", "name": "DISASTERS_202405_FLOOD_BRAZIL/2407_sentinel1", "allowedMosaicMethods": "NorthWest,Center,LockRaster,ByAttribute,Nadir,Viewpoint,Seamline,None", "maxDownloadImageCount": 20, "fields": [ { "domain": null, "name": "objectid", "alias": "OBJECTID", "type": "esriFieldTypeOID" }, { "domain": null, "name": "name", "length": 200, "alias": "Name", "type": "esriFieldTypeString" }, { "domain": null, "name": "minps", "alias": "MinPS", "type": "esriFieldTypeDouble" }, { "domain": null, "name": "maxps", "alias": "MaxPS", "type": "esriFieldTypeDouble" }, { "domain": null, "name": "lowps", "alias": "LowPS", "type": "esriFieldTypeDouble" }, { "domain": null, "name": "highps", "alias": "HighPS", "type": "esriFieldTypeDouble" }, { "domain": { "splitPolicy": "esriSPTDefaultValue", "name": "MosaicCatalogItemCategoryDomain", "description": "Catalog item categories.", "type": "codedValue", "codedValues": [ { "code": 0, "name": "Unknown" }, { "code": 1, "name": "Primary" }, { "code": 2, "name": "Overview" }, { "code": 3, "name": "Unprocessed Overview" }, { "code": 4, "name": "Partial Overview" }, { "code": 5, "name": "Inactive" }, { "code": 253, "name": "Uploaded" }, { "code": 254, "name": "Incomplete" }, { "code": 255, "name": "Custom" } ], "mergePolicy": "esriMPTDefaultValue" }, "name": "category", "alias": "Category", "type": "esriFieldTypeInteger" }, { "domain": null, "name": "tag", "length": 100, "alias": "Tag", "type": "esriFieldTypeString" }, { "domain": null, "name": "groupname", "length": 100, "alias": "GroupName", "type": "esriFieldTypeString" }, { "domain": null, "name": "productname", "length": 100, "alias": "ProductName", "type": "esriFieldTypeString" }, { "domain": null, "name": "centerx", "alias": "CenterX", "type": "esriFieldTypeDouble" }, { "domain": null, "name": "centery", "alias": "CenterY", "type": "esriFieldTypeDouble" }, { "domain": null, "name": "zorder", "alias": "ZOrder", "type": "esriFieldTypeInteger" }, { "domain": null, "name": "date", "alias": "Date", "type": "esriFieldTypeDateOnly" }, { "domain": null, "name": "shape", "alias": "Shape", "type": "esriFieldTypeGeometry" } ], "allowAnalysis": true, "hasRasterAttributeTable": false, "useStandardizedQueries": true, "description": "
Dates of Images:<\/span><\/p> 5/2/2024, 5/4/2024<\/span><\/p> Date of Next Image:<\/span><\/p> Varies by region, typically 12 days since previous pass. Set time slider to most recent interval and click on area of interest to identify date of last pass.<\/span><\/p> Summary:<\/span><\/p> The Alaska Satellite Facility has developed false color Red, Green, Blue (RGB) and Radiometrically Terrain-Correct (RTC) composites and surface water extent products of the Sentinel-1A/B Synthetic Aperture Radar (SAR) instrument which assigns the co- and cross-polarization information to a channel in the composite. When used to support a flooding event, areas in blue denotes water present at the time of the satellite overpass before or after the start of the flooding event.<\/span><\/p> Sentinel-1 RGB Decomposition of RTC VV and VH imagery over United States coastlines. Blue areas have low returns in VV and VH (smooth surfaces such as calm water, but also frozen/crusted soil or dry sand), Green areas have high returns in VH (volume scatterers such as vegetation or some types of snow/ice), and Red areas have relatively high VV returns and relatively low VH returns (such as urban or sparsely vegetated areas).<\/span><\/p> To identify the date of an image either set the time slider to a 1 day interval or zoom in to AOI, set time slider to desired range and click on the imagery. The name may contain a full date and time in a format like this example:<\/span><\/p> S1A_IW_20210705T231453_DVR_RTC30_G_gpufed_27F4<\/span><\/p> The date and time would be 07/05/2021 at 23:14:53 UTC.<\/span><\/p> Suggested Use:<\/span><\/p> In this image, water appears in blue, vegetated areas in shades of green and urban areas in bright orange. It is recommended to use this product with ancillary information to derive flooded areas.<\/span><\/p> Satellite/Sensor:<\/span><\/p> Synthetic Aperture Radar on European Space Agency's (ESA) Copernicus Sentinel-1A/B satellite<\/span><\/p> NOTE: Sentinel-1B is no longer acquiring data and is only available into December 2021<\/span><\/p> Resolution:<\/span><\/p> 30 meters<\/span><\/p> Esri REST Endpoint:<\/span><\/p> See direct subsetted information on the link the to the right with WMS options.<\/span><\/p> RGB Product:<\/span><\/p> https://gis.asf.alaska.edu/arcgis/rest/services/ASF_S1/ASF_S1_RGB/ImageServer<\/span><\/p> RTC Product:<\/span><\/p> VV - https://gis.asf.alaska.edu/arcgis/rest/services/ASF_S1/ASF_S1_RTC_VV/ImageServer<\/span><\/p> VH - https://gis.asf.alaska.edu/arcgis/rest/services/ASF_S1/ASF_S1_RTC_VH/ImageServer<\/span><\/p> Surface Water Extent Product:<\/span><\/p> https://gis.asf.alaska.edu/arcgis/rest/services/ASF_S1/ASF_S1_WM/ImageServer<\/span><\/p> Data Download:<\/span><\/p> Data can be downloaded via the Pop-Ups in the Web Map or through each service's attribute table.<\/span><\/p><\/div><\/div>",
"pixelType": "U8",
"meanPixelSize": 20,
"exportTilesAllowed": false,
"editFieldsInfo": null,
"rasterTypeInfos": [{
"help": "",
"name": "Raster Dataset",
"description": "Supports all ArcGIS Raster Datasets"
}],
"defaultResamplingMethod": "Bilinear",
"itemAccess": false,
"minScale": 0,
"serviceProperties": " Dates of Images:<\/span><\/p> 5/2/2024, 5/4/2024<\/span><\/p> Date of Next Image:<\/span><\/p> Varies by region, typically 12 days since previous pass. Set time slider to most recent interval and click on area of interest to identify date of last pass.<\/span><\/p> Summary:<\/span><\/p> The Alaska Satellite Facility has developed false color Red, Green, Blue (RGB) and Radiometrically Terrain-Correct (RTC) composites and surface water extent products of the Sentinel-1A/B Synthetic Aperture Radar (SAR) instrument which assigns the co- and cross-polarization information to a channel in the composite. When used to support a flooding event, areas in blue denotes water present at the time of the satellite overpass before or after the start of the flooding event.<\/span><\/p> Sentinel-1 RGB Decomposition of RTC VV and VH imagery over United States coastlines. Blue areas have low returns in VV and VH (smooth surfaces such as calm water, but also frozen/crusted soil or dry sand), Green areas have high returns in VH (volume scatterers such as vegetation or some types of snow/ice), and Red areas have relatively high VV returns and relatively low VH returns (such as urban or sparsely vegetated areas).<\/span><\/p> To identify the date of an image either set the time slider to a 1 day interval or zoom in to AOI, set time slider to desired range and click on the imagery. The name may contain a full date and time in a format like this example:<\/span><\/p> S1A_IW_20210705T231453_DVR_RTC30_G_gpufed_27F4<\/span><\/p> The date and time would be 07/05/2021 at 23:14:53 UTC.<\/span><\/p> Suggested Use:<\/span><\/p> In this image, water appears in blue, vegetated areas in shades of green and urban areas in bright orange. It is recommended to use this product with ancillary information to derive flooded areas.<\/span><\/p> Satellite/Sensor:<\/span><\/p> Synthetic Aperture Radar on European Space Agency's (ESA) Copernicus Sentinel-1A/B satellite<\/span><\/p> NOTE: Sentinel-1B is no longer acquiring data and is only available into December 2021<\/span><\/p> Resolution:<\/span><\/p> 30 meters<\/span><\/p> Esri REST Endpoint:<\/span><\/p> See direct subsetted information on the link the to the right with WMS options.<\/span><\/p> RGB Product:<\/span><\/p> https://gis.asf.alaska.edu/arcgis/rest/services/ASF_S1/ASF_S1_RGB/ImageServer<\/span><\/p> RTC Product:<\/span><\/p> VV - https://gis.asf.alaska.edu/arcgis/rest/services/ASF_S1/ASF_S1_RTC_VV/ImageServer<\/span><\/p> VH - https://gis.asf.alaska.edu/arcgis/rest/services/ASF_S1/ASF_S1_RTC_VH/ImageServer<\/span><\/p> Surface Water Extent Product:<\/span><\/p> https://gis.asf.alaska.edu/arcgis/rest/services/ASF_S1/ASF_S1_WM/ImageServer<\/span><\/p> Data Download:<\/span><\/p> Data can be downloaded via the Pop-Ups in the Web Map or through each service's attribute table.<\/span><\/p><\/div><\/div>",
"allowCopy": true,
"copyrightText": "NASA/MSFC, USGS, ESA Copernicus. Sentinel data used in this derived product, contains modified Copernicus Sentinel data (2019-2022), processed by ESA, Alaska Satellite Facility.",
"mensurationCapabilities": "None",
"ownershipBasedAccessControlForRasters": null
}