{ "extent": { "ymin": 27.963681835838013, "xmin": -96.583322945389384, "ymax": 30.830073466721636, "xmax": -93.730494592333102, "spatialReference": { "latestWkid": 4326, "wkid": 4326 } }, "blockWidth": 2048, "mosaicOperator": "First", "serviceSourceType": "esriImageServiceSourceTypeMosaicDataset", "hasMultidimensions": false, "maxImageWidth": 15000, "maxRecordCount": 1000, "meanValues": [], "hasColormap": false, "compressionType": "None", "defaultCompressionQuality": 75, "maxValues": [], "hasHistograms": false, "datasetFormat": "AMD", "maxImageHeight": 4100, "sortField": "", "bandNames": [ "Band_1", "Band_2", "Band_3" ], "spatialReference": { "latestWkid": 4326, "wkid": 4326 }, "fullExtent": { "ymin": 27.963681835838013, "xmin": -96.583322945389384, "ymax": 30.830073466721636, "xmax": -93.730494592333102, "spatialReference": { "latestWkid": 4326, "wkid": 4326 } }, "bandCount": 3, "rasterFunctionInfos": [{ "help": "", "name": "None", "description": "" }], "supportsStatistics": true, "sortableFields": "", "minValues": [], "allowRasterFunction": true, "allowComputeTiePoints": false, "serviceDataType": "esriImageServiceDataTypeRGB", "supportsAdvancedQueries": true, "maxDownloadSizeLimit": 2048, "currentVersion": 12, "sortValue": null, "objectIdField": "objectid", "blockHeight": 256, "initialExtent": { "ymin": 27.963681835838013, "xmin": -96.583322945389384, "ymax": 30.830073466721636, "xmax": -93.730494592333102, "spatialReference": { "latestWkid": 4326, "wkid": 4326 } }, "pixelSizeX": 0.000056750116432390724, "pixelSizeY": 0.000056750116432390717, "defaultMosaicMethod": "Northwest", "name": "DISASTERS_202405_FLOOD_TX/2408_iss", "allowedMosaicMethods": "NorthWest,Center,LockRaster,ByAttribute,Nadir,Viewpoint,Seamline,None", "maxDownloadImageCount": 20, "fields": [ { "domain": null, "name": "objectid", "alias": "OBJECTID", "type": "esriFieldTypeOID" }, { "domain": null, "name": "name", "length": 200, "alias": "Name", "type": "esriFieldTypeString" }, { "domain": null, "name": "minps", "alias": "MinPS", "type": "esriFieldTypeDouble" }, { "domain": null, "name": "maxps", "alias": "MaxPS", "type": "esriFieldTypeDouble" }, { "domain": null, "name": "lowps", "alias": "LowPS", "type": "esriFieldTypeDouble" }, { "domain": null, "name": "highps", "alias": "HighPS", "type": "esriFieldTypeDouble" }, { "domain": { "splitPolicy": "esriSPTDefaultValue", "name": "MosaicCatalogItemCategoryDomain", "description": "Catalog item categories.", "type": "codedValue", "codedValues": [ { "code": 0, "name": "Unknown" }, { "code": 1, "name": "Primary" }, { "code": 2, "name": "Overview" }, { "code": 3, "name": "Unprocessed Overview" }, { "code": 4, "name": "Partial Overview" }, { "code": 5, "name": "Inactive" }, { "code": 253, "name": "Uploaded" }, { "code": 254, "name": "Incomplete" }, { "code": 255, "name": "Custom" } ], "mergePolicy": "esriMPTDefaultValue" }, "name": "category", "alias": "Category", "type": "esriFieldTypeInteger" }, { "domain": null, "name": "tag", "length": 100, "alias": "Tag", "type": "esriFieldTypeString" }, { "domain": null, "name": "groupname", "length": 100, "alias": "GroupName", "type": "esriFieldTypeString" }, { "domain": null, "name": "productname", "length": 100, "alias": "ProductName", "type": "esriFieldTypeString" }, { "domain": null, "name": "centerx", "alias": "CenterX", "type": "esriFieldTypeDouble" }, { "domain": null, "name": "centery", "alias": "CenterY", "type": "esriFieldTypeDouble" }, { "domain": null, "name": "zorder", "alias": "ZOrder", "type": "esriFieldTypeInteger" }, { "domain": null, "name": "date", "alias": "Date", "type": "esriFieldTypeDateOnly" }, { "domain": null, "name": "shape", "alias": "Shape", "type": "esriFieldTypeGeometry" } ], "allowAnalysis": true, "hasRasterAttributeTable": false, "useStandardizedQueries": true, "description": "
Date of Images:<\/span><\/p> 05/18/2024<\/span><\/p> <\/span><\/p> Summary:<\/span><\/p> The visible-wavelength true color RGB digital camera images were taken by astronauts on board the International Space Station showing flooding in southeastern Texas. These images were manually georeferenced by members of the Earth Science and Remote Sensing Unit at NASA Johnson Space Center.<\/span><\/p> <\/span><\/p> Suggested Use:<\/span><\/p> This image provides regional context, and may be useful for visualization of the ongoing event. Higher spatial resolution images may be suitable for spatial analysis to support decision making or research applications.<\/span><\/p> <\/span><\/p> Sensor:<\/span><\/p> Nikon Z9 Electronic Still Camera.<\/span><\/p> Additional Information <\/span><\/a>about the astronaut photography from the ISS.<\/span><\/p> <\/span><\/p> Credits:<\/span><\/p> International Space Station Program, NASA Johnson Space Center Earth Science and Remote Sensing Unit, ARES Division, Exploration Architecture, Integration & Science Directorate<\/span><\/p> <\/span><\/p> Data Download:<\/span><\/p> Full datasets are available for download at the <\/span>Gateway to Astronaut Photography of Earth<\/span><\/a>.<\/span><\/p> <\/span><\/p> Service URL:<\/span><\/p> https://gis.earthdata.nasa.gov/portal/home/item.html?id=c9bb2094473649b2a3802305f4fc8eb1<\/a><\/p> WMS Endpoint:<\/span><\/p> https://gis.earthdata.nasa.gov/portal/services/DISASTERS_202405_FLOOD_TX/ISS/ImageServer/WMSServer<\/a><\/p> Date of Images:<\/span><\/p> 05/18/2024<\/span><\/p> <\/span><\/p> Summary:<\/span><\/p> The visible-wavelength true color RGB digital camera images were taken by astronauts on board the International Space Station showing flooding in southeastern Texas. These images were manually georeferenced by members of the Earth Science and Remote Sensing Unit at NASA Johnson Space Center.<\/span><\/p> <\/span><\/p> Suggested Use:<\/span><\/p> This image provides regional context, and may be useful for visualization of the ongoing event. Higher spatial resolution images may be suitable for spatial analysis to support decision making or research applications.<\/span><\/p> <\/span><\/p> Sensor:<\/span><\/p> Nikon Z9 Electronic Still Camera.<\/span><\/p> Additional Information <\/span><\/a>about the astronaut photography from the ISS.<\/span><\/p> <\/span><\/p> Credits:<\/span><\/p> International Space Station Program, NASA Johnson Space Center Earth Science and Remote Sensing Unit, ARES Division, Exploration Architecture, Integration & Science Directorate<\/span><\/p> <\/span><\/p> Data Download:<\/span><\/p> Full datasets are available for download at the <\/span>Gateway to Astronaut Photography of Earth<\/span><\/a>.<\/span><\/p> <\/span><\/p> Service URL:<\/span><\/p> https://gis.earthdata.nasa.gov/portal/home/item.html?id=c9bb2094473649b2a3802305f4fc8eb1<\/a><\/p>
<\/p><\/div><\/div><\/div>",
"pixelType": "U8",
"meanPixelSize": 6.3173940637127215,
"exportTilesAllowed": false,
"editFieldsInfo": null,
"rasterTypeInfos": [{
"help": "",
"name": "Raster Dataset",
"description": "Supports all ArcGIS Raster Datasets"
}],
"defaultResamplingMethod": "Bilinear",
"itemAccess": false,
"minScale": 0,
"serviceProperties": "