{ "extent": { "ymin": 29.726119554087877, "xmin": -95.816614074999961, "ymax": 31.071167029000037, "xmax": -94.618306401748725, "spatialReference": { "latestWkid": 4326, "wkid": 4326 } }, "blockWidth": 2048, "mosaicOperator": "First", "serviceSourceType": "esriImageServiceSourceTypeMosaicDataset", "hasMultidimensions": false, "maxImageWidth": 15000, "maxRecordCount": 1000, "meanValues": [], "hasColormap": false, "compressionType": "None", "defaultCompressionQuality": 75, "maxValues": [], "hasHistograms": false, "datasetFormat": "AMD", "maxImageHeight": 4100, "sortField": "", "bandNames": ["Band_1"], "spatialReference": { "latestWkid": 4326, "wkid": 4326 }, "fullExtent": { "ymin": 29.726119554087877, "xmin": -95.816614074999961, "ymax": 31.071167029000037, "xmax": -94.618306401748725, "spatialReference": { "latestWkid": 4326, "wkid": 4326 } }, "bandCount": 1, "rasterFunctionInfos": [{ "help": "", "name": "None", "description": "" }], "supportsStatistics": true, "sortableFields": "", "minValues": [], "allowRasterFunction": true, "allowComputeTiePoints": false, "serviceDataType": "esriImageServiceDataTypeGeneric", "supportsAdvancedQueries": true, "maxDownloadSizeLimit": 2048, "currentVersion": 12, "sortValue": null, "objectIdField": "objectid", "blockHeight": 256, "initialExtent": { "ymin": 29.726119554087877, "xmin": -95.816614074999961, "ymax": 31.071167029000037, "xmax": -94.618306401748725, "spatialReference": { "latestWkid": 4326, "wkid": 4326 } }, "pixelSizeX": 0.000026949458523585649, "pixelSizeY": 0.000026949458523585663, "defaultMosaicMethod": "Northwest", "name": "DISASTERS_202405_FLOOD_TX/2408_planet_water", "allowedMosaicMethods": "NorthWest,Center,LockRaster,ByAttribute,Nadir,Viewpoint,Seamline,None", "maxDownloadImageCount": 20, "fields": [ { "domain": null, "name": "objectid", "alias": "OBJECTID", "type": "esriFieldTypeOID" }, { "domain": null, "name": "name", "length": 200, "alias": "Name", "type": "esriFieldTypeString" }, { "domain": null, "name": "minps", "alias": "MinPS", "type": "esriFieldTypeDouble" }, { "domain": null, "name": "maxps", "alias": "MaxPS", "type": "esriFieldTypeDouble" }, { "domain": null, "name": "lowps", "alias": "LowPS", "type": "esriFieldTypeDouble" }, { "domain": null, "name": "highps", "alias": "HighPS", "type": "esriFieldTypeDouble" }, { "domain": { "splitPolicy": "esriSPTDefaultValue", "name": "MosaicCatalogItemCategoryDomain", "description": "Catalog item categories.", "type": "codedValue", "codedValues": [ { "code": 0, "name": "Unknown" }, { "code": 1, "name": "Primary" }, { "code": 2, "name": "Overview" }, { "code": 3, "name": "Unprocessed Overview" }, { "code": 4, "name": "Partial Overview" }, { "code": 5, "name": "Inactive" }, { "code": 253, "name": "Uploaded" }, { "code": 254, "name": "Incomplete" }, { "code": 255, "name": "Custom" } ], "mergePolicy": "esriMPTDefaultValue" }, "name": "category", "alias": "Category", "type": "esriFieldTypeInteger" }, { "domain": null, "name": "tag", "length": 100, "alias": "Tag", "type": "esriFieldTypeString" }, { "domain": null, "name": "groupname", "length": 100, "alias": "GroupName", "type": "esriFieldTypeString" }, { "domain": null, "name": "productname", "length": 100, "alias": "ProductName", "type": "esriFieldTypeString" }, { "domain": null, "name": "centerx", "alias": "CenterX", "type": "esriFieldTypeDouble" }, { "domain": null, "name": "centery", "alias": "CenterY", "type": "esriFieldTypeDouble" }, { "domain": null, "name": "zorder", "alias": "ZOrder", "type": "esriFieldTypeInteger" }, { "domain": null, "name": "date", "alias": "Date", "type": "esriFieldTypeDateOnly" }, { "domain": null, "name": "shape", "alias": "Shape", "type": "esriFieldTypeGeometry" } ], "allowAnalysis": true, "hasRasterAttributeTable": false, "useStandardizedQueries": true, "description": "
Date of Images:<\/span><\/p> 5/5/2024<\/span><\/p> <\/p> Date of Next Image:<\/span><\/p> N/A<\/span><\/p> <\/p> Summary:<\/span><\/p> Scientists at NASA's Marshall Space Flight Center created these water extents on May 5, 2024 using PlanetScope imagery. These images can be used to see where open water is visible at the time of the satellite overpass. This product shows all water detected and differentiates between normal water areas and some flooded areas. This product was classified using WorldCover.<\/span><\/p> It's important to note that all flooded areas may not be captured due to the sensors limitations of not being able to \"see\" through vegetation and buildings. To determine where additional flooding may have occurred, combine this layer with other data sets.<\/span><\/p> <\/p> Suggested Use:<\/span><\/p> This product shows water that is detected by the sensor with different colors indicating different land cover/land use classifications from WorldCover that appear to have water and are potentially flooded.<\/span><\/p> <\/p> Blue (1): Known Water<\/span><\/p> Red (2): Flooded Developed<\/span><\/p> Green (3): Flooded Vegetation<\/span><\/p> Orange (4): Flooded Cropland/Grassland<\/span><\/p> Gray (5): Clouds/Cloud Shadow<\/span><\/p> (0): No Data<\/span><\/p> <\/p> Satellite/Sensor:<\/span><\/p> PlanetScope<\/span><\/p> <\/p> Resolution:<\/span><\/p> 3 meters<\/span><\/p> <\/p> Credits:<\/span><\/p> NASA Disasters Program, Includes copyrighted material of Planet Labs PBC. All rights reserved.<\/span><\/p> <\/p> Service URL:<\/span><\/p> WMS Endpoint:<\/span><\/p><\/div><\/div><\/div><\/p>",
"pixelType": "U8",
"meanPixelSize": 3.0000000000000013,
"exportTilesAllowed": false,
"editFieldsInfo": null,
"rasterTypeInfos": [{
"help": "",
"name": "Raster Dataset",
"description": "Supports all ArcGIS Raster Datasets"
}],
"defaultResamplingMethod": "Bilinear",
"itemAccess": false,
"minScale": 0,
"serviceProperties": " Date of Images:<\/span><\/p> 5/5/2024<\/span><\/p> <\/p> Date of Next Image:<\/span><\/p> N/A<\/span><\/p> <\/p> Summary:<\/span><\/p> Scientists at NASA's Marshall Space Flight Center created these water extents on May 5, 2024 using PlanetScope imagery. These images can be used to see where open water is visible at the time of the satellite overpass. This product shows all water detected and differentiates between normal water areas and some flooded areas. This product was classified using WorldCover.<\/span><\/p> It's important to note that all flooded areas may not be captured due to the sensors limitations of not being able to \"see\" through vegetation and buildings. To determine where additional flooding may have occurred, combine this layer with other data sets.<\/span><\/p> <\/p> Suggested Use:<\/span><\/p> This product shows water that is detected by the sensor with different colors indicating different land cover/land use classifications from WorldCover that appear to have water and are potentially flooded.<\/span><\/p> <\/p> Blue (1): Known Water<\/span><\/p> Red (2): Flooded Developed<\/span><\/p> Green (3): Flooded Vegetation<\/span><\/p> Orange (4): Flooded Cropland/Grassland<\/span><\/p> Gray (5): Clouds/Cloud Shadow<\/span><\/p> (0): No Data<\/span><\/p> <\/p> Satellite/Sensor:<\/span><\/p> PlanetScope<\/span><\/p> <\/p> Resolution:<\/span><\/p> 3 meters<\/span><\/p> <\/p> Credits:<\/span><\/p> NASA Disasters Program, Includes copyrighted material of Planet Labs PBC. All rights reserved.<\/span><\/p> <\/p> Service URL:<\/span><\/p> WMS Endpoint:<\/span><\/p><\/div><\/div><\/div><\/p>",
"allowCopy": true,
"copyrightText": "NASA Disasters Program, Includes copyrighted material of Planet Labs PBC. All rights reserved.",
"mensurationCapabilities": "Basic",
"ownershipBasedAccessControlForRasters": null
}