{ "extent": { "ymin": 27.932507589428951, "xmin": -97.990769855999986, "ymax": 33.018409402000032, "xmax": -94.37217622850973, "spatialReference": { "latestWkid": 4326, "wkid": 4326 } }, "blockWidth": 2048, "mosaicOperator": "First", "serviceSourceType": "esriImageServiceSourceTypeMosaicDataset", "hasMultidimensions": false, "maxImageWidth": 15000, "maxRecordCount": 1000, "meanValues": [], "hasColormap": false, "compressionType": "None", "defaultCompressionQuality": 75, "maxValues": [], "hasHistograms": false, "datasetFormat": "AMD", "maxImageHeight": 4100, "sortField": "", "bandNames": ["Band_1"], "spatialReference": { "latestWkid": 4326, "wkid": 4326 }, "fullExtent": { "ymin": 27.932507589428951, "xmin": -97.990769855999986, "ymax": 33.018409402000032, "xmax": -94.37217622850973, "spatialReference": { "latestWkid": 4326, "wkid": 4326 } }, "bandCount": 1, "rasterFunctionInfos": [{ "help": "", "name": "None", "description": "" }], "supportsStatistics": true, "sortableFields": "", "minValues": [], "allowRasterFunction": true, "allowComputeTiePoints": false, "serviceDataType": "esriImageServiceDataTypeGeneric", "supportsAdvancedQueries": true, "maxDownloadSizeLimit": 2048, "currentVersion": 12, "sortValue": null, "objectIdField": "objectid", "blockHeight": 256, "initialExtent": { "ymin": 27.932507589428951, "xmin": -97.990769855999986, "ymax": 33.018409402000032, "xmax": -94.37217622850973, "spatialReference": { "latestWkid": 4326, "wkid": 4326 } }, "pixelSizeX": 0.00017966305682390427, "pixelSizeY": 0.00017966305682390422, "defaultMosaicMethod": "Northwest", "name": "DISASTERS_202405_FLOOD_TX/2408_sentinel1_water", "allowedMosaicMethods": "NorthWest,Center,LockRaster,ByAttribute,Nadir,Viewpoint,Seamline,None", "maxDownloadImageCount": 20, "fields": [ { "domain": null, "name": "objectid", "alias": "OBJECTID", "type": "esriFieldTypeOID" }, { "domain": null, "name": "name", "length": 200, "alias": "Name", "type": "esriFieldTypeString" }, { "domain": null, "name": "minps", "alias": "MinPS", "type": "esriFieldTypeDouble" }, { "domain": null, "name": "maxps", "alias": "MaxPS", "type": "esriFieldTypeDouble" }, { "domain": null, "name": "lowps", "alias": "LowPS", "type": "esriFieldTypeDouble" }, { "domain": null, "name": "highps", "alias": "HighPS", "type": "esriFieldTypeDouble" }, { "domain": { "splitPolicy": "esriSPTDefaultValue", "name": "MosaicCatalogItemCategoryDomain", "description": "Catalog item categories.", "type": "codedValue", "codedValues": [ { "code": 0, "name": "Unknown" }, { "code": 1, "name": "Primary" }, { "code": 2, "name": "Overview" }, { "code": 3, "name": "Unprocessed Overview" }, { "code": 4, "name": "Partial Overview" }, { "code": 5, "name": "Inactive" }, { "code": 253, "name": "Uploaded" }, { "code": 254, "name": "Incomplete" }, { "code": 255, "name": "Custom" } ], "mergePolicy": "esriMPTDefaultValue" }, "name": "category", "alias": "Category", "type": "esriFieldTypeInteger" }, { "domain": null, "name": "tag", "length": 100, "alias": "Tag", "type": "esriFieldTypeString" }, { "domain": null, "name": "groupname", "length": 100, "alias": "GroupName", "type": "esriFieldTypeString" }, { "domain": null, "name": "productname", "length": 100, "alias": "ProductName", "type": "esriFieldTypeString" }, { "domain": null, "name": "centerx", "alias": "CenterX", "type": "esriFieldTypeDouble" }, { "domain": null, "name": "centery", "alias": "CenterY", "type": "esriFieldTypeDouble" }, { "domain": null, "name": "zorder", "alias": "ZOrder", "type": "esriFieldTypeInteger" }, { "domain": null, "name": "date", "alias": "Date", "type": "esriFieldTypeDateOnly" }, { "domain": null, "name": "shape", "alias": "Shape", "type": "esriFieldTypeGeometry" } ], "allowAnalysis": true, "hasRasterAttributeTable": false, "useStandardizedQueries": true, "description": "
Dates of Images:<\/span><\/p> 4/30/2024, 5/7/2024, 5/12/2024<\/span><\/p> <\/p> Date of Next Image:<\/span><\/p> Varies by region, typically 12 days since previous pass.<\/span><\/p> <\/p> Summary:<\/span><\/p> The Alaska Satellite Facility has developed surface water extent products of the Sentinel-1A/B Synthetic Aperture Radar (SAR) instrument. These images can be used to see where water is located at the time of the satellite overpass. This product shows all water detected and does not differentiate between normal water and flood water. To determine where flooding may have occurred, combine this layer with a reference water layer.<\/span><\/p> The water extent difference maps shown here were created by subtracting the water extent of the first date from the water extent of the second date to show what changes, if any, occurred in the water extent.<\/span><\/p> Suggested Use:<\/span><\/p> Water extent difference: <\/span><\/p> Light Blue: Water Present in the Second Date Only<\/span><\/p><\/li> Dark Blue: Water Present in Both Dates<\/span><\/p><\/li> Orange: Water Present in the First Date Only<\/span><\/p><\/li><\/ul> Satellite/Sensor:<\/span><\/p> Synthetic Aperture Radar on European Space Agency's (ESA) Copernicus Sentinel-1A satellite<\/span><\/p> <\/p> Resolution:<\/span><\/p> 30 meters<\/span><\/p> <\/p> Service URL:<\/span><\/p> <\/p> WMS Endpoint:<\/span><\/p><\/div><\/div><\/div><\/p>",
"pixelType": "U8",
"meanPixelSize": 19.999999999999993,
"exportTilesAllowed": false,
"editFieldsInfo": null,
"rasterTypeInfos": [{
"help": "",
"name": "Raster Dataset",
"description": "Supports all ArcGIS Raster Datasets"
}],
"defaultResamplingMethod": "Bilinear",
"itemAccess": false,
"minScale": 0,
"serviceProperties": " Dates of Images:<\/span><\/p> 4/30/2024, 5/7/2024, 5/12/2024<\/span><\/p> <\/p> Date of Next Image:<\/span><\/p> Varies by region, typically 12 days since previous pass.<\/span><\/p> <\/p> Summary:<\/span><\/p> The Alaska Satellite Facility has developed surface water extent products of the Sentinel-1A/B Synthetic Aperture Radar (SAR) instrument. These images can be used to see where water is located at the time of the satellite overpass. This product shows all water detected and does not differentiate between normal water and flood water. To determine where flooding may have occurred, combine this layer with a reference water layer.<\/span><\/p> The water extent difference maps shown here were created by subtracting the water extent of the first date from the water extent of the second date to show what changes, if any, occurred in the water extent.<\/span><\/p> Suggested Use:<\/span><\/p> Water extent difference: <\/span><\/p> Light Blue: Water Present in the Second Date Only<\/span><\/p><\/li> Dark Blue: Water Present in Both Dates<\/span><\/p><\/li> Orange: Water Present in the First Date Only<\/span><\/p><\/li><\/ul> Satellite/Sensor:<\/span><\/p> Synthetic Aperture Radar on European Space Agency's (ESA) Copernicus Sentinel-1A satellite<\/span><\/p> <\/p> Resolution:<\/span><\/p> 30 meters<\/span><\/p> <\/p> Service URL:<\/span><\/p> <\/p> WMS Endpoint:<\/span><\/p><\/div><\/div><\/div><\/p>",
"allowCopy": true,
"copyrightText": "NASA/MSFC, USGS, ESA Copernicus. Sentinel data used in this derived product, contains modified Copernicus Sentinel data (2019-2022), processed by ESA, Alaska Satellite Facility.",
"mensurationCapabilities": "Basic",
"ownershipBasedAccessControlForRasters": null
}