{ "extent": { "ymin": 4157803.0414000005, "xmin": -9251674.0447000004, "ymax": 4464103.0414000005, "xmax": -8922824.0447000004, "spatialReference": { "latestWkid": 3857, "wkid": 102100 } }, "blockWidth": 2048, "mosaicOperator": "First", "serviceSourceType": "esriImageServiceSourceTypeMosaicDataset", "hasMultidimensions": false, "maxImageWidth": 15000, "maxRecordCount": 1000, "meanValues": [0.0000089925909219032417], "hasColormap": false, "compressionType": "None", "defaultCompressionQuality": 75, "maxValues": [0.00016061513451859355], "hasHistograms": true, "datasetFormat": "AMD", "maxImageHeight": 4100, "sortField": "", "bandNames": ["Band_1"], "spatialReference": { "latestWkid": 3857, "wkid": 102100 }, "fullExtent": { "ymin": 4157803.0414000005, "xmin": -9251674.0447000004, "ymax": 4464103.0414000005, "xmax": -8922824.0447000004, "spatialReference": { "latestWkid": 3857, "wkid": 102100 } }, "bandCount": 1, "rasterFunctionInfos": [ { "help": "", "name": "ls_proxyheatmap", "description": "A raster function templatahelene landslide proxye." }, { "help": "", "name": "None", "description": "Make a Raster or Raster Dataset into a Function Raster Dataset." } ], "supportsStatistics": true, "sortableFields": "MinPS,MaxPS,LowPS,HighPS,CenterX,CenterY,ZOrder,Shape_Length,Shape_Area", "minValues": [0], "allowRasterFunction": true, "allowComputeTiePoints": false, "serviceDataType": "esriImageServiceDataTypeGeneric", "supportsAdvancedQueries": true, "maxDownloadSizeLimit": 2048, "currentVersion": 12, "sortValue": null, "objectIdField": "objectid", "blockHeight": 256, "initialExtent": { "ymin": 4157803.0414000005, "xmin": -9251674.0447000004, "ymax": 4464103.0414000005, "xmax": -8922824.0447000004, "spatialReference": { "latestWkid": 3857, "wkid": 102100 } }, "pixelSizeX": 10, "pixelSizeY": 10, "defaultMosaicMethod": "Northwest", "name": "DISASTERS_202409_HURRICANE_HELENE/202409_ls_proxyheatmap", "allowedMosaicMethods": "NorthWest,Center,LockRaster,ByAttribute,Nadir,Viewpoint,Seamline,None", "maxDownloadImageCount": 20, "fields": [ { "domain": null, "name": "objectid", "alias": "OBJECTID", "type": "esriFieldTypeOID" }, { "domain": null, "name": "name", "length": 200, "alias": "Name", "type": "esriFieldTypeString" }, { "domain": null, "name": "minps", "alias": "MinPS", "type": "esriFieldTypeDouble" }, { "domain": null, "name": "maxps", "alias": "MaxPS", "type": "esriFieldTypeDouble" }, { "domain": null, "name": "lowps", "alias": "LowPS", "type": "esriFieldTypeDouble" }, { "domain": null, "name": "highps", "alias": "HighPS", "type": "esriFieldTypeDouble" }, { "domain": { "splitPolicy": "esriSPTDefaultValue", "name": "MosaicCatalogItemCategoryDomain", "description": "Catalog item categories.", "type": "codedValue", "codedValues": [ { "code": 0, "name": "Unknown" }, { "code": 1, "name": "Primary" }, { "code": 2, "name": "Overview" }, { "code": 3, "name": "Unprocessed Overview" }, { "code": 4, "name": "Partial Overview" }, { "code": 5, "name": "Inactive" }, { "code": 253, "name": "Uploaded" }, { "code": 254, "name": "Incomplete" }, { "code": 255, "name": "Custom" } ], "mergePolicy": "esriMPTDefaultValue" }, "name": "category", "alias": "Category", "type": "esriFieldTypeInteger" }, { "domain": null, "name": "tag", "length": 100, "alias": "Tag", "type": "esriFieldTypeString" }, { "domain": null, "name": "groupname", "length": 100, "alias": "GroupName", "type": "esriFieldTypeString" }, { "domain": null, "name": "productname", "length": 100, "alias": "ProductName", "type": "esriFieldTypeString" }, { "domain": null, "name": "centerx", "alias": "CenterX", "type": "esriFieldTypeDouble" }, { "domain": null, "name": "centery", "alias": "CenterY", "type": "esriFieldTypeDouble" }, { "domain": null, "name": "zorder", "alias": "ZOrder", "type": "esriFieldTypeInteger" }, { "domain": null, "name": "shape", "alias": "Shape", "type": "esriFieldTypeGeometry" } ], "allowAnalysis": true, "hasRasterAttributeTable": false, "useStandardizedQueries": true, "description": "
Date of Image:<\/SPAN><\/P> 9/28/2024, 10/3/2024, 10/5/2024, 10/10/2024, 10/15/2024, 10/17/2024<\/SPAN><\/P> Date of Next Image:<\/SPAN><\/P> Unknown<\/SPAN><\/P> Summary:<\/SPAN><\/P> NASA used a Sentinel-1 SAR backscatter change approach developed in GEE (Handwerger et al., 2022) to detect areas with high landslide density. This approach detects potential landslides by calculating the change in the backscatter coefficient before and after the triggering event using the log ratio approach. False positives such as backscatter change due to flooding, agriculture, and more, are removed by using threshold-based masks made from the topographic slope from the 1\u2009arcsec (∼30\u2009m) resolution NASADEM (NASA JPL, 2020). Using stacks of SAR data reduces noise, and furthermore, the pre-event stack provides backscatter data that is more representative of the pre-event ground surface properties. Finally, to detect landslide areas, the backscatter change raster was thresholded using the 99th percentile to highlight strong signals, and the heatmap was calculated.<\/SPAN><\/P> Pre-event time frame: 2024-01-10 to 2024-09-26<\/SPAN><\/P> Post-event time frame: 2024-09-28 to 2024-10-17<\/SPAN><\/P> This map should be used as a guidance to identify areas likely affected by landslides. This is a rapid response product. We have not done any form of manual corrections to remove false positives.<\/SPAN><\/P> Suggested Use:<\/SPAN><\/P> The red and yellow areas indicate potential zones of dense landsliding.<\/SPAN><\/P> Disclaimer: not verified in field and optical imagery has clouds preventing verification.<\/SPAN><\/P> Satellite/Sensor:<\/SPAN><\/P> Copernicus Sentinel-1 Synthetic Aperture Radar (SAR)<\/SPAN><\/P> Resolution:<\/SPAN><\/P> 10 meters<\/SPAN><\/P> Credits:<\/SPAN><\/P> NASA GSFC Landslides Team, Copernicus Sentinel-1 data<\/SPAN><\/P> Handwerger Al, Huang M-H, Jones SY, Amatya P, Kerner HR, Kirschbaum DB. 2022. Generating landslide density heatmaps for rapid detection using open-access satellite radar data in Google Earth Engine. Nat. Hazards Earth Syst. Sci. Copernicus Publications, 22(3): 753\u2013773. https://doi.org/10.5194/nhess-22-753-2022.<\/SPAN><\/P> Esri REST Endpoint:<\/SPAN><\/P> See URL section on right side of page<\/SPAN><\/P><\/DIV>",
"pixelType": "F32",
"meanPixelSize": 10,
"exportTilesAllowed": false,
"editFieldsInfo": null,
"rasterTypeInfos": [{
"help": "",
"name": "Raster Dataset",
"description": "Supports all ArcGIS Raster Datasets"
}],
"defaultResamplingMethod": "Nearest",
"itemAccess": false,
"minScale": 0,
"serviceProperties": " Date of Image:<\/SPAN><\/P> 9/28/2024, 10/3/2024, 10/5/2024, 10/10/2024, 10/15/2024, 10/17/2024<\/SPAN><\/P> Date of Next Image:<\/SPAN><\/P> Unknown<\/SPAN><\/P> Summary:<\/SPAN><\/P> NASA used a Sentinel-1 SAR backscatter change approach developed in GEE (Handwerger et al., 2022) to detect areas with high landslide density. This approach detects potential landslides by calculating the change in the backscatter coefficient before and after the triggering event using the log ratio approach. False positives such as backscatter change due to flooding, agriculture, and more, are removed by using threshold-based masks made from the topographic slope from the 1\u2009arcsec (∼30\u2009m) resolution NASADEM (NASA JPL, 2020). Using stacks of SAR data reduces noise, and furthermore, the pre-event stack provides backscatter data that is more representative of the pre-event ground surface properties. Finally, to detect landslide areas, the backscatter change raster was thresholded using the 99th percentile to highlight strong signals, and the heatmap was calculated.<\/SPAN><\/P> Pre-event time frame: 2024-01-10 to 2024-09-26<\/SPAN><\/P> Post-event time frame: 2024-09-28 to 2024-10-17<\/SPAN><\/P> This map should be used as a guidance to identify areas likely affected by landslides. This is a rapid response product. We have not done any form of manual corrections to remove false positives.<\/SPAN><\/P> Suggested Use:<\/SPAN><\/P> The red and yellow areas indicate potential zones of dense landsliding.<\/SPAN><\/P> Disclaimer: not verified in field and optical imagery has clouds preventing verification.<\/SPAN><\/P> Satellite/Sensor:<\/SPAN><\/P> Copernicus Sentinel-1 Synthetic Aperture Radar (SAR)<\/SPAN><\/P> Resolution:<\/SPAN><\/P> 10 meters<\/SPAN><\/P> Credits:<\/SPAN><\/P> NASA GSFC Landslides Team, Copernicus Sentinel-1 data<\/SPAN><\/P> Handwerger Al, Huang M-H, Jones SY, Amatya P, Kerner HR, Kirschbaum DB. 2022. Generating landslide density heatmaps for rapid detection using open-access satellite radar data in Google Earth Engine. Nat. Hazards Earth Syst. Sci. Copernicus Publications, 22(3): 753\u2013773. https://doi.org/10.5194/nhess-22-753-2022.<\/SPAN><\/P> Esri REST Endpoint:<\/SPAN><\/P> See URL section on right side of page<\/SPAN><\/P><\/DIV>",
"allowCopy": true,
"copyrightText": "NASA GSFC landslides team, Copernicus Sentinel-1 data. Citation: https://doi.org/10.5194/nhess-22-753-2022. NASA GSFC landslides team, NASA GSFC Data Science group",
"mensurationCapabilities": "None",
"ownershipBasedAccessControlForRasters": null
}