{
 "extent": {
  "ymin": 3381944.8504026849,
  "xmin": -9979792.3496000003,
  "ymax": 4621301.8479000032,
  "xmax": -8937099.7858372871,
  "spatialReference": {
   "latestWkid": 3857,
   "wkid": 102100
  }
 },
 "blockWidth": 2048,
 "mosaicOperator": "First",
 "serviceSourceType": "esriImageServiceSourceTypeMosaicDataset",
 "hasMultidimensions": false,
 "maxImageWidth": 15000,
 "maxRecordCount": 1000,
 "meanValues": [
  0.31380472107169044
 ],
 "hasColormap": false,
 "compressionType": "None",
 "defaultCompressionQuality": 75,
 "maxValues": [
  1
 ],
 "hasHistograms": true,
 "datasetFormat": "AMD",
 "maxImageHeight": 4100,
 "sortField": "",
 "bandNames": [
  "Band_1"
 ],
 "spatialReference": {
  "latestWkid": 3857,
  "wkid": 102100
 },
 "fullExtent": {
  "ymin": 3381944.8504026849,
  "xmin": -9979792.3496000003,
  "ymax": 4621301.8479000032,
  "xmax": -8937099.7858372871,
  "spatialReference": {
   "latestWkid": 3857,
   "wkid": 102100
  }
 },
 "bandCount": 1,
 "rasterFunctionInfos": [
  {
   "help": "",
   "name": "None",
   "description": ""
  }
 ],
 "supportsStatistics": true,
 "sortableFields": "MinPS,MaxPS,LowPS,HighPS,CenterX,CenterY,ZOrder,Shape_Length,Shape_Area,Date",
 "minValues": [
  1.9040136578496458E-7
 ],
 "allowRasterFunction": true,
 "allowComputeTiePoints": false,
 "serviceDataType": "esriImageServiceDataTypeGeneric",
 "supportsAdvancedQueries": true,
 "maxDownloadSizeLimit": 2048,
 "currentVersion": 12,
 "sortValue": null,
 "objectIdField": "objectid",
 "blockHeight": 256,
 "initialExtent": {
  "ymin": 3381944.8504026849,
  "xmin": -9979792.3496000003,
  "ymax": 4621301.8479000032,
  "xmax": -8937099.7858372871,
  "spatialReference": {
   "latestWkid": 3857,
   "wkid": 102100
  }
 },
 "pixelSizeX": 463.83121163821761,
 "pixelSizeY": 463.83121163821795,
 "defaultMosaicMethod": "Northwest",
 "name": "DISASTERS_202409_HURRICANE_HELENE/202427_brdf_powerlossproxy",
 "allowedMosaicMethods": "NorthWest,Center,LockRaster,ByAttribute,Nadir,Viewpoint,Seamline,None",
 "maxDownloadImageCount": 20,
 "fields": [
  {
   "domain": null,
   "name": "objectid",
   "alias": "OBJECTID",
   "type": "esriFieldTypeOID"
  },
  {
   "domain": null,
   "name": "name",
   "length": 200,
   "alias": "Name",
   "type": "esriFieldTypeString"
  },
  {
   "domain": null,
   "name": "minps",
   "alias": "MinPS",
   "type": "esriFieldTypeDouble"
  },
  {
   "domain": null,
   "name": "maxps",
   "alias": "MaxPS",
   "type": "esriFieldTypeDouble"
  },
  {
   "domain": null,
   "name": "lowps",
   "alias": "LowPS",
   "type": "esriFieldTypeDouble"
  },
  {
   "domain": null,
   "name": "highps",
   "alias": "HighPS",
   "type": "esriFieldTypeDouble"
  },
  {
   "domain": {
    "splitPolicy": "esriSPTDefaultValue",
    "name": "MosaicCatalogItemCategoryDomain",
    "description": "Catalog item categories.",
    "type": "codedValue",
    "codedValues": [
     {
      "code": 0,
      "name": "Unknown"
     },
     {
      "code": 1,
      "name": "Primary"
     },
     {
      "code": 2,
      "name": "Overview"
     },
     {
      "code": 3,
      "name": "Unprocessed Overview"
     },
     {
      "code": 4,
      "name": "Partial Overview"
     },
     {
      "code": 5,
      "name": "Inactive"
     },
     {
      "code": 253,
      "name": "Uploaded"
     },
     {
      "code": 254,
      "name": "Incomplete"
     },
     {
      "code": 255,
      "name": "Custom"
     }
    ],
    "mergePolicy": "esriMPTDefaultValue"
   },
   "name": "category",
   "alias": "Category",
   "type": "esriFieldTypeInteger"
  },
  {
   "domain": null,
   "name": "tag",
   "length": 100,
   "alias": "Tag",
   "type": "esriFieldTypeString"
  },
  {
   "domain": null,
   "name": "groupname",
   "length": 100,
   "alias": "GroupName",
   "type": "esriFieldTypeString"
  },
  {
   "domain": null,
   "name": "productname",
   "length": 100,
   "alias": "ProductName",
   "type": "esriFieldTypeString"
  },
  {
   "domain": null,
   "name": "centerx",
   "alias": "CenterX",
   "type": "esriFieldTypeDouble"
  },
  {
   "domain": null,
   "name": "centery",
   "alias": "CenterY",
   "type": "esriFieldTypeDouble"
  },
  {
   "domain": null,
   "name": "zorder",
   "alias": "ZOrder",
   "type": "esriFieldTypeInteger"
  },
  {
   "domain": null,
   "name": "date",
   "length": 8,
   "alias": "Date",
   "type": "esriFieldTypeDate"
  },
  {
   "domain": null,
   "name": "shape",
   "alias": "Shape",
   "type": "esriFieldTypeGeometry"
  }
 ],
 "allowAnalysis": true,
 "hasRasterAttributeTable": false,
 "useStandardizedQueries": true,
 "description": "",
 "pixelType": "F32",
 "meanPixelSize": 463.83121163821778,
 "exportTilesAllowed": false,
 "editFieldsInfo": null,
 "rasterTypeInfos": [
  {
   "help": "",
   "name": "Raster Dataset",
   "description": "Supports all ArcGIS Raster Datasets"
  }
 ],
 "defaultResamplingMethod": "Nearest",
 "itemAccess": false,
 "minScale": 0,
 "serviceProperties": "NorthWest<\/MosaicMethod>First<\/MosaicOperator>true<\/SortAscending><\/LockImageID>Name<\/TileOrderField>0<\/TileOrderBase>600.000000<\/AvgImageSpacingX>300.000000<\/AvgImageSpacingY>0.0<\/ViewPointX>0.0<\/ViewPointY>0.0<\/ViewPointDefShiftX>0.0<\/ViewPointDefShiftY>None<\/CompressionMethod>75<\/CompressionQuality>0.010000<\/CompressionTolerance>Nearest<\/SamplingMethod><\/ImageServiceProperties><\/ImageServer>",
 "advancedQueryCapabilities": {
  "supportsStatistics": true,
  "supportsSqlExpression": true,
  "supportsOrderBy": true,
  "useStandardizedQueries": true,
  "supportsPagination": true,
  "supportsDistinct": true
 },
 "serviceItemId": "de6c4805c93b4c6d9a29e6523d2d38c0",
 "capabilities": "Image,Metadata,Catalog,Mensuration",
 "maxScale": 0,
 "stdvValues": [
  0.23854718488867613
 ],
 "allowedFields": "Name,MinPS,MaxPS,LowPS,HighPS,Tag,GroupName,ProductName,CenterX,CenterY,ZOrder,Shape_Length,Shape_Area,Date",
 "minPixelSize": 0,
 "sortAscending": true,
 "maxMosaicImageCount": 20,
 "inspectionCapabilities": "",
 "maxPixelSize": 0,
 "uncompressedSize": 24026624,
 "serviceDescription": "DISASTERS_202409_HURRICANE_HELENE/202427_brdf_powerlossproxy",
 "allowCopy": true,
 "copyrightText": "",
 "mensurationCapabilities": "Basic",
 "ownershipBasedAccessControlForRasters": null
}
