{ "extent": { "ymin": 3346898.7780999988, "xmin": -9804597.3458999991, "ymax": 4573558.7780999988, "xmax": -8879457.3458999991, "spatialReference": { "latestWkid": 3857, "wkid": 102100 } }, "blockWidth": 2048, "mosaicOperator": "First", "serviceSourceType": "esriImageServiceSourceTypeMosaicDataset", "hasMultidimensions": false, "maxImageWidth": 15000, "maxRecordCount": 1000, "meanValues": [ 81.717681492653924, 165.23116876048536, 58.032986450658605 ], "hasColormap": false, "compressionType": "None", "defaultCompressionQuality": 75, "maxValues": [ 255, 255, 255 ], "hasHistograms": true, "datasetFormat": "AMD", "maxImageHeight": 4100, "sortField": "", "bandNames": [ "Band_1", "Band_2", "Band_3" ], "spatialReference": { "latestWkid": 3857, "wkid": 102100 }, "fullExtent": { "ymin": 3346898.7780999988, "xmin": -9804597.3458999991, "ymax": 4573558.7780999988, "xmax": -8879457.3458999991, "spatialReference": { "latestWkid": 3857, "wkid": 102100 } }, "bandCount": 3, "rasterFunctionInfos": [{ "help": "", "name": "None", "description": "" }], "supportsStatistics": true, "sortableFields": "", "minValues": [ 9, 1, 4 ], "allowRasterFunction": true, "allowComputeTiePoints": false, "serviceDataType": "esriImageServiceDataTypeRGB", "supportsAdvancedQueries": true, "maxDownloadSizeLimit": 2048, "currentVersion": 12, "sortValue": null, "objectIdField": "objectid", "blockHeight": 256, "initialExtent": { "ymin": 3346898.7780999988, "xmin": -9804597.3458999991, "ymax": 4573558.7780999988, "xmax": -8879457.3458999991, "spatialReference": { "latestWkid": 3857, "wkid": 102100 } }, "pixelSizeX": 10, "pixelSizeY": 10, "defaultMosaicMethod": "Northwest", "name": "DISASTERS_202409_HURRICANE_HELENE/202427_sentinel2", "allowedMosaicMethods": "NorthWest,Center,LockRaster,ByAttribute,Nadir,Viewpoint,Seamline,None", "maxDownloadImageCount": 20, "fields": [ { "domain": null, "name": "objectid", "alias": "OBJECTID", "type": "esriFieldTypeOID" }, { "domain": null, "name": "name", "length": 200, "alias": "Name", "type": "esriFieldTypeString" }, { "domain": null, "name": "minps", "alias": "MinPS", "type": "esriFieldTypeDouble" }, { "domain": null, "name": "maxps", "alias": "MaxPS", "type": "esriFieldTypeDouble" }, { "domain": null, "name": "lowps", "alias": "LowPS", "type": "esriFieldTypeDouble" }, { "domain": null, "name": "highps", "alias": "HighPS", "type": "esriFieldTypeDouble" }, { "domain": { "splitPolicy": "esriSPTDefaultValue", "name": "MosaicCatalogItemCategoryDomain", "description": "Catalog item categories.", "type": "codedValue", "codedValues": [ { "code": 0, "name": "Unknown" }, { "code": 1, "name": "Primary" }, { "code": 2, "name": "Overview" }, { "code": 3, "name": "Unprocessed Overview" }, { "code": 4, "name": "Partial Overview" }, { "code": 5, "name": "Inactive" }, { "code": 253, "name": "Uploaded" }, { "code": 254, "name": "Incomplete" }, { "code": 255, "name": "Custom" } ], "mergePolicy": "esriMPTDefaultValue" }, "name": "category", "alias": "Category", "type": "esriFieldTypeInteger" }, { "domain": null, "name": "tag", "length": 100, "alias": "Tag", "type": "esriFieldTypeString" }, { "domain": null, "name": "groupname", "length": 100, "alias": "GroupName", "type": "esriFieldTypeString" }, { "domain": null, "name": "productname", "length": 100, "alias": "ProductName", "type": "esriFieldTypeString" }, { "domain": null, "name": "centerx", "alias": "CenterX", "type": "esriFieldTypeDouble" }, { "domain": null, "name": "centery", "alias": "CenterY", "type": "esriFieldTypeDouble" }, { "domain": null, "name": "zorder", "alias": "ZOrder", "type": "esriFieldTypeInteger" }, { "domain": null, "name": "date", "alias": "Date", "type": "esriFieldTypeDateOnly" }, { "domain": null, "name": "shape", "alias": "Shape", "type": "esriFieldTypeGeometry" } ], "allowAnalysis": true, "hasRasterAttributeTable": false, "useStandardizedQueries": true, "description": "
Dates of Images:<\/span><\/p> Post-Event: October 12, October 10, October 7, October 5, October 2, September 27<\/span><\/p> Pre-Event: September 20, September 22<\/span><\/p> Date of Next Image:<\/span><\/p> Unknown<\/span><\/p> Summary:<\/span><\/p> The True Color RGB composite provides a product of how the surface would look to the naked eye from space. The RGB is created using the red, green, and blue channels of the respective instrument.<\/span><\/p> The Short Wave Infrared (SWIR) RGB is a product that is created using the SWIR, NIR, and Red channels of the respective instrument.<\/span><\/p> The Color Infrared composite is created using the near-infrared, red, and green channels. The near-infrared gives the ability to see through thin clouds. Healthy vegetation is shown as red, water is in blue.<\/span><\/p> Suggested Use:<\/span><\/p> The True Color RGB provides a product of how the surface would look to the naked eye from space. The True Color RGB is produced using the 3 visible wavelength bands (red, green, and blue) from the respective sensor. Some minor atmospheric corrections have occurred.<\/span><\/p> The Short Wave Infrared (SWIR) RGB is a product that can provides value in flood detection. Areas of water will appear blue, healthy green vegetation will appear as a bright green, urban areas in various shades of magenta, snow will appear as a bright blue/cyan, and bare soils being multicolor dependent on their makeup. Compare pre-event imagery to post-event imagery to identify potential flooding.<\/span><\/p> A Color Infrared composite depicts healthy vegetation as red, water as blue. Some minor atmospheric corrections have occurred.<\/span><\/p> Satellite/Sensor:<\/span><\/p> MultiSpectral Instrument (MSI) on European Space Agency's (ESA) Copernicus Sentinel-2A/2B satellites<\/span><\/p> Resolution:<\/span><\/p> True Color: 10 meters<\/span><\/p> Credits:<\/span><\/p> NASA/MSFC, USGS, ESA Copernicus<\/span><\/p> Esri REST Endpoint:<\/span><\/p> See URL section on right side of page<\/span><\/p> WMS Endpoint:<\/span><\/p> https://maps.disasters.nasa.gov/ags04/services/hurricane_helene_2024/sentinel2/MapServer/WMSServer<\/span><\/p> Data Download:<\/span><\/p> https://maps.disasters.nasa.gov/download/gis_products/event_specific/2024/hurricane_helene_202409/sentinel2/<\/span><\/p><\/div><\/div><\/div>",
"pixelType": "U8",
"meanPixelSize": 10,
"exportTilesAllowed": false,
"editFieldsInfo": null,
"rasterTypeInfos": [{
"help": "",
"name": "Raster Dataset",
"description": "Supports all ArcGIS Raster Datasets"
}],
"defaultResamplingMethod": "Bilinear",
"itemAccess": false,
"minScale": 0,
"serviceProperties": " Dates of Images:<\/span><\/p> Post-Event: October 12, October 10, October 7, October 5, October 2, September 27<\/span><\/p> Pre-Event: September 20, September 22<\/span><\/p> Date of Next Image:<\/span><\/p> Unknown<\/span><\/p> Summary:<\/span><\/p> The True Color RGB composite provides a product of how the surface would look to the naked eye from space. The RGB is created using the red, green, and blue channels of the respective instrument.<\/span><\/p> The Short Wave Infrared (SWIR) RGB is a product that is created using the SWIR, NIR, and Red channels of the respective instrument.<\/span><\/p> The Color Infrared composite is created using the near-infrared, red, and green channels. The near-infrared gives the ability to see through thin clouds. Healthy vegetation is shown as red, water is in blue.<\/span><\/p> Suggested Use:<\/span><\/p> The True Color RGB provides a product of how the surface would look to the naked eye from space. The True Color RGB is produced using the 3 visible wavelength bands (red, green, and blue) from the respective sensor. Some minor atmospheric corrections have occurred.<\/span><\/p> The Short Wave Infrared (SWIR) RGB is a product that can provides value in flood detection. Areas of water will appear blue, healthy green vegetation will appear as a bright green, urban areas in various shades of magenta, snow will appear as a bright blue/cyan, and bare soils being multicolor dependent on their makeup. Compare pre-event imagery to post-event imagery to identify potential flooding.<\/span><\/p> A Color Infrared composite depicts healthy vegetation as red, water as blue. Some minor atmospheric corrections have occurred.<\/span><\/p> Satellite/Sensor:<\/span><\/p> MultiSpectral Instrument (MSI) on European Space Agency's (ESA) Copernicus Sentinel-2A/2B satellites<\/span><\/p> Resolution:<\/span><\/p> True Color: 10 meters<\/span><\/p> Credits:<\/span><\/p> NASA/MSFC, USGS, ESA Copernicus<\/span><\/p> Esri REST Endpoint:<\/span><\/p> See URL section on right side of page<\/span><\/p> WMS Endpoint:<\/span><\/p> https://maps.disasters.nasa.gov/ags04/services/hurricane_helene_2024/sentinel2/MapServer/WMSServer<\/span><\/p> Data Download:<\/span><\/p> https://maps.disasters.nasa.gov/download/gis_products/event_specific/2024/hurricane_helene_202409/sentinel2/<\/span><\/p><\/div><\/div><\/div>",
"allowCopy": true,
"copyrightText": "NASA/MSFC, USGS, ESA Copernicus",
"mensurationCapabilities": "None",
"ownershipBasedAccessControlForRasters": null
}