{ "extent": { "ymin": 3041521.3747999966, "xmin": -9444562.9627, "ymax": 4655971.3747999966, "xmax": -8853262.9627, "spatialReference": { "latestWkid": 3857, "wkid": 102100 } }, "blockWidth": 2048, "mosaicOperator": "First", "serviceSourceType": "esriImageServiceSourceTypeMosaicDataset", "hasMultidimensions": false, "maxImageWidth": 15000, "maxRecordCount": 1000, "meanValues": [], "hasColormap": false, "compressionType": "None", "defaultCompressionQuality": 75, "maxValues": [], "hasHistograms": false, "datasetFormat": "AMD", "maxImageHeight": 4100, "sortField": "", "bandNames": [ "Band_1", "Band_2", "Band_3" ], "spatialReference": { "latestWkid": 3857, "wkid": 102100 }, "fullExtent": { "ymin": 3041521.3747999966, "xmin": -9444562.9627, "ymax": 4655971.3747999966, "xmax": -8853262.9627, "spatialReference": { "latestWkid": 3857, "wkid": 102100 } }, "bandCount": 3, "rasterFunctionInfos": [{ "help": "", "name": "None", "description": "" }], "supportsStatistics": true, "sortableFields": "", "minValues": [], "allowRasterFunction": true, "allowComputeTiePoints": false, "serviceDataType": "esriImageServiceDataTypeRGB", "supportsAdvancedQueries": true, "maxDownloadSizeLimit": 2048, "currentVersion": 12, "sortValue": null, "objectIdField": "objectid", "blockHeight": 256, "initialExtent": { "ymin": 3041521.3747999966, "xmin": -9444562.9627, "ymax": 4655971.3747999966, "xmax": -8853262.9627, "spatialReference": { "latestWkid": 3857, "wkid": 102100 } }, "pixelSizeX": 30, "pixelSizeY": 30, "defaultMosaicMethod": "Northwest", "name": "DISASTERS_202409_HURRICANE_HELENE/2427_landsat", "allowedMosaicMethods": "NorthWest,Center,LockRaster,ByAttribute,Nadir,Viewpoint,Seamline,None", "maxDownloadImageCount": 20, "fields": [ { "domain": null, "name": "objectid", "alias": "OBJECTID", "type": "esriFieldTypeOID" }, { "domain": null, "name": "name", "length": 200, "alias": "Name", "type": "esriFieldTypeString" }, { "domain": null, "name": "minps", "alias": "MinPS", "type": "esriFieldTypeDouble" }, { "domain": null, "name": "maxps", "alias": "MaxPS", "type": "esriFieldTypeDouble" }, { "domain": null, "name": "lowps", "alias": "LowPS", "type": "esriFieldTypeDouble" }, { "domain": null, "name": "highps", "alias": "HighPS", "type": "esriFieldTypeDouble" }, { "domain": { "splitPolicy": "esriSPTDefaultValue", "name": "MosaicCatalogItemCategoryDomain", "description": "Catalog item categories.", "type": "codedValue", "codedValues": [ { "code": 0, "name": "Unknown" }, { "code": 1, "name": "Primary" }, { "code": 2, "name": "Overview" }, { "code": 3, "name": "Unprocessed Overview" }, { "code": 4, "name": "Partial Overview" }, { "code": 5, "name": "Inactive" }, { "code": 253, "name": "Uploaded" }, { "code": 254, "name": "Incomplete" }, { "code": 255, "name": "Custom" } ], "mergePolicy": "esriMPTDefaultValue" }, "name": "category", "alias": "Category", "type": "esriFieldTypeInteger" }, { "domain": null, "name": "tag", "length": 100, "alias": "Tag", "type": "esriFieldTypeString" }, { "domain": null, "name": "groupname", "length": 100, "alias": "GroupName", "type": "esriFieldTypeString" }, { "domain": null, "name": "productname", "length": 100, "alias": "ProductName", "type": "esriFieldTypeString" }, { "domain": null, "name": "centerx", "alias": "CenterX", "type": "esriFieldTypeDouble" }, { "domain": null, "name": "centery", "alias": "CenterY", "type": "esriFieldTypeDouble" }, { "domain": null, "name": "zorder", "alias": "ZOrder", "type": "esriFieldTypeInteger" }, { "domain": null, "name": "date", "alias": "Date", "type": "esriFieldTypeDateOnly" }, { "domain": null, "name": "shape", "alias": "Shape", "type": "esriFieldTypeGeometry" } ], "allowAnalysis": true, "hasRasterAttributeTable": false, "useStandardizedQueries": true, "description": "
Dates of Images:<\/span><\/p> Post-Event: 10/1/2024 (Landsat 8), 10/2/2024 (Landsat 9), 10/9/2024 (Landsat 9)<\/span><\/p> Pre-Event: 8/30/2024 (Landsat 8)<\/span><\/p> Date of Next Image:<\/span><\/p> Unknown<\/span><\/p> Summary:<\/span><\/p> Natural Color: <\/span>The Natural Color RGB provides a false composite look at the surface. This RGB uses a shortwave, the near-infrared, and red channels from the instrument.<\/span><\/p> Color Infrared: <\/span>The Color Infrared composite is created using the near-infrared, red, and green channels, allowing for the ability to see areas impacted from the fires. The near-infrared gives the ability to see through thin clouds. Healthy vegetation is shown as red, water is in blue.<\/span><\/p> True Color: <\/span>The True Color RGB composite provides a product of how the surface would look to the naked eye from space. The RGB is created using the red, green, and blue channels of the respective instrument.<\/span><\/p> Suggested Use:<\/span><\/p> Natural Color: <\/span>areas of water will appear blue, healthy green vegetation will appear as a bright green, urban areas in various shades of magenta.<\/span><\/p> Color Infrared: <\/span>depicts healthy vegetation as red, water as blue. Some minor atmospheric corrections have occurred.<\/span><\/p> True Color: <\/span>provides a product of how the surface would look to the naked eye from space. The True Color RGB is produced using the 3 visible wavelength bands (red, green, and blue) from the respective sensor. Some minor atmospheric corrections have occurred.<\/span><\/p> Satellite/Sensor:<\/span><\/p> Landsat 8 and Landsat 9 Operational Land Imagers (OLI)<\/span><\/p> Resolution:<\/span><\/p> 30 meters<\/span><\/p> Credits:<\/span><\/p> NASA/MSFC, USGS<\/span><\/p> Esri REST Endpoint:<\/span><\/p> See URL section on right side of page<\/span><\/p> WMS Endpoint:<\/span><\/p> https://maps.disasters.nasa.gov/ags04/services/hurricane_helene_2024/landsat8/MapServer/WMSServer<\/span><\/p> Data Download:<\/span><\/p> https://maps.disasters.nasa.gov/download/gis_products/event_specific/2024/hurricane_helene_202409/landsat/<\/span><\/p><\/div><\/div><\/div>",
"pixelType": "U8",
"meanPixelSize": 30,
"exportTilesAllowed": false,
"editFieldsInfo": null,
"rasterTypeInfos": [{
"help": "",
"name": "Raster Dataset",
"description": "Supports all ArcGIS Raster Datasets"
}],
"defaultResamplingMethod": "Bilinear",
"itemAccess": false,
"minScale": 0,
"serviceProperties": " Dates of Images:<\/span><\/p> Post-Event: 10/1/2024 (Landsat 8), 10/2/2024 (Landsat 9), 10/9/2024 (Landsat 9)<\/span><\/p> Pre-Event: 8/30/2024 (Landsat 8)<\/span><\/p> Date of Next Image:<\/span><\/p> Unknown<\/span><\/p> Summary:<\/span><\/p> Natural Color: <\/span>The Natural Color RGB provides a false composite look at the surface. This RGB uses a shortwave, the near-infrared, and red channels from the instrument.<\/span><\/p> Color Infrared: <\/span>The Color Infrared composite is created using the near-infrared, red, and green channels, allowing for the ability to see areas impacted from the fires. The near-infrared gives the ability to see through thin clouds. Healthy vegetation is shown as red, water is in blue.<\/span><\/p> True Color: <\/span>The True Color RGB composite provides a product of how the surface would look to the naked eye from space. The RGB is created using the red, green, and blue channels of the respective instrument.<\/span><\/p> Suggested Use:<\/span><\/p> Natural Color: <\/span>areas of water will appear blue, healthy green vegetation will appear as a bright green, urban areas in various shades of magenta.<\/span><\/p> Color Infrared: <\/span>depicts healthy vegetation as red, water as blue. Some minor atmospheric corrections have occurred.<\/span><\/p> True Color: <\/span>provides a product of how the surface would look to the naked eye from space. The True Color RGB is produced using the 3 visible wavelength bands (red, green, and blue) from the respective sensor. Some minor atmospheric corrections have occurred.<\/span><\/p> Satellite/Sensor:<\/span><\/p> Landsat 8 and Landsat 9 Operational Land Imagers (OLI)<\/span><\/p> Resolution:<\/span><\/p> 30 meters<\/span><\/p> Credits:<\/span><\/p> NASA/MSFC, USGS<\/span><\/p> Esri REST Endpoint:<\/span><\/p> See URL section on right side of page<\/span><\/p> WMS Endpoint:<\/span><\/p> https://maps.disasters.nasa.gov/ags04/services/hurricane_helene_2024/landsat8/MapServer/WMSServer<\/span><\/p> Data Download:<\/span><\/p> https://maps.disasters.nasa.gov/download/gis_products/event_specific/2024/hurricane_helene_202409/landsat/<\/span><\/p><\/div><\/div><\/div>",
"allowCopy": true,
"copyrightText": "NASA/MSFC, USGS",
"mensurationCapabilities": "Basic",
"ownershipBasedAccessControlForRasters": null
}