{ "extent": { "ymin": 20, "xmin": -90, "ymax": 40, "xmax": -80, "spatialReference": { "latestWkid": 4326, "wkid": 4326 } }, "blockWidth": 2048, "mosaicOperator": "First", "serviceSourceType": "esriImageServiceSourceTypeMosaicDataset", "hasMultidimensions": false, "maxImageWidth": 15000, "maxRecordCount": 1000, "meanValues": [], "hasColormap": false, "compressionType": "None", "defaultCompressionQuality": 75, "maxValues": [], "hasHistograms": false, "datasetFormat": "AMD", "maxImageHeight": 4100, "sortField": "", "bandNames": ["Band_1"], "spatialReference": { "latestWkid": 4326, "wkid": 4326 }, "fullExtent": { "ymin": 20, "xmin": -90, "ymax": 40, "xmax": -80, "spatialReference": { "latestWkid": 4326, "wkid": 4326 } }, "bandCount": 1, "rasterFunctionInfos": [ { "help": "", "name": "BlackMarble_BRDF_RFT", "description": "Black Marble BRDF RFT" }, { "help": "", "name": "BlackMarble_BRDF_RFT", "description": "Black Marble BRDF RFT" }, { "help": "", "name": "None", "description": "" } ], "supportsStatistics": true, "sortableFields": "", "minValues": [], "allowRasterFunction": true, "allowComputeTiePoints": false, "serviceDataType": "esriImageServiceDataTypeGeneric", "supportsAdvancedQueries": true, "maxDownloadSizeLimit": 2048, "currentVersion": 12, "sortValue": null, "objectIdField": "objectid", "blockHeight": 256, "initialExtent": { "ymin": 20, "xmin": -90, "ymax": 40, "xmax": -80, "spatialReference": { "latestWkid": 4326, "wkid": 4326 } }, "pixelSizeX": 0.0041666666666666666, "pixelSizeY": 0.0041666666666666666, "defaultMosaicMethod": "Northwest", "name": "DISASTERS_202410_HURRICANE_MILTON/2428_BlackMarble_brdf", "allowedMosaicMethods": "NorthWest,Center,LockRaster,ByAttribute,Nadir,Viewpoint,Seamline,None", "maxDownloadImageCount": 20, "fields": [ { "domain": null, "name": "objectid", "alias": "OBJECTID", "type": "esriFieldTypeOID" }, { "domain": null, "name": "name", "length": 200, "alias": "Name", "type": "esriFieldTypeString" }, { "domain": null, "name": "minps", "alias": "MinPS", "type": "esriFieldTypeDouble" }, { "domain": null, "name": "maxps", "alias": "MaxPS", "type": "esriFieldTypeDouble" }, { "domain": null, "name": "lowps", "alias": "LowPS", "type": "esriFieldTypeDouble" }, { "domain": null, "name": "highps", "alias": "HighPS", "type": "esriFieldTypeDouble" }, { "domain": { "splitPolicy": "esriSPTDefaultValue", "name": "MosaicCatalogItemCategoryDomain", "description": "Catalog item categories.", "type": "codedValue", "codedValues": [ { "code": 0, "name": "Unknown" }, { "code": 1, "name": "Primary" }, { "code": 2, "name": "Overview" }, { "code": 3, "name": "Unprocessed Overview" }, { "code": 4, "name": "Partial Overview" }, { "code": 5, "name": "Inactive" }, { "code": 253, "name": "Uploaded" }, { "code": 254, "name": "Incomplete" }, { "code": 255, "name": "Custom" } ], "mergePolicy": "esriMPTDefaultValue" }, "name": "category", "alias": "Category", "type": "esriFieldTypeInteger" }, { "domain": null, "name": "tag", "length": 100, "alias": "Tag", "type": "esriFieldTypeString" }, { "domain": null, "name": "groupname", "length": 100, "alias": "GroupName", "type": "esriFieldTypeString" }, { "domain": null, "name": "productname", "length": 100, "alias": "ProductName", "type": "esriFieldTypeString" }, { "domain": null, "name": "centerx", "alias": "CenterX", "type": "esriFieldTypeDouble" }, { "domain": null, "name": "centery", "alias": "CenterY", "type": "esriFieldTypeDouble" }, { "domain": null, "name": "zorder", "alias": "ZOrder", "type": "esriFieldTypeInteger" }, { "domain": null, "name": "date", "alias": "Date", "type": "esriFieldTypeDateOnly" }, { "domain": null, "name": "shape", "alias": "Shape", "type": "esriFieldTypeGeometry" } ], "allowAnalysis": true, "hasRasterAttributeTable": false, "useStandardizedQueries": true, "description": "

Date of Image:<\/span><\/p>
Pre-Event: September 2024<\/span><\/p>
Post-Event: October 10, 2024 - October 18, 2024<\/span><\/p>
<\/p>
Summary:<\/span><\/p>
These Black Marble Day-Night Band (BRDF-Corrected) images were created by the NASA Black Marble Science team. The images corrected for atmospheric, terrain, lunar BRDF, and straylight effects, and directly measures light intensity on the ground in units of nanowatts/(steradian centimeter squared). The images are scaled from 0 - 30, and show the impact of Hurricane Milton on electric grids in the Southeast US. The baseline image is from September 2024, a cloud-free, moon-free composite, and the \u201cafter\" image from October 10, 2024. There is a layer to display where clouds are present. This comparison between the images is meant as a visual assessment of outage impacts from Francine to aid various partners who are working to deliver emergency aids to local communities. Power outage maps like these help disaster response efforts in the short-term as well as long-term monitoring during the crucial stages of disaster recovery.<\/span><\/p>
Suggested Use:<\/span><\/p>
NASA's Black Marble Nighttime Light product suite is a state-of-the-art daily global collection of standard products for monitoring nighttime lights (NTL). Utilizing the Visible Imaging Radiometer Suite (VIIRS) Day/Night Band (DNB) aboard the Suomi-NPP, NOAA-20, and NOAA-21 satellites.<\/span><\/p>
<\/p>
The image is in inferno color scale. Yellow represents presence of more light; dark blue less lights. Grey represents cloud cover.<\/span><\/p>
<\/p>
Satellite/Sensor:<\/span><\/p>
Visible Infrared Imaging Radiometer Suite (VIIRS) Day/Night Band (DNB) onboard the Suomi National Polar-orbiting Platform (SNPP), NOAA-20, and NOAA-21<\/span><\/p>
<\/p>
NOAA-20: September 2024<\/span><\/p>
SNPP: October 10, 2024 - October 17, 2024<\/span><\/p>
Resolution:<\/span><\/p>
500 meters<\/span><\/p>
<\/p>
Credits:<\/span><\/p>
NASA Black Marble Science team<\/span><\/p>
Please cite the following two references when using this data:<\/span><\/p>
Román MO, Stokes EC, Shrestha R, Wang Z, Schultz L, Carlo EA, Sun Q, Bell J, Molthan A, Kalb V, Ji C. Satellite-based assessment of electricity restoration efforts in Puerto Rico after Hurricane Maria. PloS one. 2019 Jun 28;14(6):e0218883.<\/span><\/p>
Román MO, Wang Z, Sun Q, Kalb V, Miller SD, Molthan A, Schultz L, Bell J, Stokes EC, Pandey B, Seto KC. NASA's Black Marble nighttime lights product suite. Remote Sensing of Environment. 2018 Jun 1;210:113-43.<\/span><\/p>
<\/p>
Point of Contact:<\/span><\/p>
Ranjay Shrestha<\/span><\/p>
NASA Goddard Space Flight Center<\/span><\/p>
E-mail: ranjay.m.shrestha@nasa.gov<\/span><\/p>
<\/p>
Additional Links:<\/span><\/p>
NASA\u2019s Black Marble Product Suite<\/span><\/a><\/p>
Román, M.O. et al. (2019) Satellite-based assessment of electricity restoration efforts in Puerto Rico after Hurricane Maria. PLoS One, 14 (6).<\/span><\/p>
Román, M.O. et al. (2018) NASA\u2019s Black Marble nighttime lights product suite. Remote Sensing of Environment. 210, 113\u2013143.<\/span><\/p>
Service URL:<\/span><\/p>
<\/p>
WMS Endpoint:<\/span><\/p>
<\/div><\/div><\/div><\/p><\/p><\/p><\/p>", "pixelType": "F32", "meanPixelSize": 463.83121163863984, "exportTilesAllowed": false, "editFieldsInfo": null, "rasterTypeInfos": [{ "help": "", "name": "Raster Dataset", "description": "Supports all ArcGIS Raster Datasets" }], "defaultResamplingMethod": "Bilinear", "itemAccess": false, "minScale": 0, "serviceProperties": "NorthWest<\/MosaicMethod>First<\/MosaicOperator>true<\/SortAscending><\/LockImageID>Name<\/TileOrderField>0<\/TileOrderBase>600.000000<\/AvgImageSpacingX>300.000000<\/AvgImageSpacingY>0.0<\/ViewPointX>0.0<\/ViewPointY>0.0<\/ViewPointDefShiftX>0.0<\/ViewPointDefShiftY>None<\/CompressionMethod>75<\/CompressionQuality>0.010000<\/CompressionTolerance>Bilinear<\/SamplingMethod><\/ImageServiceProperties><\/ImageServer>", "advancedQueryCapabilities": { "supportsStatistics": true, "supportsSqlExpression": true, "supportsOrderBy": true, "useStandardizedQueries": true, "supportsPagination": true, "supportsDistinct": true }, "serviceItemId": "cdcc88774b33402889e218e8d73da81c", "capabilities": "Catalog,Mensuration,Image,Metadata", "maxScale": 0, "stdvValues": [], "allowedFields": "Name,MinPS,MaxPS,LowPS,HighPS,Tag,GroupName,ProductName,CenterX,CenterY,ZOrder,Shape_Length,Shape_Area,Date", "minPixelSize": 0, "sortAscending": true, "maxMosaicImageCount": 20, "inspectionCapabilities": "", "maxPixelSize": 0, "uncompressedSize": 46080000, "serviceDescription": "

Date of Image:<\/span><\/p>
Pre-Event: September 2024<\/span><\/p>
Post-Event: October 10, 2024 - October 18, 2024<\/span><\/p>
<\/p>
Summary:<\/span><\/p>
These Black Marble Day-Night Band (BRDF-Corrected) images were created by the NASA Black Marble Science team. The images corrected for atmospheric, terrain, lunar BRDF, and straylight effects, and directly measures light intensity on the ground in units of nanowatts/(steradian centimeter squared). The images are scaled from 0 - 30, and show the impact of Hurricane Milton on electric grids in the Southeast US. The baseline image is from September 2024, a cloud-free, moon-free composite, and the \u201cafter\" image from October 10, 2024. There is a layer to display where clouds are present. This comparison between the images is meant as a visual assessment of outage impacts from Francine to aid various partners who are working to deliver emergency aids to local communities. Power outage maps like these help disaster response efforts in the short-term as well as long-term monitoring during the crucial stages of disaster recovery.<\/span><\/p>
Suggested Use:<\/span><\/p>
NASA's Black Marble Nighttime Light product suite is a state-of-the-art daily global collection of standard products for monitoring nighttime lights (NTL). Utilizing the Visible Imaging Radiometer Suite (VIIRS) Day/Night Band (DNB) aboard the Suomi-NPP, NOAA-20, and NOAA-21 satellites.<\/span><\/p>
<\/p>
The image is in inferno color scale. Yellow represents presence of more light; dark blue less lights. Grey represents cloud cover.<\/span><\/p>
<\/p>
Satellite/Sensor:<\/span><\/p>
Visible Infrared Imaging Radiometer Suite (VIIRS) Day/Night Band (DNB) onboard the Suomi National Polar-orbiting Platform (SNPP), NOAA-20, and NOAA-21<\/span><\/p>
<\/p>
NOAA-20: September 2024<\/span><\/p>
SNPP: October 10, 2024 - October 17, 2024<\/span><\/p>
Resolution:<\/span><\/p>
500 meters<\/span><\/p>
<\/p>
Credits:<\/span><\/p>
NASA Black Marble Science team<\/span><\/p>
Please cite the following two references when using this data:<\/span><\/p>
Román MO, Stokes EC, Shrestha R, Wang Z, Schultz L, Carlo EA, Sun Q, Bell J, Molthan A, Kalb V, Ji C. Satellite-based assessment of electricity restoration efforts in Puerto Rico after Hurricane Maria. PloS one. 2019 Jun 28;14(6):e0218883.<\/span><\/p>
Román MO, Wang Z, Sun Q, Kalb V, Miller SD, Molthan A, Schultz L, Bell J, Stokes EC, Pandey B, Seto KC. NASA's Black Marble nighttime lights product suite. Remote Sensing of Environment. 2018 Jun 1;210:113-43.<\/span><\/p>
<\/p>
Point of Contact:<\/span><\/p>
Ranjay Shrestha<\/span><\/p>
NASA Goddard Space Flight Center<\/span><\/p>
E-mail: ranjay.m.shrestha@nasa.gov<\/span><\/p>
<\/p>
Additional Links:<\/span><\/p>
NASA\u2019s Black Marble Product Suite<\/span><\/a><\/p>
Román, M.O. et al. (2019) Satellite-based assessment of electricity restoration efforts in Puerto Rico after Hurricane Maria. PLoS One, 14 (6).<\/span><\/p>
Román, M.O. et al. (2018) NASA\u2019s Black Marble nighttime lights product suite. Remote Sensing of Environment. 210, 113\u2013143.<\/span><\/p>
Service URL:<\/span><\/p>
<\/p>
WMS Endpoint:<\/span><\/p>
<\/div><\/div><\/div><\/p><\/p><\/p><\/p>", "allowCopy": true, "copyrightText": "USRA/NASA Black Marble Science team", "mensurationCapabilities": "Basic", "ownershipBasedAccessControlForRasters": null }