{ "extent": { "ymin": 23.105401222618333, "xmin": -85.776359341999978, "ymax": 37.230151424000042, "xmax": -79.019591100966579, "spatialReference": { "latestWkid": 4326, "wkid": 4326 } }, "blockWidth": 2048, "mosaicOperator": "First", "serviceSourceType": "esriImageServiceSourceTypeMosaicDataset", "hasMultidimensions": false, "maxImageWidth": 15000, "maxRecordCount": 1000, "meanValues": [], "hasColormap": false, "compressionType": "None", "defaultCompressionQuality": 75, "maxValues": [], "hasHistograms": false, "datasetFormat": "AMD", "maxImageHeight": 4100, "sortField": "", "bandNames": [ "Band_1", "Band_2", "Band_3" ], "spatialReference": { "latestWkid": 4326, "wkid": 4326 }, "fullExtent": { "ymin": 23.105401222618333, "xmin": -85.776359341999978, "ymax": 37.230151424000042, "xmax": -79.019591100966579, "spatialReference": { "latestWkid": 4326, "wkid": 4326 } }, "bandCount": 3, "rasterFunctionInfos": [{ "help": "", "name": "None", "description": "" }], "supportsStatistics": true, "sortableFields": "", "minValues": [], "allowRasterFunction": true, "allowComputeTiePoints": false, "serviceDataType": "esriImageServiceDataTypeRGB", "supportsAdvancedQueries": true, "maxDownloadSizeLimit": 2048, "currentVersion": 12, "sortValue": null, "objectIdField": "objectid", "blockHeight": 256, "initialExtent": { "ymin": 23.105401222618333, "xmin": -85.776359341999978, "ymax": 37.230151424000042, "xmax": -79.019591100966579, "spatialReference": { "latestWkid": 4326, "wkid": 4326 } }, "pixelSizeX": 0.00017966305682390446, "pixelSizeY": 0.0001796630568239043, "defaultMosaicMethod": "Northwest", "name": "DISASTERS_202410_HURRICANE_MILTON/2428_sentinel1", "allowedMosaicMethods": "NorthWest,Center,LockRaster,ByAttribute,Nadir,Viewpoint,Seamline,None", "maxDownloadImageCount": 20, "fields": [ { "domain": null, "name": "objectid", "alias": "OBJECTID", "type": "esriFieldTypeOID" }, { "domain": null, "name": "name", "length": 200, "alias": "Name", "type": "esriFieldTypeString" }, { "domain": null, "name": "minps", "alias": "MinPS", "type": "esriFieldTypeDouble" }, { "domain": null, "name": "maxps", "alias": "MaxPS", "type": "esriFieldTypeDouble" }, { "domain": null, "name": "lowps", "alias": "LowPS", "type": "esriFieldTypeDouble" }, { "domain": null, "name": "highps", "alias": "HighPS", "type": "esriFieldTypeDouble" }, { "domain": { "splitPolicy": "esriSPTDefaultValue", "name": "MosaicCatalogItemCategoryDomain", "description": "Catalog item categories.", "type": "codedValue", "codedValues": [ { "code": 0, "name": "Unknown" }, { "code": 1, "name": "Primary" }, { "code": 2, "name": "Overview" }, { "code": 3, "name": "Unprocessed Overview" }, { "code": 4, "name": "Partial Overview" }, { "code": 5, "name": "Inactive" }, { "code": 253, "name": "Uploaded" }, { "code": 254, "name": "Incomplete" }, { "code": 255, "name": "Custom" } ], "mergePolicy": "esriMPTDefaultValue" }, "name": "category", "alias": "Category", "type": "esriFieldTypeInteger" }, { "domain": null, "name": "tag", "length": 100, "alias": "Tag", "type": "esriFieldTypeString" }, { "domain": null, "name": "groupname", "length": 100, "alias": "GroupName", "type": "esriFieldTypeString" }, { "domain": null, "name": "productname", "length": 100, "alias": "ProductName", "type": "esriFieldTypeString" }, { "domain": null, "name": "centerx", "alias": "CenterX", "type": "esriFieldTypeDouble" }, { "domain": null, "name": "centery", "alias": "CenterY", "type": "esriFieldTypeDouble" }, { "domain": null, "name": "zorder", "alias": "ZOrder", "type": "esriFieldTypeInteger" }, { "domain": null, "name": "date", "alias": "Date", "type": "esriFieldTypeDateOnly" }, { "domain": null, "name": "shape", "alias": "Shape", "type": "esriFieldTypeGeometry" } ], "allowAnalysis": true, "hasRasterAttributeTable": false, "useStandardizedQueries": true, "description": "
Dates of Images:<\/span><\/p> Pre-Event: 10/3/2024, 10/8/2024<\/span><\/p> <\/p> Post-Event: 10/11/2024, 10/20/2024<\/span><\/p> <\/p> Date of Next Image:<\/span><\/p> Varies by region, typically 12 days since previous pass. Set time slider to most recent interval and click on area of interest to identify date of last pass.<\/span><\/p> <\/p> Summary:<\/span><\/p> The Alaska Satellite Facility has developed false color Red, Green, Blue (RGB) and Radiometrically Terrain-Correct (RTC) composites and surface water extent products of the Sentinel-1A/B Synthetic Aperture Radar (SAR) instrument which assigns the co- and cross-polarization information to a channel in the composite. When used to support a flooding event, areas in blue denotes water present at the time of the satellite overpass before or after the start of the flooding event.<\/span><\/p> Sentinel-1 RGB Decomposition of RTC VV and VH imagery over United States coastlines. Blue areas have low returns in VV and VH (smooth surfaces such as calm water, but also frozen/crusted soil or dry sand), Green areas have high returns in VH (volume scatterers such as vegetation or some types of snow/ice), and Red areas have relatively high VV returns and relatively low VH returns (such as urban or sparsely vegetated areas).<\/span><\/p> <\/p> Suggested Use:<\/span><\/p> In this image, water appears in blue, vegetated areas in shades of green and urban areas in bright orange. It is recommended to use this product with ancillary information to derive flooded areas.<\/span><\/p> Post-event data is classified from the above imagery shows water that is detected by the sensor with different colors indicating different land cover/land use classifications from CDL that appear to have water and are potentially flooded.<\/span><\/p> Blue (1): Known Water<\/span><\/p> Red (2): Flooded Developed<\/span><\/p> Green (3): Flooded Vegetation<\/span><\/p> Orange (4): Flooded Cropland/Grassland<\/span><\/p> <\/p> Satellite/Sensor:<\/span><\/p> Synthetic Aperture Radar on European Space Agency's (ESA) Copernicus Sentinel-1A satellite<\/span><\/p> <\/p> Resolution:<\/span><\/p> 20 meters<\/span><\/p> <\/p> Esri REST Endpoint:<\/span><\/p><\/div><\/div><\/div>",
"pixelType": "U8",
"meanPixelSize": 20.000000000000011,
"exportTilesAllowed": false,
"editFieldsInfo": null,
"rasterTypeInfos": [{
"help": "",
"name": "Raster Dataset",
"description": "Supports all ArcGIS Raster Datasets"
}],
"defaultResamplingMethod": "Bilinear",
"itemAccess": false,
"minScale": 0,
"serviceProperties": " Dates of Images:<\/span><\/p> Pre-Event: 10/3/2024, 10/8/2024<\/span><\/p> <\/p> Post-Event: 10/11/2024, 10/20/2024<\/span><\/p> <\/p> Date of Next Image:<\/span><\/p> Varies by region, typically 12 days since previous pass. Set time slider to most recent interval and click on area of interest to identify date of last pass.<\/span><\/p> <\/p> Summary:<\/span><\/p> The Alaska Satellite Facility has developed false color Red, Green, Blue (RGB) and Radiometrically Terrain-Correct (RTC) composites and surface water extent products of the Sentinel-1A/B Synthetic Aperture Radar (SAR) instrument which assigns the co- and cross-polarization information to a channel in the composite. When used to support a flooding event, areas in blue denotes water present at the time of the satellite overpass before or after the start of the flooding event.<\/span><\/p> Sentinel-1 RGB Decomposition of RTC VV and VH imagery over United States coastlines. Blue areas have low returns in VV and VH (smooth surfaces such as calm water, but also frozen/crusted soil or dry sand), Green areas have high returns in VH (volume scatterers such as vegetation or some types of snow/ice), and Red areas have relatively high VV returns and relatively low VH returns (such as urban or sparsely vegetated areas).<\/span><\/p> <\/p> Suggested Use:<\/span><\/p> In this image, water appears in blue, vegetated areas in shades of green and urban areas in bright orange. It is recommended to use this product with ancillary information to derive flooded areas.<\/span><\/p> Post-event data is classified from the above imagery shows water that is detected by the sensor with different colors indicating different land cover/land use classifications from CDL that appear to have water and are potentially flooded.<\/span><\/p> Blue (1): Known Water<\/span><\/p> Red (2): Flooded Developed<\/span><\/p> Green (3): Flooded Vegetation<\/span><\/p> Orange (4): Flooded Cropland/Grassland<\/span><\/p> <\/p> Satellite/Sensor:<\/span><\/p> Synthetic Aperture Radar on European Space Agency's (ESA) Copernicus Sentinel-1A satellite<\/span><\/p> <\/p> Resolution:<\/span><\/p> 20 meters<\/span><\/p> <\/p> Esri REST Endpoint:<\/span><\/p><\/div><\/div><\/div>",
"allowCopy": true,
"copyrightText": "NASA/MSFC, USGS, ESA Copernicus. Sentinel data used in this derived product, contains modified Copernicus Sentinel data (2019-2022), processed by ESA, Alaska Satellite Facility.",
"mensurationCapabilities": "Basic",
"ownershipBasedAccessControlForRasters": null
}