{ "extent": { "ymin": 26.51538495000008, "xmin": -83.125468949999984, "ymax": 30.214014149999961, "xmax": -80.47136775000007, "spatialReference": { "latestWkid": 4326, "wkid": 4326 } }, "blockWidth": 2048, "mosaicOperator": "First", "serviceSourceType": "esriImageServiceSourceTypeMosaicDataset", "hasMultidimensions": false, "maxImageWidth": 15000, "maxRecordCount": 1000, "meanValues": [], "hasColormap": false, "compressionType": "None", "defaultCompressionQuality": 75, "maxValues": [], "hasHistograms": false, "datasetFormat": "AMD", "maxImageHeight": 4100, "sortField": "", "bandNames": [ "Band_1", "Band_2", "Band_3", "Band_4" ], "spatialReference": { "latestWkid": 4326, "wkid": 4326 }, "fullExtent": { "ymin": 26.51538495000008, "xmin": -83.125468949999984, "ymax": 30.214014149999961, "xmax": -80.47136775000007, "spatialReference": { "latestWkid": 4326, "wkid": 4326 } }, "bandCount": 4, "rasterFunctionInfos": [{ "help": "", "name": "None", "description": "" }], "supportsStatistics": true, "sortableFields": "", "minValues": [], "allowRasterFunction": true, "allowComputeTiePoints": false, "serviceDataType": "esriImageServiceDataTypeGeneric", "supportsAdvancedQueries": true, "maxDownloadSizeLimit": 2048, "currentVersion": 12, "sortValue": null, "objectIdField": "objectid", "blockHeight": 256, "initialExtent": { "ymin": 26.51538495000008, "xmin": -83.125468949999984, "ymax": 30.214014149999961, "xmax": -80.47136775000007, "spatialReference": { "latestWkid": 4326, "wkid": 4326 } }, "pixelSizeX": 0.00013889999999999552, "pixelSizeY": 0.00013889999999999557, "defaultMosaicMethod": "Northwest", "name": "DISASTERS_202410_HURRICANE_MILTON/2428_uavsar", "allowedMosaicMethods": "NorthWest,Center,LockRaster,ByAttribute,Nadir,Viewpoint,Seamline,None", "maxDownloadImageCount": 20, "fields": [ { "domain": null, "name": "objectid", "alias": "OBJECTID", "type": "esriFieldTypeOID" }, { "domain": null, "name": "name", "length": 200, "alias": "Name", "type": "esriFieldTypeString" }, { "domain": null, "name": "minps", "alias": "MinPS", "type": "esriFieldTypeDouble" }, { "domain": null, "name": "maxps", "alias": "MaxPS", "type": "esriFieldTypeDouble" }, { "domain": null, "name": "lowps", "alias": "LowPS", "type": "esriFieldTypeDouble" }, { "domain": null, "name": "highps", "alias": "HighPS", "type": "esriFieldTypeDouble" }, { "domain": { "splitPolicy": "esriSPTDefaultValue", "name": "MosaicCatalogItemCategoryDomain", "description": "Catalog item categories.", "type": "codedValue", "codedValues": [ { "code": 0, "name": "Unknown" }, { "code": 1, "name": "Primary" }, { "code": 2, "name": "Overview" }, { "code": 3, "name": "Unprocessed Overview" }, { "code": 4, "name": "Partial Overview" }, { "code": 5, "name": "Inactive" }, { "code": 253, "name": "Uploaded" }, { "code": 254, "name": "Incomplete" }, { "code": 255, "name": "Custom" } ], "mergePolicy": "esriMPTDefaultValue" }, "name": "category", "alias": "Category", "type": "esriFieldTypeInteger" }, { "domain": null, "name": "tag", "length": 100, "alias": "Tag", "type": "esriFieldTypeString" }, { "domain": null, "name": "groupname", "length": 100, "alias": "GroupName", "type": "esriFieldTypeString" }, { "domain": null, "name": "productname", "length": 100, "alias": "ProductName", "type": "esriFieldTypeString" }, { "domain": null, "name": "centerx", "alias": "CenterX", "type": "esriFieldTypeDouble" }, { "domain": null, "name": "centery", "alias": "CenterY", "type": "esriFieldTypeDouble" }, { "domain": null, "name": "zorder", "alias": "ZOrder", "type": "esriFieldTypeInteger" }, { "domain": null, "name": "date", "alias": "Date", "type": "esriFieldTypeDateOnly" }, { "domain": null, "name": "shape", "alias": "Shape", "type": "esriFieldTypeGeometry" } ], "allowAnalysis": true, "hasRasterAttributeTable": false, "useStandardizedQueries": true, "description": "

Dates of Images:<\/span><\/p>
10/11/2024, 10/12/2024, 10/13/2024, 10/14/2024<\/span><\/p>
<\/span><\/p>
Date of Next Image:<\/span><\/p>
None Expected<\/span><\/p>
<\/span><\/p>
Summary:<\/span><\/p>
These UAVSAR false color RGB images provide a unique look at the Earth's surface that can be used for identifying flooding and inundation under tree canopy. The overlay of the intensities of these three polarization channels allows user to visually classify a scene by its backscattering mechanism, such as surface scattering (strong HH and VV return), volume scattering (strong HV return) and double-bounce scattering (strong HH return). Areas dominated by green (HV) intensity are typically vegetated areas. Areas dominated by shades of pink (HH+HV) intensity are typically inundated forests or vegetated fields. Black and dark grey areas are usually smooth surface (roads, open water, smooth bare ground) where there is very little radar backscatter.<\/span><\/p>
<\/span><\/p>
Suggested Use:<\/span><\/p>
The polarimetric color composite is well suited for identifying inundation under tree canopies. This product is especially useful in mapping inundation extent in regions covered with vegetation where the ground is not visible in optical imagery.<\/span><\/p>
<\/span><\/p>
RGB Images:<\/span><\/p>
Open water can be seen as dark blue/black, areas with inundation under tree canopy can be seen in pink-like colors.<\/span><\/p>
<\/span><\/p>
Classified Images:<\/span><\/p>
Blue areas are open water (some roads may also be misclassified as blue)<\/span><\/p>
Light Blue/Cyan areas with flooding beneath vegetation and the tree canopy<\/span><\/p>
Pink areas are potentially flooded areas with low confidence due to being more developed locations<\/span><\/p>
<\/span><\/p>
Satellite/Sensor:<\/span><\/p>
UAVSAR airborne L-band synthetic aperture radar (SAR) aboard a NASA Gulfstream C-20A jet.<\/span><\/p>
<\/span><\/p>
Resolution:<\/span><\/p>
10 meters<\/span><\/p>
<\/span><\/p>
Credits:<\/span><\/p>
UAVSAR data courtesy of NASA/JPL-Caltech<\/span><\/p>
<\/span><\/p>
Esri REST Endpoint:<\/span><\/p>
https://gis.earthdata.nasa.gov/portal/rest/services/DISASTERS_202410_HURRICANE_MILTON/UAVSAR/ImageServer<\/a><\/p><\/div>", "pixelType": "U8", "meanPixelSize": 15.462277271185203, "exportTilesAllowed": false, "editFieldsInfo": null, "rasterTypeInfos": [{ "help": "", "name": "Raster Dataset", "description": "Supports all ArcGIS Raster Datasets" }], "defaultResamplingMethod": "Bilinear", "itemAccess": false, "minScale": 0, "serviceProperties": "NorthWest<\/MosaicMethod>First<\/MosaicOperator>true<\/SortAscending><\/LockImageID>Name<\/TileOrderField>0<\/TileOrderBase>600.000000<\/AvgImageSpacingX>300.000000<\/AvgImageSpacingY>0.0<\/ViewPointX>0.0<\/ViewPointY>0.0<\/ViewPointDefShiftX>0.0<\/ViewPointDefShiftY>None<\/CompressionMethod>75<\/CompressionQuality>0.010000<\/CompressionTolerance>Bilinear<\/SamplingMethod><\/ImageServiceProperties><\/ImageServer>", "advancedQueryCapabilities": { "supportsStatistics": true, "supportsSqlExpression": true, "supportsOrderBy": true, "useStandardizedQueries": true, "supportsPagination": true, "supportsDistinct": true }, "serviceItemId": "a8ffa63288694e5dacfbbbfcd65187e0", "capabilities": "Catalog,Mensuration,Image,Metadata", "maxScale": 0, "stdvValues": [], "allowedFields": "Name,MinPS,MaxPS,LowPS,HighPS,Tag,GroupName,ProductName,CenterX,CenterY,ZOrder,Shape_Length,Shape_Area,Date", "minPixelSize": 0, "sortAscending": true, "maxMosaicImageCount": 20, "inspectionCapabilities": "", "maxPixelSize": 0, "uncompressedSize": 2035231296, "serviceDescription": "

Dates of Images:<\/span><\/p>
10/11/2024, 10/12/2024, 10/13/2024, 10/14/2024<\/span><\/p>
<\/span><\/p>
Date of Next Image:<\/span><\/p>
None Expected<\/span><\/p>
<\/span><\/p>
Summary:<\/span><\/p>
These UAVSAR false color RGB images provide a unique look at the Earth's surface that can be used for identifying flooding and inundation under tree canopy. The overlay of the intensities of these three polarization channels allows user to visually classify a scene by its backscattering mechanism, such as surface scattering (strong HH and VV return), volume scattering (strong HV return) and double-bounce scattering (strong HH return). Areas dominated by green (HV) intensity are typically vegetated areas. Areas dominated by shades of pink (HH+HV) intensity are typically inundated forests or vegetated fields. Black and dark grey areas are usually smooth surface (roads, open water, smooth bare ground) where there is very little radar backscatter.<\/span><\/p>
<\/span><\/p>
Suggested Use:<\/span><\/p>
The polarimetric color composite is well suited for identifying inundation under tree canopies. This product is especially useful in mapping inundation extent in regions covered with vegetation where the ground is not visible in optical imagery.<\/span><\/p>
<\/span><\/p>
RGB Images:<\/span><\/p>
Open water can be seen as dark blue/black, areas with inundation under tree canopy can be seen in pink-like colors.<\/span><\/p>
<\/span><\/p>
Classified Images:<\/span><\/p>
Blue areas are open water (some roads may also be misclassified as blue)<\/span><\/p>
Light Blue/Cyan areas with flooding beneath vegetation and the tree canopy<\/span><\/p>
Pink areas are potentially flooded areas with low confidence due to being more developed locations<\/span><\/p>
<\/span><\/p>
Satellite/Sensor:<\/span><\/p>
UAVSAR airborne L-band synthetic aperture radar (SAR) aboard a NASA Gulfstream C-20A jet.<\/span><\/p>
<\/span><\/p>
Resolution:<\/span><\/p>
10 meters<\/span><\/p>
<\/span><\/p>
Credits:<\/span><\/p>
UAVSAR data courtesy of NASA/JPL-Caltech<\/span><\/p>
<\/span><\/p>
Esri REST Endpoint:<\/span><\/p>
https://gis.earthdata.nasa.gov/portal/rest/services/DISASTERS_202410_HURRICANE_MILTON/UAVSAR/ImageServer<\/a><\/p><\/div>", "allowCopy": true, "copyrightText": "NASA/JPL-Caltech UAVSAR Team", "mensurationCapabilities": "Basic", "ownershipBasedAccessControlForRasters": null }