{ "extent": { "ymin": 34.138014901663247, "xmin": -118.23159796299996, "ymax": 34.273074808000047, "xmax": -117.96486839220861, "spatialReference": { "latestWkid": 4326, "wkid": 4326 } }, "blockWidth": 2048, "mosaicOperator": "First", "serviceSourceType": "esriImageServiceSourceTypeMosaicDataset", "hasMultidimensions": false, "maxImageWidth": 15000, "maxRecordCount": 1000, "meanValues": [ 51.853296919524105, 84.747066270286638, 83.929507512717265 ], "hasColormap": false, "compressionType": "None", "defaultCompressionQuality": 75, "maxValues": [ 255, 255, 255 ], "hasHistograms": true, "datasetFormat": "AMD", "maxImageHeight": 4100, "sortField": "", "bandNames": [ "Band_1", "Band_2", "Band_3" ], "spatialReference": { "latestWkid": 4326, "wkid": 4326 }, "fullExtent": { "ymin": 34.138014901663247, "xmin": -118.23159796299996, "ymax": 34.273074808000047, "xmax": -117.96486839220861, "spatialReference": { "latestWkid": 4326, "wkid": 4326 } }, "bandCount": 3, "rasterFunctionInfos": [{ "help": "", "name": "None", "description": "" }], "supportsStatistics": true, "sortableFields": "", "minValues": [ 0, 0, 0 ], "allowRasterFunction": true, "allowComputeTiePoints": false, "serviceDataType": "esriImageServiceDataTypeRGB", "supportsAdvancedQueries": true, "maxDownloadSizeLimit": 2048, "currentVersion": 12, "sortValue": null, "objectIdField": "objectid", "blockHeight": 256, "initialExtent": { "ymin": 34.138014901663247, "xmin": -118.23159796299996, "ymax": 34.273074808000047, "xmax": -117.96486839220861, "spatialReference": { "latestWkid": 4326, "wkid": 4326 } }, "pixelSizeX": 0.000030542719660064248, "pixelSizeY": 0.000030542719660063191, "defaultMosaicMethod": "Northwest", "name": "DISASTERS_202501_FIRE_CA/2501_aviris_QuickLook", "allowedMosaicMethods": "NorthWest,Center,LockRaster,ByAttribute,Nadir,Viewpoint,Seamline,None", "maxDownloadImageCount": 20, "fields": [ { "domain": null, "name": "objectid", "alias": "OBJECTID", "type": "esriFieldTypeOID" }, { "domain": null, "name": "name", "length": 200, "alias": "Name", "type": "esriFieldTypeString" }, { "domain": null, "name": "minps", "alias": "MinPS", "type": "esriFieldTypeDouble" }, { "domain": null, "name": "maxps", "alias": "MaxPS", "type": "esriFieldTypeDouble" }, { "domain": null, "name": "lowps", "alias": "LowPS", "type": "esriFieldTypeDouble" }, { "domain": null, "name": "highps", "alias": "HighPS", "type": "esriFieldTypeDouble" }, { "domain": { "splitPolicy": "esriSPTDefaultValue", "name": "MosaicCatalogItemCategoryDomain", "description": "Catalog item categories.", "type": "codedValue", "codedValues": [ { "code": 0, "name": "Unknown" }, { "code": 1, "name": "Primary" }, { "code": 2, "name": "Overview" }, { "code": 3, "name": "Unprocessed Overview" }, { "code": 4, "name": "Partial Overview" }, { "code": 5, "name": "Inactive" }, { "code": 253, "name": "Uploaded" }, { "code": 254, "name": "Incomplete" }, { "code": 255, "name": "Custom" } ], "mergePolicy": "esriMPTDefaultValue" }, "name": "category", "alias": "Category", "type": "esriFieldTypeInteger" }, { "domain": null, "name": "tag", "length": 100, "alias": "Tag", "type": "esriFieldTypeString" }, { "domain": null, "name": "groupname", "length": 100, "alias": "GroupName", "type": "esriFieldTypeString" }, { "domain": null, "name": "productname", "length": 100, "alias": "ProductName", "type": "esriFieldTypeString" }, { "domain": null, "name": "centerx", "alias": "CenterX", "type": "esriFieldTypeDouble" }, { "domain": null, "name": "centery", "alias": "CenterY", "type": "esriFieldTypeDouble" }, { "domain": null, "name": "zorder", "alias": "ZOrder", "type": "esriFieldTypeInteger" }, { "domain": null, "name": "date", "alias": "Date", "type": "esriFieldTypeDateOnly" }, { "domain": null, "name": "shape", "alias": "Shape", "type": "esriFieldTypeGeometry" } ], "allowAnalysis": true, "hasRasterAttributeTable": false, "useStandardizedQueries": true, "description": "
Date of Image(s):<\/span><\/p> 1/10/25; UTC: 223109<\/span><\/p> 1/10/25; UTC: 222449<\/span><\/p> <\/p> Summary:<\/span><\/p> The images are false-color \u201cquick looks\u201d generated from the NASA AVIRIS-3 (Airborne Visible/Infrared Imaging Spectrometer -3). They are generated from un-atmospherically-corrected, at-sensor radiance data. Specifically: AVIRIS 3 L1B calibrated spectral radiance (units: uW nm-1 cm-2 sr-1). The images have been orthorectified.<\/span><\/p> Given that these images were derived from solely calibrated, at-sensor radiance data, they have not undergone atmospheric correction and do not quantitatively represent surface reflectance.<\/span><\/p> <\/p> Suggested Usage:<\/span><\/p> Despite the rawer form of this quick-look product, it is still useful for burned area mapping.<\/span><\/p> <\/p> Sensor:<\/span><\/p> Airborne Visible/Infrared Imaging Spectrometer 3rd-Generation (AVIRIS-3)<\/span><\/p> AV320250110t223109 Resolution: 3.70 x 3.70 m pixels<\/span><\/p> Dimensions for AV320250110t223109: X: 6210 Y: 3068 Bands: 3<\/span><\/p> AV320250110t222449 Resolution: 3.40 x 3.40 m pixels<\/span><\/p> Dimensions for AV320250110t222449: X: 6593 Y: 3465 Bands: 3<\/span><\/p> The AVIRIS-3 False color RGB wavelengths are 1660nm, 850nm, and 560nm for (R, G, B) respectively.<\/span><\/p> <\/p> Credits:<\/span><\/p> Rob Green (JPL), Phil Brodrick (JPL), David Thompson (JPL), John Chapman (JPL), Michael Eastwood (JPL), and Adam Chlus (JPL).<\/span><\/p><\/div><\/div><\/div>",
"pixelType": "U8",
"meanPixelSize": 3.3999999999999986,
"exportTilesAllowed": false,
"editFieldsInfo": null,
"rasterTypeInfos": [{
"help": "",
"name": "Raster Dataset",
"description": "Supports all ArcGIS Raster Datasets"
}],
"defaultResamplingMethod": "Bilinear",
"itemAccess": false,
"minScale": 0,
"serviceProperties": " Date of Image(s):<\/span><\/p> 1/10/25; UTC: 223109<\/span><\/p> 1/10/25; UTC: 222449<\/span><\/p> <\/p> Summary:<\/span><\/p> The images are false-color \u201cquick looks\u201d generated from the NASA AVIRIS-3 (Airborne Visible/Infrared Imaging Spectrometer -3). They are generated from un-atmospherically-corrected, at-sensor radiance data. Specifically: AVIRIS 3 L1B calibrated spectral radiance (units: uW nm-1 cm-2 sr-1). The images have been orthorectified.<\/span><\/p> Given that these images were derived from solely calibrated, at-sensor radiance data, they have not undergone atmospheric correction and do not quantitatively represent surface reflectance.<\/span><\/p> <\/p> Suggested Usage:<\/span><\/p> Despite the rawer form of this quick-look product, it is still useful for burned area mapping.<\/span><\/p> <\/p> Sensor:<\/span><\/p> Airborne Visible/Infrared Imaging Spectrometer 3rd-Generation (AVIRIS-3)<\/span><\/p> AV320250110t223109 Resolution: 3.70 x 3.70 m pixels<\/span><\/p> Dimensions for AV320250110t223109: X: 6210 Y: 3068 Bands: 3<\/span><\/p> AV320250110t222449 Resolution: 3.40 x 3.40 m pixels<\/span><\/p> Dimensions for AV320250110t222449: X: 6593 Y: 3465 Bands: 3<\/span><\/p> The AVIRIS-3 False color RGB wavelengths are 1660nm, 850nm, and 560nm for (R, G, B) respectively.<\/span><\/p> <\/p> Credits:<\/span><\/p> Rob Green (JPL), Phil Brodrick (JPL), David Thompson (JPL), John Chapman (JPL), Michael Eastwood (JPL), and Adam Chlus (JPL).<\/span><\/p><\/div><\/div><\/div>",
"allowCopy": true,
"copyrightText": "Rob Green (JPL), Phil Brodrick (JPL), David Thompson (JPL), John Chapman (JPL), Adam Chlus (JPL), Michael Eastwood (JPL)",
"mensurationCapabilities": "None",
"ownershipBasedAccessControlForRasters": null
}