{ "extent": { "ymin": 34.017705919228653, "xmin": -118.73982199999995, "ymax": 34.225342514000033, "xmax": -117.98923646098446, "spatialReference": { "latestWkid": 4326, "wkid": 4326 } }, "blockWidth": 2048, "mosaicOperator": "First", "serviceSourceType": "esriImageServiceSourceTypeMosaicDataset", "hasMultidimensions": false, "maxImageWidth": 15000, "maxRecordCount": 1000, "meanValues": [ 99.650962395094297, 129.12797496499806, 95.200983731742781 ], "hasColormap": false, "compressionType": "None", "defaultCompressionQuality": 75, "maxValues": [ 255, 255, 255 ], "hasHistograms": true, "datasetFormat": "AMD", "maxImageHeight": 4100, "sortField": "", "bandNames": [ "Band_1", "Band_2", "Band_3" ], "spatialReference": { "latestWkid": 4326, "wkid": 4326 }, "fullExtent": { "ymin": 34.017705919228653, "xmin": -118.73982199999995, "ymax": 34.225342514000033, "xmax": -117.98923646098446, "spatialReference": { "latestWkid": 4326, "wkid": 4326 } }, "bandCount": 3, "rasterFunctionInfos": [{ "help": "", "name": "None", "description": "" }], "supportsStatistics": true, "sortableFields": "", "minValues": [ 0, 0, 0 ], "allowRasterFunction": true, "allowComputeTiePoints": false, "serviceDataType": "esriImageServiceDataTypeRGB", "supportsAdvancedQueries": true, "maxDownloadSizeLimit": 2048, "currentVersion": 12, "sortValue": null, "objectIdField": "objectid", "blockHeight": 256, "initialExtent": { "ymin": 34.017705919228653, "xmin": -118.73982199999995, "ymax": 34.225342514000033, "xmax": -117.98923646098446, "spatialReference": { "latestWkid": 4326, "wkid": 4326 } }, "pixelSizeX": 0.000025152827955346308, "pixelSizeY": 0.000025152827955345806, "defaultMosaicMethod": "Northwest", "name": "DISASTERS_202501_FIRE_CA/2501_aviris_pca", "allowedMosaicMethods": "NorthWest,Center,LockRaster,ByAttribute,Nadir,Viewpoint,Seamline,None", "maxDownloadImageCount": 20, "fields": [ { "domain": null, "name": "objectid", "alias": "OBJECTID", "type": "esriFieldTypeOID" }, { "domain": null, "name": "name", "length": 200, "alias": "Name", "type": "esriFieldTypeString" }, { "domain": null, "name": "minps", "alias": "MinPS", "type": "esriFieldTypeDouble" }, { "domain": null, "name": "maxps", "alias": "MaxPS", "type": "esriFieldTypeDouble" }, { "domain": null, "name": "lowps", "alias": "LowPS", "type": "esriFieldTypeDouble" }, { "domain": null, "name": "highps", "alias": "HighPS", "type": "esriFieldTypeDouble" }, { "domain": { "splitPolicy": "esriSPTDefaultValue", "name": "MosaicCatalogItemCategoryDomain", "description": "Catalog item categories.", "type": "codedValue", "codedValues": [ { "code": 0, "name": "Unknown" }, { "code": 1, "name": "Primary" }, { "code": 2, "name": "Overview" }, { "code": 3, "name": "Unprocessed Overview" }, { "code": 4, "name": "Partial Overview" }, { "code": 5, "name": "Inactive" }, { "code": 253, "name": "Uploaded" }, { "code": 254, "name": "Incomplete" }, { "code": 255, "name": "Custom" } ], "mergePolicy": "esriMPTDefaultValue" }, "name": "category", "alias": "Category", "type": "esriFieldTypeInteger" }, { "domain": null, "name": "tag", "length": 100, "alias": "Tag", "type": "esriFieldTypeString" }, { "domain": null, "name": "groupname", "length": 100, "alias": "GroupName", "type": "esriFieldTypeString" }, { "domain": null, "name": "productname", "length": 100, "alias": "ProductName", "type": "esriFieldTypeString" }, { "domain": null, "name": "centerx", "alias": "CenterX", "type": "esriFieldTypeDouble" }, { "domain": null, "name": "centery", "alias": "CenterY", "type": "esriFieldTypeDouble" }, { "domain": null, "name": "zorder", "alias": "ZOrder", "type": "esriFieldTypeInteger" }, { "domain": null, "name": "date", "alias": "Date", "type": "esriFieldTypeDateOnly" }, { "domain": null, "name": "shape", "alias": "Shape", "type": "esriFieldTypeGeometry" } ], "allowAnalysis": true, "hasRasterAttributeTable": false, "useStandardizedQueries": true, "description": "
Date of Image(s):<\/span><\/p> 1/11/2025<\/span><\/p> <\/p> Date of Next Image:<\/span><\/p> 1/16/2025<\/span><\/p> <\/p> Summary:<\/span><\/p> This product visualizes three dominant principal components derived from the surface reflectance estimates from airborne imaging spectroscopy measurements taken by NASA JPL\u2019s AVIRIS-3. The image visualizes the relative strength of three dominant eigenvectors, estimated from data across the full scene. Eigenvectors from this high (284) dimensional dataset do not specifically identify physical features but are correlated to physical phenomena; similar to how \u2018red\u2019, \u2018green\u2019, or \u2018blue\u2019 in a traditional image are correlated to, but not directly indicative of, specific physical processes. Instead of just \u201cred,\u201d \u201cgreen,\u201d and \u201cblue,\u201d this analysis considers 284 unique \u201ccolors\u201d in the visible to shortwave infrared spectrum, providing a much more robust depiction of spectral differences. Thus, contrast between different colored regions in this image can be used to infer strong differences in surface type. For example, the fire boundary at the time of image collection is readily apparent. Explained another way, within a given scene, burned structures will share a unique spectral reflectance signature in \u201c284-color-space\u201d compared to other surfaces and display as the same color in the PCA image.<\/span><\/p> The product ground spatial resolution is approximately 2.8 m, and flights occurred between 19:40 and 21:00 UTC on Jan 11th 2025. Raw data are available for download here: <\/span>https://popo.jpl.nasa.gov/pub/LA_Fires/dist/eaton_pca_20250111.tif<\/span><\/a>, <\/span>https://popo.jpl.nasa.gov/pub/LA_Fires/dist/palisades_pca_20250111.tif<\/span><\/a>.<\/span><\/p> In the absence of a supervised image classification, the PCA image can demonstrate areas with similar spectral reflectance properties. On visual inspection of the PCA image, we can intuitively differentiate burned areas from non-burned areas, even for different types of burned surfaces (e.g. burned vegetation vs. burned structures).<\/span><\/p> Note: PCA images are produced on a scene-specific basis. This means unique PCA color representation in one scene does not translate to the same colors in another scene. For example, colors in the Eaton Fire scene do not relate to the same colors in the Palisades fire scene. <o:p></o:p><\/span><\/p> <\/p> Suggested Use:<\/span><\/p> As an unsupervised method to reduce dimensionality and improve feature extraction in high-spectral resolution datasets, the PCA image can serve as an intermediate visual guide to reveal the information content and diversity of surfaces in the AVIRIS-3 datasets. Analysts may use this image to visually understand the spectral diversity of fire impacted areas, especially in conjunction with ancillary data that characterizes the unique underlying physical phenomena represented by unique colors in the PCA image. <o:p></o:p><\/span><\/p> <\/p> POC:<\/span><\/p> Philip G. Brodrick (JPL) and David R. Thompson (JPL)<\/span><\/p> <\/p> Citation:<\/span><\/p> AVIRIS-3 Radiance Data:<\/span><\/p> Eckert, R., D.R. Thompson, A.M. Chlus, J.W. Chapman, M. Eastwood, M. Bernas, S. Geier, M. Helmlinger, D. Keymeulen, E. Liggett, S. Nadgauda, L.M. Rios, L.A. Shaw, W. Olson-Duvall, P.G. Brodrick, and R.O. Green. 2024. AVIRIS-3 L1B Calibrated Radiance, Facility Instrument Collection. ORNL DAAC, Oak Ridge, Tennessee, USA. https://doi.org/10.3334/ORNLDAAC/2356<\/span><\/p> <\/p> AVIRIS-3 Reflectance Data:<\/span><\/p> Brodrick, P.G., A.M. Chlus, U.N. Bohn, E. Greenberg, J. Montgomery, J.W. Chapman, M. Eastwood, S.R. Lundeen, R. Eckert, W. Olson-Duvall, D.R. Thompson, and R.O. Green. 2025. AVIRIS-3 L2A Orthocorrected Surface Reflectance, Facility Instrument Collection. ORNL DAAC, Oak Ridge, Tennessee, USA. https://doi.org/10.3334/ORNLDAAC/2357<\/span><\/p> <\/p> Service URL:<\/span><\/p> <\/p> <\/p> WMS Endpoint:<\/span><\/p><\/div><\/div><\/div>",
"pixelType": "U8",
"meanPixelSize": 2.7999999999999394,
"exportTilesAllowed": false,
"editFieldsInfo": null,
"rasterTypeInfos": [{
"help": "",
"name": "Raster Dataset",
"description": "Supports all ArcGIS Raster Datasets"
}],
"defaultResamplingMethod": "Bilinear",
"itemAccess": false,
"minScale": 0,
"serviceProperties": " Date of Image(s):<\/span><\/p> 1/11/2025<\/span><\/p> <\/p> Date of Next Image:<\/span><\/p> 1/16/2025<\/span><\/p> <\/p> Summary:<\/span><\/p> This product visualizes three dominant principal components derived from the surface reflectance estimates from airborne imaging spectroscopy measurements taken by NASA JPL\u2019s AVIRIS-3. The image visualizes the relative strength of three dominant eigenvectors, estimated from data across the full scene. Eigenvectors from this high (284) dimensional dataset do not specifically identify physical features but are correlated to physical phenomena; similar to how \u2018red\u2019, \u2018green\u2019, or \u2018blue\u2019 in a traditional image are correlated to, but not directly indicative of, specific physical processes. Instead of just \u201cred,\u201d \u201cgreen,\u201d and \u201cblue,\u201d this analysis considers 284 unique \u201ccolors\u201d in the visible to shortwave infrared spectrum, providing a much more robust depiction of spectral differences. Thus, contrast between different colored regions in this image can be used to infer strong differences in surface type. For example, the fire boundary at the time of image collection is readily apparent. Explained another way, within a given scene, burned structures will share a unique spectral reflectance signature in \u201c284-color-space\u201d compared to other surfaces and display as the same color in the PCA image.<\/span><\/p> The product ground spatial resolution is approximately 2.8 m, and flights occurred between 19:40 and 21:00 UTC on Jan 11th 2025. Raw data are available for download here: <\/span>https://popo.jpl.nasa.gov/pub/LA_Fires/dist/eaton_pca_20250111.tif<\/span><\/a>, <\/span>https://popo.jpl.nasa.gov/pub/LA_Fires/dist/palisades_pca_20250111.tif<\/span><\/a>.<\/span><\/p> In the absence of a supervised image classification, the PCA image can demonstrate areas with similar spectral reflectance properties. On visual inspection of the PCA image, we can intuitively differentiate burned areas from non-burned areas, even for different types of burned surfaces (e.g. burned vegetation vs. burned structures).<\/span><\/p> Note: PCA images are produced on a scene-specific basis. This means unique PCA color representation in one scene does not translate to the same colors in another scene. For example, colors in the Eaton Fire scene do not relate to the same colors in the Palisades fire scene. <o:p></o:p><\/span><\/p> <\/p> Suggested Use:<\/span><\/p> As an unsupervised method to reduce dimensionality and improve feature extraction in high-spectral resolution datasets, the PCA image can serve as an intermediate visual guide to reveal the information content and diversity of surfaces in the AVIRIS-3 datasets. Analysts may use this image to visually understand the spectral diversity of fire impacted areas, especially in conjunction with ancillary data that characterizes the unique underlying physical phenomena represented by unique colors in the PCA image. <o:p></o:p><\/span><\/p> <\/p> POC:<\/span><\/p> Philip G. Brodrick (JPL) and David R. Thompson (JPL)<\/span><\/p> <\/p> Citation:<\/span><\/p> AVIRIS-3 Radiance Data:<\/span><\/p> Eckert, R., D.R. Thompson, A.M. Chlus, J.W. Chapman, M. Eastwood, M. Bernas, S. Geier, M. Helmlinger, D. Keymeulen, E. Liggett, S. Nadgauda, L.M. Rios, L.A. Shaw, W. Olson-Duvall, P.G. Brodrick, and R.O. Green. 2024. AVIRIS-3 L1B Calibrated Radiance, Facility Instrument Collection. ORNL DAAC, Oak Ridge, Tennessee, USA. https://doi.org/10.3334/ORNLDAAC/2356<\/span><\/p> <\/p> AVIRIS-3 Reflectance Data:<\/span><\/p> Brodrick, P.G., A.M. Chlus, U.N. Bohn, E. Greenberg, J. Montgomery, J.W. Chapman, M. Eastwood, S.R. Lundeen, R. Eckert, W. Olson-Duvall, D.R. Thompson, and R.O. Green. 2025. AVIRIS-3 L2A Orthocorrected Surface Reflectance, Facility Instrument Collection. ORNL DAAC, Oak Ridge, Tennessee, USA. https://doi.org/10.3334/ORNLDAAC/2357<\/span><\/p> <\/p> Service URL:<\/span><\/p> <\/p> <\/p> WMS Endpoint:<\/span><\/p><\/div><\/div><\/div>",
"allowCopy": true,
"copyrightText": "Philip G. Brodrick (JPL) and David R. Thompson (JPL)",
"mensurationCapabilities": "None",
"ownershipBasedAccessControlForRasters": null
}