{ "extent": { "ymin": 34.02779298240246, "xmin": -118.68899449899999, "ymax": 34.238358085000073, "xmax": -118.01139528018864, "spatialReference": { "latestWkid": 4326, "wkid": 4326 } }, "blockWidth": 2048, "mosaicOperator": "First", "serviceSourceType": "esriImageServiceSourceTypeMosaicDataset", "hasMultidimensions": false, "maxImageWidth": 15000, "maxRecordCount": 1000, "meanValues": [3.2418117967462106], "hasColormap": false, "compressionType": "None", "defaultCompressionQuality": 75, "maxValues": [7], "hasHistograms": true, "datasetFormat": "AMD", "maxImageHeight": 4100, "sortField": "", "bandNames": ["Band_1"], "spatialReference": { "latestWkid": 4326, "wkid": 4326 }, "fullExtent": { "ymin": 34.02779298240246, "xmin": -118.68899449899999, "ymax": 34.238358085000073, "xmax": -118.01139528018864, "spatialReference": { "latestWkid": 4326, "wkid": 4326 } }, "bandCount": 1, "rasterFunctionInfos": [{ "help": "", "name": "None", "description": "" }], "supportsStatistics": true, "sortableFields": "", "minValues": [0], "allowRasterFunction": true, "allowComputeTiePoints": false, "serviceDataType": "esriImageServiceDataTypeGeneric", "supportsAdvancedQueries": true, "maxDownloadSizeLimit": 2048, "currentVersion": 12, "sortValue": null, "objectIdField": "objectid", "blockHeight": 256, "initialExtent": { "ymin": 34.02779298240246, "xmin": -118.68899449899999, "ymax": 34.238358085000073, "xmax": -118.01139528018864, "spatialReference": { "latestWkid": 4326, "wkid": 4326 } }, "pixelSizeX": 0.000089831528411951742, "pixelSizeY": 0.000089831528411950929, "defaultMosaicMethod": "Northwest", "name": "DISASTERS_202501_FIRE_CA/2501_optisar_FireSeverity", "allowedMosaicMethods": "NorthWest,Center,LockRaster,ByAttribute,Nadir,Viewpoint,Seamline,None", "maxDownloadImageCount": 20, "fields": [ { "domain": null, "name": "objectid", "alias": "OBJECTID", "type": "esriFieldTypeOID" }, { "domain": null, "name": "name", "length": 200, "alias": "Name", "type": "esriFieldTypeString" }, { "domain": null, "name": "minps", "alias": "MinPS", "type": "esriFieldTypeDouble" }, { "domain": null, "name": "maxps", "alias": "MaxPS", "type": "esriFieldTypeDouble" }, { "domain": null, "name": "lowps", "alias": "LowPS", "type": "esriFieldTypeDouble" }, { "domain": null, "name": "highps", "alias": "HighPS", "type": "esriFieldTypeDouble" }, { "domain": { "splitPolicy": "esriSPTDefaultValue", "name": "MosaicCatalogItemCategoryDomain", "description": "Catalog item categories.", "type": "codedValue", "codedValues": [ { "code": 0, "name": "Unknown" }, { "code": 1, "name": "Primary" }, { "code": 2, "name": "Overview" }, { "code": 3, "name": "Unprocessed Overview" }, { "code": 4, "name": "Partial Overview" }, { "code": 5, "name": "Inactive" }, { "code": 253, "name": "Uploaded" }, { "code": 254, "name": "Incomplete" }, { "code": 255, "name": "Custom" } ], "mergePolicy": "esriMPTDefaultValue" }, "name": "category", "alias": "Category", "type": "esriFieldTypeInteger" }, { "domain": null, "name": "tag", "length": 100, "alias": "Tag", "type": "esriFieldTypeString" }, { "domain": null, "name": "groupname", "length": 100, "alias": "GroupName", "type": "esriFieldTypeString" }, { "domain": null, "name": "productname", "length": 100, "alias": "ProductName", "type": "esriFieldTypeString" }, { "domain": null, "name": "centerx", "alias": "CenterX", "type": "esriFieldTypeDouble" }, { "domain": null, "name": "centery", "alias": "CenterY", "type": "esriFieldTypeDouble" }, { "domain": null, "name": "zorder", "alias": "ZOrder", "type": "esriFieldTypeInteger" }, { "domain": null, "name": "date", "alias": "Date", "type": "esriFieldTypeDateOnly" }, { "domain": null, "name": "shape", "alias": "Shape", "type": "esriFieldTypeGeometry" } ], "allowAnalysis": true, "hasRasterAttributeTable": false, "useStandardizedQueries": true, "description": "
Dates of Images<\/span><\/p> Sentinel-1 and Sentinel-2 pre-fire collection: January 2018 to November 2024<\/span><\/p> Sentinel-1 post-fire image: 21st January 2025<\/span><\/p> Sentinel-2 post-fire image: 12th January 2025<\/span><\/p> <\/p> Summary<\/span><\/p> Fire severity refers to the degree of change caused by fire in the state of vegetation, encompassing both aboveground and belowground impacts. It reflects the extent of fuel consumption, vegetation mortality, and structural damage caused by the fire. Accurately mapping fire severity is critical for understanding ecological impacts, informing post-fire recovery strategies, and supporting emergency response efforts.<\/span><\/p> The 2025 Southern California fire episode marked one of the most severe global fire events in recent history. It resulted in extensive ecological and structural damage, particularly within the wildland-urban interface (WUI), where anthropogenic development interacts with fire-prone vegetation. The Palisades and Eaton fires were among the most severe, driven by prolonged drought, anomalously high temperatures, and strong synoptic-scale wind patterns. Given the large-scale ecosystem disturbances and infrastructural losses, an independent fire severity assessment for each fire is essential to quantify post-fire ecological impacts and inform resilience strategies. Traditionally, fire severity has been assessed both qualitatively and quantitatively through field surveys conducted by forest professionals. These assessments provide detailed on-the-ground observations but are often constrained by logistical challenges, such as less frequency of visit and limited spatial coverage. As a result, satellite remote sensing has become the preferred approach for fire severity mapping due to its ability to provide high-frequency, high-resolution, and continuous data over large spatial extents.<\/span><\/p> To address this need, this study employs the \u201cOptiSAR\u201d framework, a multi-sensor remote sensing approach, for enhanced fire severity assessment by integrating Synthetic Aperture Radar (SAR; Sentinel-1) and multispectral optical imagery (Sentinel-2). By leveraging SAR\u2019s all-weather and day/night capability and its sensitivity to structural changes in vegetation, along with optical indices' ability to capture spectral responses of burned landscapes, the \u201cOptiSAR\u201d enables a comprehensive and multi-dimensional assessment of fire-induced transformations.<\/span><\/p> <\/p> Satellite/Sensor & Resolution<\/span><\/p> Sentinel-1/ C-Band /10m spatial resolution.<\/span><\/p> Sentinel-2/ MSI /resampled spatial resolution from 20m to 10m.<\/span><\/p> <\/p> Methodology<\/span><\/p> Independent fire severity analyses were conducted for the Palisades and Eaton fires due to their distinct vegetation characteristics and fire dynamics. The Palisades and Eaton fires burned under different conditions, each with unique fire behavior and impacts. The Palisades fire spread rapidly due to strong coastal winds and dry fuels, leading to high-intensity burns. In contrast, the Eaton fire, with more varied terrain and denser fuel accumulation, burned at a different pace, resulting in distinct structural and spectral fire effects. The study area consists of chaparral, and coastal sage scrub, with chaparral being the dominant fire-prone vegetation type. It comprises dense, drought-adapted shrubs which accumulate dry biomass, contributing to high fire intensity. Coastal sage scrub and oak woodlands are also present, with varying degrees of fire adaptation.<\/span><\/p> The fire severity was divided into five classes and color-coded for intuitive visualization. Pixels in green show \u2018unburnt\u2019 representing undisturbed vegetation, yellow depict \u2018low\u2019 indicating areas with surface fuel depletion but an intact canopy. Orange represents \u2018moderate\u2019, signifying partial canopy scorch with some structural damage. Red denotes \u2018high\u2019, where complete canopy scorch and significant structural damage have occurred. Black indicates \u2018extreme\u2019, describing areas with total canopy consumption and collapse, resulting in extensive structural destruction.<\/span><\/p> To quantify changes in vegetation, two advanced change detection indices were employed: the RADAR-Vegetation Structural Perpendicular Index (RADAR-VSPI; Chhabra et al., 2022) and the Vegetation Structural Perpendicular Index (VSPI; Massetti et al., 2019). These indices represent a significant advancement over conventional vegetation characterization and burn severity indices by providing more detailed insights into disturbance-induced transformations as a function of their undisturbed state from the pre-fire period. To compute RADAR-VSPI and VSPI, a pixel-wise baseline was established using a time series of Sentinel-1 and Sentinel-2 data from January 2018 to November 2024. This baseline represented the spatiotemporal characteristics of undisturbed vegetation, identified from periods with no observed disturbances in both SAR and optical datasets. Post-fire vegetation changes were then quantified as an orthogonal distance from this baseline.<\/span><\/p> Independent fire severity classifications were performed separately on the post-fire RADAR-VSPI (21st January 2025) and VSPI (12th January 2025) acquisitions using K-means clustering. This unsupervised classification method was chosen due to its ability to objectively segment the data into distinct severity levels based on natural groupings within the distribution of RADAR-VSPI and VSPI values. Unlike threshold-based approaches, K-means clustering allows for a data-driven classification, reducing subjective biases in defining severity categories while ensuring adaptability across different fire-affected landscapes. From the clustering results, the severity class ranges for RADAR-VSPI and VSPI were derived, establishing quantitative thresholds that delineate the gradient of fire-induced vegetation and structural changes. Higher negative decibel values of RADAR-VSPI indicate greater structural destruction, whereas higher values in VSPI indicate greater vegetation damage. To systematically classify fire severity based on the synergies between RADAR-VSPI and VSPI, a high-level decision-tree algorithm was developed, enabling a data-driven approach to delineate fire impacts across varying burn intensities.<\/span><\/p> <\/p> Table 1: Fire severity classification ranges for the Palisades fire<\/span><\/p> Table 2: Fire severity classification ranges for the Eaton fire<\/span><\/p> <\/p> Suggested Use<\/span><\/p> The Palisades Fire severity classification map highlights widespread \u2018high\u2019 to \u2018extreme\u2019 severity burns across the Santa Monica Mountains and surrounding areas, particularly in Topanga State Park, Temescal Gateway Park, and Monte Nido. These areas, dominated by chaparral and coastal sage scrub, experienced intense fire behavior, resulting in significant vegetation loss. The western sections, including areas near Saddle Peak Trailhead, also show severe burns following ridgelines and steep slopes, reinforcing the role of topography in fire intensity. In contrast, \u2018moderate\u2019 and \u2018low\u2019 severity burns appear in scattered patches, particularly near Topanga, Sylvia Park, and portions of Mandeville and Rustic Canyons, where surface fuels burned but some canopy remained intact. Additionally, vegetation in green \u2018unburnt\u2019 is mapped along the Pacific Coast Highway, near Malibu, Pacific Palisades, and Brentwood, suggesting fire suppression efforts or natural firebreaks may have limited spread in these areas.<\/span><\/p> The Eaton Fire severity classification map shows extensive \u2018high\u2019 to \u2018extreme\u2019 severity burns in the San Gabriel Mountains, particularly around Mount Wilson Observatory, Big Santa Anita Canyon, Sturtevant Falls, and Echo Mountain. These regions, characterized by steep terrain and mixed chaparral-woodland vegetation, experienced severe fire effects, leading to complete canopy consumption. The northwestern portions, including Dawn Mine and sections of the San Gabriel Mountains, also exhibit intense burns along ridgelines, aligning with expected fire spread dynamics in mountainous landscapes. In contrast, \u2018moderate\u2019 and \u2018low\u2019 severity burns are more scattered, particularly in Kinneloa Mesa and sections of Santa Anita Canyon, where some structural elements of the vegetation were retained despite surface fuel consumption. At the southern edge, near Altadena, Hastings Ranch, and Sierra Madre, \u2018unburnt\u2019 vegetation is observed, marking areas that remained unaffected within the fire perimeter.<\/span><\/p> <\/p> Terms of Use & Limitations<\/span><\/p> This product is only relevant to fire impacts to vegetation and should not be used to understand impacts to built infrastructure.<\/span><\/p> A key limitation of the fused fire severity product is its dependence on the quality of pre-disturbance baseline data. Inconsistencies or gaps in the baseline\u2014particularly in areas with frequent vegetation changes or limited temporal coverage\u2014can impact classification accuracy. Additionally, in highly mixed vegetation landscapes such as chaparral shrublands, RADAR-VSPI\u2019s structural sensitivity may dominate, potentially masking subtle spectral changes captured by VSPI. These challenges emphasize the need for ongoing refinement, improved temporal consistency, and ground-truth validation to enhance classification reliability.<\/span><\/p> Despite its limitations, the fire severity classification provides a general assessment of fire perimeters and vegetation damage. It can aid in post-fire recovery planning, such as soil stabilization in affected areas. The severity map also distinguishes between areas of structural collapse and regions where surface burns occurred while vegetation structure remained intact, offering insights for targeted mitigation efforts. Additionally, it may support long-term monitoring in the WUI, helping assess ecosystem recovery and fire behavior trends over time.<\/span><\/p> This enhanced fire severity product should be used with caution as a qualitative guide rather than an absolute measure of fire impacts. The classification is based on satellite-derived indices and may be influenced by factors such as sensor limitations, baseline data availability, and local vegetation variability.<\/span><\/p> NASA data and products are freely available to federal, state, public, non-profit, and commercial users. However, these datasets are primarily experimental or research-grade and may not be suitable for operational applications requiring real-time accuracy or consistency. The NASA Disasters Mapping Portal and associated data products are designed to support decision-making and enhance situational awareness, but availability and updates are not guaranteed on a routine basis.<\/span><\/p> <\/p> Credits<\/span><\/p> 1. Aakash Chhabra (NASA Ames/NEX; aakash.chhabra7489@gmail.com),<\/span><\/p> 2. Taejin Park (NASA Ames/NEX),<\/span><\/p> 3. Ian Brosnan (NASA Ames/NEX)<\/span><\/p> <\/p> Data Sources<\/span><\/p> a . Sentinel-1 (GRD pre-processed product): <\/span>https://developers.google.com/earthengine/datasets/catalog/COPERNICUS_S1_GRD#description<\/span><\/a><\/p> b. Sentinel-2 (2A atmospherically corrected product): <\/span>https://developers.google.com/earthengine/datasets/catalog/COPERNICUS_S2_SR_HARMONIZED<\/span><\/a><\/p> c. ESA Landcover: <\/span>https://developers.google.com/earthengine/datasets/catalog/ESA_WorldCover_v200<\/span><\/a><\/p> d. Fire Perimeter: <\/span>https://www.nifc.gov/fire-information/maps<\/span><\/a><\/p> <\/p> Service URL<\/span><\/p> <\/p> WMS Endpoint<\/span><\/p><\/div><\/div><\/div>",
"pixelType": "U8",
"meanPixelSize": 9.9999999999999094,
"exportTilesAllowed": false,
"editFieldsInfo": null,
"rasterTypeInfos": [{
"help": "",
"name": "Raster Dataset",
"description": "Supports all ArcGIS Raster Datasets"
}],
"defaultResamplingMethod": "Bilinear",
"itemAccess": false,
"minScale": 0,
"serviceProperties": " Dates of Images<\/span><\/p> Sentinel-1 and Sentinel-2 pre-fire collection: January 2018 to November 2024<\/span><\/p> Sentinel-1 post-fire image: 21st January 2025<\/span><\/p> Sentinel-2 post-fire image: 12th January 2025<\/span><\/p> <\/p> Summary<\/span><\/p> Fire severity refers to the degree of change caused by fire in the state of vegetation, encompassing both aboveground and belowground impacts. It reflects the extent of fuel consumption, vegetation mortality, and structural damage caused by the fire. Accurately mapping fire severity is critical for understanding ecological impacts, informing post-fire recovery strategies, and supporting emergency response efforts.<\/span><\/p> The 2025 Southern California fire episode marked one of the most severe global fire events in recent history. It resulted in extensive ecological and structural damage, particularly within the wildland-urban interface (WUI), where anthropogenic development interacts with fire-prone vegetation. The Palisades and Eaton fires were among the most severe, driven by prolonged drought, anomalously high temperatures, and strong synoptic-scale wind patterns. Given the large-scale ecosystem disturbances and infrastructural losses, an independent fire severity assessment for each fire is essential to quantify post-fire ecological impacts and inform resilience strategies. Traditionally, fire severity has been assessed both qualitatively and quantitatively through field surveys conducted by forest professionals. These assessments provide detailed on-the-ground observations but are often constrained by logistical challenges, such as less frequency of visit and limited spatial coverage. As a result, satellite remote sensing has become the preferred approach for fire severity mapping due to its ability to provide high-frequency, high-resolution, and continuous data over large spatial extents.<\/span><\/p> To address this need, this study employs the \u201cOptiSAR\u201d framework, a multi-sensor remote sensing approach, for enhanced fire severity assessment by integrating Synthetic Aperture Radar (SAR; Sentinel-1) and multispectral optical imagery (Sentinel-2). By leveraging SAR\u2019s all-weather and day/night capability and its sensitivity to structural changes in vegetation, along with optical indices' ability to capture spectral responses of burned landscapes, the \u201cOptiSAR\u201d enables a comprehensive and multi-dimensional assessment of fire-induced transformations.<\/span><\/p> <\/p> Satellite/Sensor & Resolution<\/span><\/p> Sentinel-1/ C-Band /10m spatial resolution.<\/span><\/p> Sentinel-2/ MSI /resampled spatial resolution from 20m to 10m.<\/span><\/p> <\/p> Methodology<\/span><\/p> Independent fire severity analyses were conducted for the Palisades and Eaton fires due to their distinct vegetation characteristics and fire dynamics. The Palisades and Eaton fires burned under different conditions, each with unique fire behavior and impacts. The Palisades fire spread rapidly due to strong coastal winds and dry fuels, leading to high-intensity burns. In contrast, the Eaton fire, with more varied terrain and denser fuel accumulation, burned at a different pace, resulting in distinct structural and spectral fire effects. The study area consists of chaparral, and coastal sage scrub, with chaparral being the dominant fire-prone vegetation type. It comprises dense, drought-adapted shrubs which accumulate dry biomass, contributing to high fire intensity. Coastal sage scrub and oak woodlands are also present, with varying degrees of fire adaptation.<\/span><\/p> The fire severity was divided into five classes and color-coded for intuitive visualization. Pixels in green show \u2018unburnt\u2019 representing undisturbed vegetation, yellow depict \u2018low\u2019 indicating areas with surface fuel depletion but an intact canopy. Orange represents \u2018moderate\u2019, signifying partial canopy scorch with some structural damage. Red denotes \u2018high\u2019, where complete canopy scorch and significant structural damage have occurred. Black indicates \u2018extreme\u2019, describing areas with total canopy consumption and collapse, resulting in extensive structural destruction.<\/span><\/p> To quantify changes in vegetation, two advanced change detection indices were employed: the RADAR-Vegetation Structural Perpendicular Index (RADAR-VSPI; Chhabra et al., 2022) and the Vegetation Structural Perpendicular Index (VSPI; Massetti et al., 2019). These indices represent a significant advancement over conventional vegetation characterization and burn severity indices by providing more detailed insights into disturbance-induced transformations as a function of their undisturbed state from the pre-fire period. To compute RADAR-VSPI and VSPI, a pixel-wise baseline was established using a time series of Sentinel-1 and Sentinel-2 data from January 2018 to November 2024. This baseline represented the spatiotemporal characteristics of undisturbed vegetation, identified from periods with no observed disturbances in both SAR and optical datasets. Post-fire vegetation changes were then quantified as an orthogonal distance from this baseline.<\/span><\/p> Independent fire severity classifications were performed separately on the post-fire RADAR-VSPI (21st January 2025) and VSPI (12th January 2025) acquisitions using K-means clustering. This unsupervised classification method was chosen due to its ability to objectively segment the data into distinct severity levels based on natural groupings within the distribution of RADAR-VSPI and VSPI values. Unlike threshold-based approaches, K-means clustering allows for a data-driven classification, reducing subjective biases in defining severity categories while ensuring adaptability across different fire-affected landscapes. From the clustering results, the severity class ranges for RADAR-VSPI and VSPI were derived, establishing quantitative thresholds that delineate the gradient of fire-induced vegetation and structural changes. Higher negative decibel values of RADAR-VSPI indicate greater structural destruction, whereas higher values in VSPI indicate greater vegetation damage. To systematically classify fire severity based on the synergies between RADAR-VSPI and VSPI, a high-level decision-tree algorithm was developed, enabling a data-driven approach to delineate fire impacts across varying burn intensities.<\/span><\/p> <\/p> Table 1: Fire severity classification ranges for the Palisades fire<\/span><\/p> Table 2: Fire severity classification ranges for the Eaton fire<\/span><\/p> <\/p> Suggested Use<\/span><\/p> The Palisades Fire severity classification map highlights widespread \u2018high\u2019 to \u2018extreme\u2019 severity burns across the Santa Monica Mountains and surrounding areas, particularly in Topanga State Park, Temescal Gateway Park, and Monte Nido. These areas, dominated by chaparral and coastal sage scrub, experienced intense fire behavior, resulting in significant vegetation loss. The western sections, including areas near Saddle Peak Trailhead, also show severe burns following ridgelines and steep slopes, reinforcing the role of topography in fire intensity. In contrast, \u2018moderate\u2019 and \u2018low\u2019 severity burns appear in scattered patches, particularly near Topanga, Sylvia Park, and portions of Mandeville and Rustic Canyons, where surface fuels burned but some canopy remained intact. Additionally, vegetation in green \u2018unburnt\u2019 is mapped along the Pacific Coast Highway, near Malibu, Pacific Palisades, and Brentwood, suggesting fire suppression efforts or natural firebreaks may have limited spread in these areas.<\/span>