{ "extent": { "ymin": 33.556387775227904, "xmin": -119.27614746870817, "ymax": 34.769113408789252, "xmax": -117.56467718940367, "spatialReference": { "latestWkid": 4326, "wkid": 4326 } }, "blockWidth": 2048, "mosaicOperator": "First", "serviceSourceType": "esriImageServiceSourceTypeMosaicDataset", "hasMultidimensions": false, "maxImageWidth": 15000, "maxRecordCount": 1000, "meanValues": [], "hasColormap": false, "compressionType": "None", "defaultCompressionQuality": 75, "maxValues": [], "hasHistograms": false, "datasetFormat": "AMD", "maxImageHeight": 4100, "sortField": "", "bandNames": ["Band_1"], "spatialReference": { "latestWkid": 4326, "wkid": 4326 }, "fullExtent": { "ymin": 33.556387775227904, "xmin": -119.27614746870817, "ymax": 34.769113408789252, "xmax": -117.56467718940367, "spatialReference": { "latestWkid": 4326, "wkid": 4326 } }, "bandCount": 1, "rasterFunctionInfos": [{ "help": "", "name": "None", "description": "" }], "supportsStatistics": true, "sortableFields": "", "minValues": [], "allowRasterFunction": true, "allowComputeTiePoints": false, "serviceDataType": "esriImageServiceDataTypeGeneric", "supportsAdvancedQueries": true, "maxDownloadSizeLimit": 2048, "currentVersion": 12, "sortValue": null, "objectIdField": "objectid", "blockHeight": 256, "initialExtent": { "ymin": 33.556387775227904, "xmin": -119.27614746870817, "ymax": 34.769113408789252, "xmax": -117.56467718940367, "spatialReference": { "latestWkid": 4326, "wkid": 4326 } }, "pixelSizeX": 0.00035932611364780745, "pixelSizeY": 0.00035932611364780686, "defaultMosaicMethod": "Northwest", "name": "DISASTERS_202501_FIRE_CA/2501_sentinel1_dmg", "allowedMosaicMethods": "NorthWest,Center,LockRaster,ByAttribute,Nadir,Viewpoint,Seamline,None", "maxDownloadImageCount": 20, "fields": [ { "domain": null, "name": "objectid", "alias": "OBJECTID", "type": "esriFieldTypeOID" }, { "domain": null, "name": "name", "length": 200, "alias": "Name", "type": "esriFieldTypeString" }, { "domain": null, "name": "minps", "alias": "MinPS", "type": "esriFieldTypeDouble" }, { "domain": null, "name": "maxps", "alias": "MaxPS", "type": "esriFieldTypeDouble" }, { "domain": null, "name": "lowps", "alias": "LowPS", "type": "esriFieldTypeDouble" }, { "domain": null, "name": "highps", "alias": "HighPS", "type": "esriFieldTypeDouble" }, { "domain": { "splitPolicy": "esriSPTDefaultValue", "name": "MosaicCatalogItemCategoryDomain", "description": "Catalog item categories.", "type": "codedValue", "codedValues": [ { "code": 0, "name": "Unknown" }, { "code": 1, "name": "Primary" }, { "code": 2, "name": "Overview" }, { "code": 3, "name": "Unprocessed Overview" }, { "code": 4, "name": "Partial Overview" }, { "code": 5, "name": "Inactive" }, { "code": 253, "name": "Uploaded" }, { "code": 254, "name": "Incomplete" }, { "code": 255, "name": "Custom" } ], "mergePolicy": "esriMPTDefaultValue" }, "name": "category", "alias": "Category", "type": "esriFieldTypeInteger" }, { "domain": null, "name": "tag", "length": 100, "alias": "Tag", "type": "esriFieldTypeString" }, { "domain": null, "name": "groupname", "length": 100, "alias": "GroupName", "type": "esriFieldTypeString" }, { "domain": null, "name": "productname", "length": 100, "alias": "ProductName", "type": "esriFieldTypeString" }, { "domain": null, "name": "centerx", "alias": "CenterX", "type": "esriFieldTypeDouble" }, { "domain": null, "name": "centery", "alias": "CenterY", "type": "esriFieldTypeDouble" }, { "domain": null, "name": "zorder", "alias": "ZOrder", "type": "esriFieldTypeInteger" }, { "domain": null, "name": "date", "alias": "Date", "type": "esriFieldTypeDateOnly" }, { "domain": null, "name": "shape", "alias": "Shape", "type": "esriFieldTypeGeometry" } ], "allowAnalysis": true, "hasRasterAttributeTable": false, "useStandardizedQueries": true, "description": "
Date of Image(s):<\/span><\/p> January 9, 2025, January 13, 2025, January 21, 2025<\/span><\/p> <\/p> Summary:<\/span><\/p> <\/p> This raster dataset (TIF) represents likely damaged/destroyed urban areas in Los Angeles, California, during the fires of January 2025. The map is the result of a coherent change detection analysis of interferometric Sentinel-1 radar (InSAR) images from January 2025 in comparison with pre-disaster reference images from 2022-2025. Coherent change detection analysis is used to show change across the entire domain, which includes vegetation and forested areas. This analysis is constrained to a snapshot of the FIRIS perimeter domain to highlight the damage to built up areas only.<\/span><\/p> Potentially damaged areas denoted in orange represent data collected on January 9, 2025 from a Sentinel-1 pass over the Altadena/Eaton area. Potentially damaged areas denoted in red represent data collected on January 13, 2025 from a Sentinel-1 pass over the Palisades area. Potentially damaged structures denoted in red represent data collected on January 21, 2025.<\/span><\/p> Date(s) and time(s) covered:<\/span><\/p> Swaths from 9 January 2025, 14 January 2025, and January 21, 2025, with 188 images collected from 2022-12-20 to 2025-01-02 for a pre-disaster reference dataset.<\/span><\/p> <\/p> Suggested Usage:<\/span><\/p> The map is meant for landscape-level geospatial overlay and visualization purposes of fire damage in urban/built-up regions. For example, the map is useful for tabulating estimates of the number of likely damaged or destroyed structures. Pixel values of 1 represent a region likely damaged or destroyed; pixel values of 0 represent all other regions.<\/span><\/p> <\/p> Satellite/Sensor:<\/span><\/p> European Space Agency Copernicus Sentinel-1/10 meter spatial resolution processed to 40 meters for interferometric coherence change analysis<\/span><\/p> <\/p> Resolution:<\/span><\/p> 40 meters<\/span><\/p> <\/p> Credits:<\/span><\/p> Damage analysis of Copernicus Sentinel-1 satellite data by Corey Scher of CUNY Graduate Center and Jamon Van Den Hoek of Oregon State University.<\/span><\/p> Contact: Jamon Van Den Hoek (jamon.vandenhoek@oregonstate.edu).<\/span><\/p> <\/p> Data sources:<\/span><\/p> Sentinel-1 <\/span>https://asf.alaska.edu/datasets/daac/sentinel-1/<\/span><\/a><\/p> Alaska Satellite Facility <\/span>https://hyp3-docs.asf.alaska.edu/usage_guidelines/<\/span><\/a><\/p> CA Perimeters NIFC FIRIS data (<\/span>gis.data.cnra.ca.gov/datasets/CALFIRE-Forestry::ca-perimeters-nifc-firis-public-view/<\/span><\/a>)<\/span><\/p> <\/p> Access and Use Constraints:<\/span><\/p> Likely Damaged Areas: The damage map has not been field-validated and omission/commission errors are likely present. Regions that changed over the course of the reference period or were otherwise dynamic (such as places of construction or destruction or vegetated areas) are likely excluded from the analysis.<\/span><\/p> <\/p> Service URL:<\/span><\/p> <\/p> WMS Endpoint:<\/span><\/p><\/div><\/div><\/div><\/p>",
"pixelType": "U8",
"meanPixelSize": 39.999999999999844,
"exportTilesAllowed": false,
"editFieldsInfo": null,
"rasterTypeInfos": [{
"help": "",
"name": "Raster Dataset",
"description": "Supports all ArcGIS Raster Datasets"
}],
"defaultResamplingMethod": "Bilinear",
"itemAccess": false,
"minScale": 0,
"serviceProperties": " Date of Image(s):<\/span><\/p> January 9, 2025, January 13, 2025, January 21, 2025<\/span><\/p> <\/p> Summary:<\/span><\/p> <\/p> This raster dataset (TIF) represents likely damaged/destroyed urban areas in Los Angeles, California, during the fires of January 2025. The map is the result of a coherent change detection analysis of interferometric Sentinel-1 radar (InSAR) images from January 2025 in comparison with pre-disaster reference images from 2022-2025. Coherent change detection analysis is used to show change across the entire domain, which includes vegetation and forested areas. This analysis is constrained to a snapshot of the FIRIS perimeter domain to highlight the damage to built up areas only.<\/span><\/p> Potentially damaged areas denoted in orange represent data collected on January 9, 2025 from a Sentinel-1 pass over the Altadena/Eaton area. Potentially damaged areas denoted in red represent data collected on January 13, 2025 from a Sentinel-1 pass over the Palisades area. Potentially damaged structures denoted in red represent data collected on January 21, 2025.<\/span><\/p> Date(s) and time(s) covered:<\/span><\/p> Swaths from 9 January 2025, 14 January 2025, and January 21, 2025, with 188 images collected from 2022-12-20 to 2025-01-02 for a pre-disaster reference dataset.<\/span><\/p> <\/p> Suggested Usage:<\/span><\/p> The map is meant for landscape-level geospatial overlay and visualization purposes of fire damage in urban/built-up regions. For example, the map is useful for tabulating estimates of the number of likely damaged or destroyed structures. Pixel values of 1 represent a region likely damaged or destroyed; pixel values of 0 represent all other regions.<\/span><\/p> <\/p> Satellite/Sensor:<\/span><\/p> European Space Agency Copernicus Sentinel-1/10 meter spatial resolution processed to 40 meters for interferometric coherence change analysis<\/span><\/p> <\/p> Resolution:<\/span><\/p> 40 meters<\/span><\/p> <\/p> Credits:<\/span><\/p> Damage analysis of Copernicus Sentinel-1 satellite data by Corey Scher of CUNY Graduate Center and Jamon Van Den Hoek of Oregon State University.<\/span><\/p> Contact: Jamon Van Den Hoek (jamon.vandenhoek@oregonstate.edu).<\/span><\/p> <\/p> Data sources:<\/span><\/p> Sentinel-1 <\/span>https://asf.alaska.edu/datasets/daac/sentinel-1/<\/span><\/a><\/p> Alaska Satellite Facility <\/span>https://hyp3-docs.asf.alaska.edu/usage_guidelines/<\/span><\/a><\/p>