{ "extent": { "ymin": 33.332701468127134, "xmin": -119.17378005999996, "ymax": 34.337736608000057, "xmax": -117.9693189270525, "spatialReference": { "latestWkid": 4326, "wkid": 4326 } }, "blockWidth": 2048, "mosaicOperator": "First", "serviceSourceType": "esriImageServiceSourceTypeMosaicDataset", "hasMultidimensions": false, "maxImageWidth": 15000, "maxRecordCount": 1000, "meanValues": [0.020790766469996051], "hasColormap": false, "compressionType": "None", "defaultCompressionQuality": 75, "maxValues": [0.65026882838352407], "hasHistograms": true, "datasetFormat": "AMD", "maxImageHeight": 4100, "sortField": "", "bandNames": ["Band_1"], "spatialReference": { "latestWkid": 4326, "wkid": 4326 }, "fullExtent": { "ymin": 33.332701468127134, "xmin": -119.17378005999996, "ymax": 34.337736608000057, "xmax": -117.9693189270525, "spatialReference": { "latestWkid": 4326, "wkid": 4326 } }, "bandCount": 1, "rasterFunctionInfos": [{ "help": "", "name": "None", "description": "" }], "supportsStatistics": true, "sortableFields": "", "minValues": [-0.63337283845947201], "allowRasterFunction": true, "allowComputeTiePoints": false, "serviceDataType": "esriImageServiceDataTypeGeneric", "supportsAdvancedQueries": true, "maxDownloadSizeLimit": 2048, "currentVersion": 12, "sortValue": null, "objectIdField": "objectid", "blockHeight": 256, "initialExtent": { "ymin": 33.332701468127134, "xmin": -119.17378005999996, "ymax": 34.337736608000057, "xmax": -117.9693189270525, "spatialReference": { "latestWkid": 4326, "wkid": 4326 } }, "pixelSizeX": 0.00017966305682390478, "pixelSizeY": 0.00017966305682390478, "defaultMosaicMethod": "Northwest", "name": "DISASTERS_202501_FIRE_CA/2501_sentinel2_dnbr", "allowedMosaicMethods": "NorthWest,Center,LockRaster,ByAttribute,Nadir,Viewpoint,Seamline,None", "maxDownloadImageCount": 20, "fields": [ { "domain": null, "name": "objectid", "alias": "OBJECTID", "type": "esriFieldTypeOID" }, { "domain": null, "name": "name", "length": 200, "alias": "Name", "type": "esriFieldTypeString" }, { "domain": null, "name": "minps", "alias": "MinPS", "type": "esriFieldTypeDouble" }, { "domain": null, "name": "maxps", "alias": "MaxPS", "type": "esriFieldTypeDouble" }, { "domain": null, "name": "lowps", "alias": "LowPS", "type": "esriFieldTypeDouble" }, { "domain": null, "name": "highps", "alias": "HighPS", "type": "esriFieldTypeDouble" }, { "domain": { "splitPolicy": "esriSPTDefaultValue", "name": "MosaicCatalogItemCategoryDomain", "description": "Catalog item categories.", "type": "codedValue", "codedValues": [ { "code": 0, "name": "Unknown" }, { "code": 1, "name": "Primary" }, { "code": 2, "name": "Overview" }, { "code": 3, "name": "Unprocessed Overview" }, { "code": 4, "name": "Partial Overview" }, { "code": 5, "name": "Inactive" }, { "code": 253, "name": "Uploaded" }, { "code": 254, "name": "Incomplete" }, { "code": 255, "name": "Custom" } ], "mergePolicy": "esriMPTDefaultValue" }, "name": "category", "alias": "Category", "type": "esriFieldTypeInteger" }, { "domain": null, "name": "tag", "length": 100, "alias": "Tag", "type": "esriFieldTypeString" }, { "domain": null, "name": "groupname", "length": 100, "alias": "GroupName", "type": "esriFieldTypeString" }, { "domain": null, "name": "productname", "length": 100, "alias": "ProductName", "type": "esriFieldTypeString" }, { "domain": null, "name": "centerx", "alias": "CenterX", "type": "esriFieldTypeDouble" }, { "domain": null, "name": "centery", "alias": "CenterY", "type": "esriFieldTypeDouble" }, { "domain": null, "name": "zorder", "alias": "ZOrder", "type": "esriFieldTypeInteger" }, { "domain": null, "name": "date", "alias": "Date", "type": "esriFieldTypeDateOnly" }, { "domain": null, "name": "shape", "alias": "Shape", "type": "esriFieldTypeGeometry" } ], "allowAnalysis": true, "hasRasterAttributeTable": false, "useStandardizedQueries": true, "description": "
Date of Image(s):<\/span><\/p> 12/18/2024; UTC: 183709<\/span><\/p> 1/12/25; UTC: 183731<\/span><\/p> <\/span><\/p> Summary:<\/span><\/p> These pre-fire and post-fire images pair were analyzed for normalized burn ratio (NBR). The input imagers were generated from the ESA\u2019s Sentinel-2\u2019s Multi-Spectral imager. They were created from the Level 2A products which have been atmospherically corrected and orthorectified.<\/span><\/p> NBR is defined mathematically as (NIR \u2013 SWIR)/(NIR + SWIR) where NIR is near-infrared and SWIR is short-wave infrared. For Sentinel 2, NIR = Band 8 and SWIR = Band 12. Using these definitions, the 20-meter resolution Band 8 and Band 12 images were used to generate these products. Sentinel-2 NBR methods: https://custom-scripts.sentinel-hub.com/custom-scripts/sentinel-2/nbr/<\/span><\/p> Finally dNBR is simply the difference between the pre-fire NBR and the post-fire NBR. Thus, we calculated dNBR as dNBR = NBR(12/18/2024) - NBR(01/12/2025).<\/span><\/p> <\/span><\/p> Suggested Use:<\/span><\/p> NBR is commonly used as a proxy to indicate areas which have charred vegetation. Darker areas (more negative values) in the NBR image more strongly represent the presence of burned vegetation. Since the dNBR considers the condition of the scene before the fire occurred, the resulting value has been used as a proxy for burn severity. More positive values in the dNBR analysis represent a proxy for greater burn severity. Negative values in dNBR represent a re-greening of or growth of vegetation in between pre and post imagery.<\/span><\/p> The use of this dNBR product as a quantitative metric of burn severity of the Los Angeles Fires at the time of posting this dataset should be strongly caveated. This is due to several dNBR Limitations:<\/span><\/p> The spectral band selections used in the NBR and dNBR calculations, and the implication of changes observed following fire in those wavelengths, primarily pertain to how vegetation spectral signatures change in NIR and SWIR wavelengths following charring. Because of this, dNBR may not accurately describe burned surfaces that are not vegetation (e.g. human built infrastructure).<\/span><\/p> This dataset has not been validated by independent burn severity assessments.<\/span><\/p> The degree to which dNBR is accurately determined depends on careful selection of pre and post event imagery. An effort was made to use the highest quality imagery (i.e. cloud free) with the shortest time difference possible in the image pair; however, it is unknown at the time of this posting how selection of different pre/post image pairs could affect the derived dNBR values.<\/span><\/p> <\/span><\/p> Satellite/Sensor:<\/span><\/p> ESA Copernicus Sentinel-2<\/span><\/p> <\/span><\/p> Resolution:<\/span><\/p> 20 m in infrared bands<\/span><\/p> <\/span><\/p> Credits:<\/span><\/p> Copernicus Sentinel-2 data was downloaded from the Sentinel-2 data explorer (https://dataspace.copernicus.eu/explore-data/data-collections/sentinel-data/sentinel-2)<\/span><\/p> Data processed by Kyle Kabasares (ARC; kyle.k.kabasares@nasa.gov)<\/span><\/p> <\/span><\/p> References:<\/span><\/p> Normalize Burn Ratio theory: <\/span>https://un-spider.org/advisory-support/recommended-practices/recommended-practice-burn-severity/in-detail/normalized-burn-ratio<\/span><\/a><\/p> <\/span><\/p> Service URL:<\/span><\/p> https://gis.earthdata.nasa.gov/portal/home/item.html?id=3bc872886af24b799acd2ef881691a6a<\/a><\/p> <\/span><\/p> WMS Endpoint:<\/span><\/p> https://gis.earthdata.nasa.gov/portal/services/DISASTERS_202501_FIRE_CA/SENTINEL2_DNBR/ImageServer/WMSServer<\/a><\/p> <\/span><\/p> <\/span><\/p><\/div><\/div><\/div>",
"pixelType": "F64",
"meanPixelSize": 20.000000000000053,
"exportTilesAllowed": false,
"editFieldsInfo": null,
"rasterTypeInfos": [{
"help": "",
"name": "Raster Dataset",
"description": "Supports all ArcGIS Raster Datasets"
}],
"defaultResamplingMethod": "Bilinear",
"itemAccess": false,
"minScale": 0,
"serviceProperties": " Date of Image(s):<\/span><\/p> 12/18/2024; UTC: 183709<\/span><\/p> 1/12/25; UTC: 183731<\/span><\/p> <\/span><\/p> Summary:<\/span><\/p> These pre-fire and post-fire images pair were analyzed for normalized burn ratio (NBR). The input imagers were generated from the ESA\u2019s Sentinel-2\u2019s Multi-Spectral imager. They were created from the Level 2A products which have been atmospherically corrected and orthorectified.<\/span><\/p> NBR is defined mathematically as (NIR \u2013 SWIR)/(NIR + SWIR) where NIR is near-infrared and SWIR is short-wave infrared. For Sentinel 2, NIR = Band 8 and SWIR = Band 12. Using these definitions, the 20-meter resolution Band 8 and Band 12 images were used to generate these products. Sentinel-2 NBR methods: https://custom-scripts.sentinel-hub.com/custom-scripts/sentinel-2/nbr/<\/span><\/p> Finally dNBR is simply the difference between the pre-fire NBR and the post-fire NBR. Thus, we calculated dNBR as dNBR = NBR(12/18/2024) - NBR(01/12/2025).<\/span><\/p> <\/span><\/p> Suggested Use:<\/span><\/p> NBR is commonly used as a proxy to indicate areas which have charred vegetation. Darker areas (more negative values) in the NBR image more strongly represent the presence of burned vegetation. Since the dNBR considers the condition of the scene before the fire occurred, the resulting value has been used as a proxy for burn severity. More positive values in the dNBR analysis represent a proxy for greater burn severity. Negative values in dNBR represent a re-greening of or growth of vegetation in between pre and post imagery.<\/span><\/p> The use of this dNBR product as a quantitative metric of burn severity of the Los Angeles Fires at the time of posting this dataset should be strongly caveated. This is due to several dNBR Limitations:<\/span><\/p> The spectral band selections used in the NBR and dNBR calculations, and the implication of changes observed following fire in those wavelengths, primarily pertain to how vegetation spectral signatures change in NIR and SWIR wavelengths following charring. Because of this, dNBR may not accurately describe burned surfaces that are not vegetation (e.g. human built infrastructure).<\/span><\/p> This dataset has not been validated by independent burn severity assessments.<\/span><\/p> The degree to which dNBR is accurately determined depends on careful selection of pre and post event imagery. An effort was made to use the highest quality imagery (i.e. cloud free) with the shortest time difference possible in the image pair; however, it is unknown at the time of this posting how selection of different pre/post image pairs could affect the derived dNBR values.<\/span><\/p> <\/span><\/p> Satellite/Sensor:<\/span><\/p> ESA Copernicus Sentinel-2<\/span><\/p> <\/span><\/p> Resolution:<\/span><\/p> 20 m in infrared bands<\/span><\/p> <\/span><\/p> Credits:<\/span><\/p> Copernicus Sentinel-2 data was downloaded from the Sentinel-2 data explorer (https://dataspace.copernicus.eu/explore-data/data-collections/sentinel-data/sentinel-2)<\/span><\/p> Data processed by Kyle Kabasares (ARC; kyle.k.kabasares@nasa.gov)<\/span><\/p> <\/span><\/p> References:<\/span><\/p> Normalize Burn Ratio theory: <\/span>https://un-spider.org/advisory-support/recommended-practices/recommended-practice-burn-severity/in-detail/normalized-burn-ratio<\/span><\/a><\/p> <\/span><\/p> Service URL:<\/span><\/p> https://gis.earthdata.nasa.gov/portal/home/item.html?id=3bc872886af24b799acd2ef881691a6a<\/a><\/p>