{ "extent": { "ymin": 25.309120951479386, "xmin": -127.78816772438448, "ymax": 52.909120330782883, "xmax": -73.488168945537382, "spatialReference": { "latestWkid": 4326, "wkid": 4326 } }, "blockWidth": 2048, "mosaicOperator": "First", "serviceSourceType": "esriImageServiceSourceTypeMosaicDataset", "hasMultidimensions": false, "maxImageWidth": 15000, "maxRecordCount": 1000, "meanValues": [], "hasColormap": false, "compressionType": "None", "defaultCompressionQuality": 75, "maxValues": [], "hasHistograms": false, "datasetFormat": "AMD", "maxImageHeight": 4100, "sortField": "", "bandNames": ["Band_1"], "spatialReference": { "latestWkid": 4326, "wkid": 4326 }, "fullExtent": { "ymin": 25.309120951479386, "xmin": -127.78816772438448, "ymax": 52.909120330782883, "xmax": -73.488168945537382, "spatialReference": { "latestWkid": 4326, "wkid": 4326 } }, "bandCount": 1, "rasterFunctionInfos": [{ "help": "", "name": "None", "description": "" }], "supportsStatistics": true, "sortableFields": "", "minValues": [], "allowRasterFunction": true, "allowComputeTiePoints": false, "serviceDataType": "esriImageServiceDataTypeGeneric", "supportsAdvancedQueries": true, "maxDownloadSizeLimit": 2048, "currentVersion": 12, "sortValue": null, "objectIdField": "objectid", "blockHeight": 256, "initialExtent": { "ymin": 25.309120951479386, "xmin": -127.78816772438448, "ymax": 52.909120330782883, "xmax": -73.488168945537382, "spatialReference": { "latestWkid": 4326, "wkid": 4326 } }, "pixelSizeX": 0.019999999550219926, "pixelSizeY": 0.019999999550219926, "defaultMosaicMethod": "Northwest", "name": "DISASTERS_202504_SEVEREWX_SOUTHEASTUS/2505_goes", "allowedMosaicMethods": "NorthWest,Center,LockRaster,ByAttribute,Nadir,Viewpoint,Seamline,None", "maxDownloadImageCount": 20, "fields": [ { "domain": null, "name": "objectid", "alias": "OBJECTID", "type": "esriFieldTypeOID" }, { "domain": null, "name": "name", "length": 200, "alias": "Name", "type": "esriFieldTypeString" }, { "domain": null, "name": "minps", "alias": "MinPS", "type": "esriFieldTypeDouble" }, { "domain": null, "name": "maxps", "alias": "MaxPS", "type": "esriFieldTypeDouble" }, { "domain": null, "name": "lowps", "alias": "LowPS", "type": "esriFieldTypeDouble" }, { "domain": null, "name": "highps", "alias": "HighPS", "type": "esriFieldTypeDouble" }, { "domain": { "splitPolicy": "esriSPTDefaultValue", "name": "MosaicCatalogItemCategoryDomain", "description": "Catalog item categories.", "type": "codedValue", "codedValues": [ { "code": 0, "name": "Unknown" }, { "code": 1, "name": "Primary" }, { "code": 2, "name": "Overview" }, { "code": 3, "name": "Unprocessed Overview" }, { "code": 4, "name": "Partial Overview" }, { "code": 5, "name": "Inactive" }, { "code": 253, "name": "Uploaded" }, { "code": 254, "name": "Incomplete" }, { "code": 255, "name": "Custom" } ], "mergePolicy": "esriMPTDefaultValue" }, "name": "category", "alias": "Category", "type": "esriFieldTypeInteger" }, { "domain": null, "name": "tag", "length": 100, "alias": "Tag", "type": "esriFieldTypeString" }, { "domain": null, "name": "groupname", "length": 100, "alias": "GroupName", "type": "esriFieldTypeString" }, { "domain": null, "name": "productname", "length": 100, "alias": "ProductName", "type": "esriFieldTypeString" }, { "domain": null, "name": "centerx", "alias": "CenterX", "type": "esriFieldTypeDouble" }, { "domain": null, "name": "centery", "alias": "CenterY", "type": "esriFieldTypeDouble" }, { "domain": null, "name": "zorder", "alias": "ZOrder", "type": "esriFieldTypeInteger" }, { "domain": null, "name": "date", "alias": "Date", "type": "esriFieldTypeDateOnly" }, { "domain": null, "name": "shape", "alias": "Shape", "type": "esriFieldTypeGeometry" } ], "allowAnalysis": true, "hasRasterAttributeTable": false, "useStandardizedQueries": true, "description": "
Note: this data is currently in testing and is experimental.<\/span><\/p> Date of Images:<\/span><\/p> Post-Event: 4/2/2025-4/6/2025<\/span><\/p> <\/p> Summary:<\/span><\/p> Storms that produce heavy rain, damaging winds, hail, and tornadoes often exhibit distinct cloud-top patterns in satellite imagery. Two of these patterns, overshooting tops (OTs) and above-anvil cirrus plumes (AACPs), are frequently observed over intense storms. Using deep learning techniques, researchers at NASA Langley Research Center developed software to automatically detect these severe storm signatures in 500m GOES satellite data collected every 5 minutes.<\/span><\/p> Emergency managers can use this raster data to quickly identify locations where severe storms likely occurred, complementing ground-based reports in regions with limited observations. Severe weather on the ground is more likely when OTs and AACPs are both detected and in areas where detections are clustered or observed repeatedly. Long, nearly straight lines of OT and AACP time-aggregated detections can indicate severe storm tracks.<\/span><\/p> <\/p> Suggested Use and Use Cases:<\/span><\/p> Target audiences: GIS specialists, tactical emergency managers<\/span><\/p> Information Needed: Near real-time situational awareness about locations where severe storm impacts may have occurred.<\/span><\/p> Example Uses: Target additional information collection. Prioritize field activities (e.g. assessments, resource allocation).<\/span><\/p> Value Proposition: Low resolution, low latency data shows areas that may have recently or may soon experience severe weather (nowcasting).<\/span><\/p> <\/p> Satellite:<\/span><\/p> Geostationary Operational Environmental Satellite (GOES) Satellite remote sensing over North & South America<\/span><\/p> <\/p> Resolution: <\/span><\/p> 5 minute temporal resolution observation frequency, 500m spatial resolution<\/span><\/p> <\/p> Product Specifications:<\/span><\/p> <\/p> <\/p> Caveats:<\/span><\/p> While the presence of OTs and AACPs often correlates with severe weather, this product does not observe ground impacts and may detect features that do not correspond to severe weather.<\/span><\/p> <\/p> Service URL:<\/span><\/p> WMS Endpoint:<\/span><\/p> <\/p> <\/p><\/div><\/div><\/div><\/p>",
"pixelType": "F32",
"meanPixelSize": 2226.3897657961825,
"exportTilesAllowed": false,
"editFieldsInfo": null,
"rasterTypeInfos": [{
"help": "",
"name": "Raster Dataset",
"description": "Supports all ArcGIS Raster Datasets"
}],
"defaultResamplingMethod": "Bilinear",
"itemAccess": false,
"minScale": 0,
"serviceProperties": " Note: this data is currently in testing and is experimental.<\/span><\/p> Date of Images:<\/span><\/p> Post-Event: 4/2/2025-4/6/2025<\/span><\/p> <\/p> Summary:<\/span><\/p> Storms that produce heavy rain, damaging winds, hail, and tornadoes often exhibit distinct cloud-top patterns in satellite imagery. Two of these patterns, overshooting tops (OTs) and above-anvil cirrus plumes (AACPs), are frequently observed over intense storms. Using deep learning techniques, researchers at NASA Langley Research Center developed software to automatically detect these severe storm signatures in 500m GOES satellite data collected every 5 minutes.<\/span><\/p> Emergency managers can use this raster data to quickly identify locations where severe storms likely occurred, complementing ground-based reports in regions with limited observations. Severe weather on the ground is more likely when OTs and AACPs are both detected and in areas where detections are clustered or observed repeatedly. Long, nearly straight lines of OT and AACP time-aggregated detections can indicate severe storm tracks.<\/span><\/p> <\/p> Suggested Use and Use Cases:<\/span><\/p> Target audiences: GIS specialists, tactical emergency managers<\/span><\/p> Information Needed: Near real-time situational awareness about locations where severe storm impacts may have occurred.<\/span><\/p> Example Uses: Target additional information collection. Prioritize field activities (e.g. assessments, resource allocation).<\/span><\/p> Value Proposition: Low resolution, low latency data shows areas that may have recently or may soon experience severe weather (nowcasting).<\/span><\/p> <\/p> Satellite:<\/span><\/p> Geostationary Operational Environmental Satellite (GOES) Satellite remote sensing over North & South America<\/span><\/p> <\/p> Resolution: <\/span><\/p> 5 minute temporal resolution observation frequency, 500m spatial resolution<\/span><\/p> <\/p> Product Specifications:<\/span><\/p> <\/p> <\/p> Caveats:<\/span><\/p> While the presence of OTs and AACPs often correlates with severe weather, this product does not observe ground impacts and may detect features that do not correspond to severe weather.<\/span><\/p> <\/p> Service URL:<\/span><\/p> WMS Endpoint:<\/span><\/p> <\/p> <\/p><\/div><\/div><\/div><\/p>",
"allowCopy": true,
"copyrightText": "NASA; Jack Cooney, Kris Bedka",
"mensurationCapabilities": "Basic",
"ownershipBasedAccessControlForRasters": null
}