{ "extent": { "ymin": 33.465188294840786, "xmin": -92.959199460906646, "ymax": 37.177526946765795, "xmax": -88.239944229223156, "spatialReference": { "latestWkid": 4326, "wkid": 4326 } }, "blockWidth": 2048, "mosaicOperator": "First", "serviceSourceType": "esriImageServiceSourceTypeMosaicDataset", "hasMultidimensions": false, "maxImageWidth": 15000, "maxRecordCount": 1000, "meanValues": [], "hasColormap": false, "compressionType": "None", "defaultCompressionQuality": 75, "maxValues": [], "hasHistograms": false, "datasetFormat": "AMD", "maxImageHeight": 4100, "sortField": "", "bandNames": [ "Band_1", "Band_2", "Band_3" ], "spatialReference": { "latestWkid": 4326, "wkid": 4326 }, "fullExtent": { "ymin": 33.465188294840786, "xmin": -92.959199460906646, "ymax": 37.177526946765795, "xmax": -88.239944229223156, "spatialReference": { "latestWkid": 4326, "wkid": 4326 } }, "bandCount": 3, "rasterFunctionInfos": [{ "help": "", "name": "None", "description": "" }], "supportsStatistics": true, "sortableFields": "", "minValues": [], "allowRasterFunction": true, "allowComputeTiePoints": false, "serviceDataType": "esriImageServiceDataTypeRGB", "supportsAdvancedQueries": true, "maxDownloadSizeLimit": 2048, "currentVersion": 12, "sortValue": null, "objectIdField": "objectid", "blockHeight": 256, "initialExtent": { "ymin": 33.465188294840786, "xmin": -92.959199460906646, "ymax": 37.177526946765795, "xmax": -88.239944229223156, "spatialReference": { "latestWkid": 4326, "wkid": 4326 } }, "pixelSizeX": 0.000048017004280328138, "pixelSizeY": 0.000048017004280328131, "defaultMosaicMethod": "Northwest", "name": "DISASTERS_202504_SEVEREWX_SOUTHEASTUS/2505_iss", "allowedMosaicMethods": "NorthWest,Center,LockRaster,ByAttribute,Nadir,Viewpoint,Seamline,None", "maxDownloadImageCount": 20, "fields": [ { "domain": null, "name": "objectid", "alias": "OBJECTID", "type": "esriFieldTypeOID" }, { "domain": null, "name": "name", "length": 200, "alias": "Name", "type": "esriFieldTypeString" }, { "domain": null, "name": "minps", "alias": "MinPS", "type": "esriFieldTypeDouble" }, { "domain": null, "name": "maxps", "alias": "MaxPS", "type": "esriFieldTypeDouble" }, { "domain": null, "name": "lowps", "alias": "LowPS", "type": "esriFieldTypeDouble" }, { "domain": null, "name": "highps", "alias": "HighPS", "type": "esriFieldTypeDouble" }, { "domain": { "splitPolicy": "esriSPTDefaultValue", "name": "MosaicCatalogItemCategoryDomain", "description": "Catalog item categories.", "type": "codedValue", "codedValues": [ { "code": 0, "name": "Unknown" }, { "code": 1, "name": "Primary" }, { "code": 2, "name": "Overview" }, { "code": 3, "name": "Unprocessed Overview" }, { "code": 4, "name": "Partial Overview" }, { "code": 5, "name": "Inactive" }, { "code": 253, "name": "Uploaded" }, { "code": 254, "name": "Incomplete" }, { "code": 255, "name": "Custom" } ], "mergePolicy": "esriMPTDefaultValue" }, "name": "category", "alias": "Category", "type": "esriFieldTypeInteger" }, { "domain": null, "name": "tag", "length": 100, "alias": "Tag", "type": "esriFieldTypeString" }, { "domain": null, "name": "groupname", "length": 100, "alias": "GroupName", "type": "esriFieldTypeString" }, { "domain": null, "name": "productname", "length": 100, "alias": "ProductName", "type": "esriFieldTypeString" }, { "domain": null, "name": "centerx", "alias": "CenterX", "type": "esriFieldTypeDouble" }, { "domain": null, "name": "centery", "alias": "CenterY", "type": "esriFieldTypeDouble" }, { "domain": null, "name": "zorder", "alias": "ZOrder", "type": "esriFieldTypeInteger" }, { "domain": null, "name": "date", "alias": "Date", "type": "esriFieldTypeDateOnly" }, { "domain": null, "name": "shape", "alias": "Shape", "type": "esriFieldTypeGeometry" } ], "allowAnalysis": true, "hasRasterAttributeTable": false, "useStandardizedQueries": true, "description": "
The visible-wavelength true color RGB digital camera images were taken by astronauts aboard the International Space Station showing areas affected by the severe storms in April 2025 in Arkansas and Mississippi.<\/span><\/p> <\/p> Date of Images:<\/span><\/p> April 15, 2025<\/span><\/p> <\/p> Suggested Use:<\/span><\/p> This image provides regional context, and may be useful for visualization of the ongoing event. Higher spatial resolution images may be suitable for spatial analysis to support decision making or research applications.<\/span><\/p> Focal Length:<\/span><\/p> 78mm: 1001007, 1001013 & 1001016<\/span><\/p> 170mm: 1001022, 1001025 & 1001028<\/span><\/p> 380mm: 1001034<\/span><\/p> 500mm: 1001037 - 1001079<\/span><\/p> <\/p> Additional Information about the astronaut photography from the ISS.<\/span><\/p> <\/p> Credits:<\/span><\/p> International Space Station Program, NASA Johnson Space Center Earth Science and Remote Sensing Unit, ARES Division, Exploration Architecture, Integration & Science Directorate<\/span><\/p> <\/p> Esri REST Endpoint:<\/span><\/p> <\/p> WMS Endpoint:<\/span><\/p> <\/p> Data Download:<\/span><\/p> Full datasets are available for download at the Gateway to Astronaut Photography of Earth.<\/span><\/p> Download for this specific data can be found at: <\/span>https://eol.jsc.nasa.gov/WebShare/WebShare.pl?folder=NASADisastersProgram%2FNDP_TornadoesSouthernUS_15APRIL2025<\/span><\/a><\/p><\/div><\/div><\/div><\/p>",
"pixelType": "U8",
"meanPixelSize": 5.3452284659045652,
"exportTilesAllowed": false,
"editFieldsInfo": null,
"rasterTypeInfos": [{
"help": "",
"name": "Raster Dataset",
"description": "Supports all ArcGIS Raster Datasets"
}],
"defaultResamplingMethod": "Bilinear",
"itemAccess": false,
"minScale": 0,
"serviceProperties": " The visible-wavelength true color RGB digital camera images were taken by astronauts aboard the International Space Station showing areas affected by the severe storms in April 2025 in Arkansas and Mississippi.<\/span><\/p> <\/p> Date of Images:<\/span><\/p> April 15, 2025<\/span><\/p> <\/p> Suggested Use:<\/span><\/p> This image provides regional context, and may be useful for visualization of the ongoing event. Higher spatial resolution images may be suitable for spatial analysis to support decision making or research applications.<\/span><\/p> Focal Length:<\/span><\/p> 78mm: 1001007, 1001013 & 1001016<\/span><\/p> 170mm: 1001022, 1001025 & 1001028<\/span><\/p> 380mm: 1001034<\/span><\/p> 500mm: 1001037 - 1001079<\/span><\/p> <\/p> Additional Information about the astronaut photography from the ISS.<\/span><\/p> <\/p> Credits:<\/span><\/p> International Space Station Program, NASA Johnson Space Center Earth Science and Remote Sensing Unit, ARES Division, Exploration Architecture, Integration & Science Directorate<\/span><\/p> <\/p> Esri REST Endpoint:<\/span><\/p> <\/p> WMS Endpoint:<\/span><\/p> <\/p> Data Download:<\/span><\/p> Full datasets are available for download at the Gateway to Astronaut Photography of Earth.<\/span><\/p> Download for this specific data can be found at: <\/span>https://eol.jsc.nasa.gov/WebShare/WebShare.pl?folder=NASADisastersProgram%2FNDP_TornadoesSouthernUS_15APRIL2025<\/span><\/a><\/p><\/div><\/div><\/div><\/p>",
"allowCopy": true,
"copyrightText": "International Space Station Program, NASA Johnson Space Center Earth Science and Remote Sensing Unit, ARES Division, Exploration Architecture, Integration & Science Directorate",
"mensurationCapabilities": "Basic",
"ownershipBasedAccessControlForRasters": null
}