{ "extent": { "ymin": 27.742862461378984, "xmin": -93.270046297999954, "ymax": 40.107274032000078, "xmax": -84.821660545441091, "spatialReference": { "latestWkid": 4326, "wkid": 4326 } }, "blockWidth": 2048, "mosaicOperator": "First", "serviceSourceType": "esriImageServiceSourceTypeMosaicDataset", "hasMultidimensions": false, "maxImageWidth": 15000, "maxRecordCount": 1000, "meanValues": [], "hasColormap": false, "compressionType": "None", "defaultCompressionQuality": 75, "maxValues": [], "hasHistograms": false, "datasetFormat": "AMD", "maxImageHeight": 4100, "sortField": "", "bandNames": [ "Band_1", "Band_2", "Band_3" ], "spatialReference": { "latestWkid": 4326, "wkid": 4326 }, "fullExtent": { "ymin": 27.742862461378984, "xmin": -93.270046297999954, "ymax": 40.107274032000078, "xmax": -84.821660545441091, "spatialReference": { "latestWkid": 4326, "wkid": 4326 } }, "bandCount": 3, "rasterFunctionInfos": [{ "help": "", "name": "None", "description": "" }], "supportsStatistics": true, "sortableFields": "", "minValues": [], "allowRasterFunction": true, "allowComputeTiePoints": false, "serviceDataType": "esriImageServiceDataTypeRGB", "supportsAdvancedQueries": true, "maxDownloadSizeLimit": 2048, "currentVersion": 12, "sortValue": null, "objectIdField": "objectid", "blockHeight": 256, "initialExtent": { "ymin": 27.742862461378984, "xmin": -93.270046297999954, "ymax": 40.107274032000078, "xmax": -84.821660545441091, "spatialReference": { "latestWkid": 4326, "wkid": 4326 } }, "pixelSizeX": 0.00026949458523585642, "pixelSizeY": 0.00026949458523585647, "defaultMosaicMethod": "Northwest", "name": "DISASTERS_202504_SEVEREWX_SOUTHEASTUS/2505_landsat", "allowedMosaicMethods": "NorthWest,Center,LockRaster,ByAttribute,Nadir,Viewpoint,Seamline,None", "maxDownloadImageCount": 20, "fields": [ { "domain": null, "name": "objectid", "alias": "OBJECTID", "type": "esriFieldTypeOID" }, { "domain": null, "name": "name", "length": 200, "alias": "Name", "type": "esriFieldTypeString" }, { "domain": null, "name": "minps", "alias": "MinPS", "type": "esriFieldTypeDouble" }, { "domain": null, "name": "maxps", "alias": "MaxPS", "type": "esriFieldTypeDouble" }, { "domain": null, "name": "lowps", "alias": "LowPS", "type": "esriFieldTypeDouble" }, { "domain": null, "name": "highps", "alias": "HighPS", "type": "esriFieldTypeDouble" }, { "domain": { "splitPolicy": "esriSPTDefaultValue", "name": "MosaicCatalogItemCategoryDomain", "description": "Catalog item categories.", "type": "codedValue", "codedValues": [ { "code": 0, "name": "Unknown" }, { "code": 1, "name": "Primary" }, { "code": 2, "name": "Overview" }, { "code": 3, "name": "Unprocessed Overview" }, { "code": 4, "name": "Partial Overview" }, { "code": 5, "name": "Inactive" }, { "code": 253, "name": "Uploaded" }, { "code": 254, "name": "Incomplete" }, { "code": 255, "name": "Custom" } ], "mergePolicy": "esriMPTDefaultValue" }, "name": "category", "alias": "Category", "type": "esriFieldTypeInteger" }, { "domain": null, "name": "tag", "length": 100, "alias": "Tag", "type": "esriFieldTypeString" }, { "domain": null, "name": "groupname", "length": 100, "alias": "GroupName", "type": "esriFieldTypeString" }, { "domain": null, "name": "productname", "length": 100, "alias": "ProductName", "type": "esriFieldTypeString" }, { "domain": null, "name": "centerx", "alias": "CenterX", "type": "esriFieldTypeDouble" }, { "domain": null, "name": "centery", "alias": "CenterY", "type": "esriFieldTypeDouble" }, { "domain": null, "name": "zorder", "alias": "ZOrder", "type": "esriFieldTypeInteger" }, { "domain": null, "name": "date", "alias": "Date", "type": "esriFieldTypeDateOnly" }, { "domain": null, "name": "shape", "alias": "Shape", "type": "esriFieldTypeGeometry" } ], "allowAnalysis": true, "hasRasterAttributeTable": false, "useStandardizedQueries": true, "description": "
Dates of Images:<\/span><\/p> Post-Event: 4/14/2025; 4/15/2025<\/span><\/p> Pre-Event: 4/8/2025<\/span><\/p> <\/p> Date of Next Image:<\/span><\/p> Unknown<\/span><\/p> <\/p> Summary:<\/span><\/p> The True Color RGB composite provides a product of how the surface would look to the naked eye from space. The RGB is created using the red, green, and blue channels of the respective instrument.<\/span><\/p> The dynamically generated Normalized Difference Vegetation Index (NDVI) layer is an index for quantifying green vegetation. It reflects the state of vegetation health based on how vegetation reflects light at certain wavelengths.<\/span><\/p> Modified Normalized Difference Water Index (MNDWI) provides a different view of the Earth's surface combining different bands to make water bodies more obvious. This index can be used to identify flooded areas as well as heavily saturated areas.<\/span><\/p> <\/p> Suggested Use:<\/span><\/p> True Color: provides a product of how the surface would look to the naked eye from space. The True Color RGB is produced using the 3 visible wavelength bands (red, green, and blue) from the respective sensor. Some minor atmospheric corrections have occurred.<\/span><\/p> NDVI: dark green colors are areas with a lot of green leaf growth which indicates the presence of chlorophyll. Chlorophyll reflects more infrared light and less visible light. Areas with some green leaf growth are in light greens, and areas with little to no vegetation growth are even lighter greens.<\/span><\/p> mNDWI: areas of existing water, such as a rivers or lakes appear in the darkest green with high values near 1, while dry land appears in the darkest brown with low values near -1. This product can be used to identify potentially flooded areas that can be seen in varying shades of green and light brown depending on the amount of moisture picked up by the satellite. Note: Areas of cloud cover will show up in varying shades of green/blue similar to water.<\/span><\/p> <\/p> Satellite/Sensor:<\/span><\/p> Landsat 9 Operational Land Imager (OLI), Landsat 8<\/span><\/p> <\/p> Resolution:<\/span><\/p> 30 meters<\/span><\/p> <\/p> Credits:<\/span><\/p> NASA/MSFC, USGS<\/span><\/p> <\/p> Service URL:<\/span><\/p> <\/p> WMS Endpoint:<\/span><\/p><\/div><\/div><\/div>",
"pixelType": "U8",
"meanPixelSize": 29.999999999999996,
"exportTilesAllowed": false,
"editFieldsInfo": null,
"rasterTypeInfos": [{
"help": "",
"name": "Raster Dataset",
"description": "Supports all ArcGIS Raster Datasets"
}],
"defaultResamplingMethod": "Bilinear",
"itemAccess": false,
"minScale": 0,
"serviceProperties": " Dates of Images:<\/span><\/p> Post-Event: 4/14/2025; 4/15/2025<\/span><\/p> Pre-Event: 4/8/2025<\/span><\/p> <\/p> Date of Next Image:<\/span><\/p> Unknown<\/span><\/p> <\/p> Summary:<\/span><\/p> The True Color RGB composite provides a product of how the surface would look to the naked eye from space. The RGB is created using the red, green, and blue channels of the respective instrument.<\/span><\/p> The dynamically generated Normalized Difference Vegetation Index (NDVI) layer is an index for quantifying green vegetation. It reflects the state of vegetation health based on how vegetation reflects light at certain wavelengths.<\/span><\/p> Modified Normalized Difference Water Index (MNDWI) provides a different view of the Earth's surface combining different bands to make water bodies more obvious. This index can be used to identify flooded areas as well as heavily saturated areas.<\/span><\/p> <\/p> Suggested Use:<\/span><\/p> True Color: provides a product of how the surface would look to the naked eye from space. The True Color RGB is produced using the 3 visible wavelength bands (red, green, and blue) from the respective sensor. Some minor atmospheric corrections have occurred.<\/span><\/p> NDVI: dark green colors are areas with a lot of green leaf growth which indicates the presence of chlorophyll. Chlorophyll reflects more infrared light and less visible light. Areas with some green leaf growth are in light greens, and areas with little to no vegetation growth are even lighter greens.<\/span><\/p> mNDWI: areas of existing water, such as a rivers or lakes appear in the darkest green with high values near 1, while dry land appears in the darkest brown with low values near -1. This product can be used to identify potentially flooded areas that can be seen in varying shades of green and light brown depending on the amount of moisture picked up by the satellite. Note: Areas of cloud cover will show up in varying shades of green/blue similar to water.<\/span><\/p> <\/p> Satellite/Sensor:<\/span><\/p> Landsat 9 Operational Land Imager (OLI), Landsat 8<\/span><\/p> <\/p> Resolution:<\/span><\/p> 30 meters<\/span><\/p> <\/p> Credits:<\/span><\/p> NASA/MSFC, USGS<\/span><\/p> <\/p> Service URL:<\/span><\/p> <\/p> WMS Endpoint:<\/span><\/p><\/div><\/div><\/div>",
"allowCopy": true,
"copyrightText": "NASA/MSFC, USGS",
"mensurationCapabilities": "Basic",
"ownershipBasedAccessControlForRasters": null
}