{ "extent": { "ymin": 37.026431249691591, "xmin": -86.351394725999967, "ymax": 39.218500206000044, "xmax": -82.700335984141631, "spatialReference": { "latestWkid": 4326, "wkid": 4326 } }, "blockWidth": 2048, "mosaicOperator": "First", "serviceSourceType": "esriImageServiceSourceTypeMosaicDataset", "hasMultidimensions": false, "maxImageWidth": 15000, "maxRecordCount": 1000, "meanValues": [], "hasColormap": false, "compressionType": "None", "defaultCompressionQuality": 75, "maxValues": [], "hasHistograms": false, "datasetFormat": "AMD", "maxImageHeight": 4100, "sortField": "", "bandNames": [ "Band_1", "Band_2", "Band_3" ], "spatialReference": { "latestWkid": 4326, "wkid": 4326 }, "fullExtent": { "ymin": 37.026431249691591, "xmin": -86.351394725999967, "ymax": 39.218500206000044, "xmax": -82.700335984141631, "spatialReference": { "latestWkid": 4326, "wkid": 4326 } }, "bandCount": 3, "rasterFunctionInfos": [{ "help": "", "name": "None", "description": "" }], "supportsStatistics": true, "sortableFields": "", "minValues": [], "allowRasterFunction": true, "allowComputeTiePoints": false, "serviceDataType": "esriImageServiceDataTypeRGB", "supportsAdvancedQueries": true, "maxDownloadSizeLimit": 2048, "currentVersion": 12, "sortValue": null, "objectIdField": "objectid", "blockHeight": 256, "initialExtent": { "ymin": 37.026431249691591, "xmin": -86.351394725999967, "ymax": 39.218500206000044, "xmax": -82.700335984141631, "spatialReference": { "latestWkid": 4326, "wkid": 4326 } }, "pixelSizeX": 0.000026949458523585642, "pixelSizeY": 0.000026949458523585612, "defaultMosaicMethod": "Northwest", "name": "DISASTERS_202504_SEVEREWX_SOUTHEASTUS/2505_planet", "allowedMosaicMethods": "NorthWest,Center,LockRaster,ByAttribute,Nadir,Viewpoint,Seamline,None", "maxDownloadImageCount": 20, "fields": [ { "domain": null, "name": "objectid", "alias": "OBJECTID", "type": "esriFieldTypeOID" }, { "domain": null, "name": "name", "length": 200, "alias": "Name", "type": "esriFieldTypeString" }, { "domain": null, "name": "minps", "alias": "MinPS", "type": "esriFieldTypeDouble" }, { "domain": null, "name": "maxps", "alias": "MaxPS", "type": "esriFieldTypeDouble" }, { "domain": null, "name": "lowps", "alias": "LowPS", "type": "esriFieldTypeDouble" }, { "domain": null, "name": "highps", "alias": "HighPS", "type": "esriFieldTypeDouble" }, { "domain": { "splitPolicy": "esriSPTDefaultValue", "name": "MosaicCatalogItemCategoryDomain", "description": "Catalog item categories.", "type": "codedValue", "codedValues": [ { "code": 0, "name": "Unknown" }, { "code": 1, "name": "Primary" }, { "code": 2, "name": "Overview" }, { "code": 3, "name": "Unprocessed Overview" }, { "code": 4, "name": "Partial Overview" }, { "code": 5, "name": "Inactive" }, { "code": 253, "name": "Uploaded" }, { "code": 254, "name": "Incomplete" }, { "code": 255, "name": "Custom" } ], "mergePolicy": "esriMPTDefaultValue" }, "name": "category", "alias": "Category", "type": "esriFieldTypeInteger" }, { "domain": null, "name": "tag", "length": 100, "alias": "Tag", "type": "esriFieldTypeString" }, { "domain": null, "name": "groupname", "length": 100, "alias": "GroupName", "type": "esriFieldTypeString" }, { "domain": null, "name": "productname", "length": 100, "alias": "ProductName", "type": "esriFieldTypeString" }, { "domain": null, "name": "centerx", "alias": "CenterX", "type": "esriFieldTypeDouble" }, { "domain": null, "name": "centery", "alias": "CenterY", "type": "esriFieldTypeDouble" }, { "domain": null, "name": "zorder", "alias": "ZOrder", "type": "esriFieldTypeInteger" }, { "domain": null, "name": "date", "alias": "Date", "type": "esriFieldTypeDateOnly" }, { "domain": null, "name": "shape", "alias": "Shape", "type": "esriFieldTypeGeometry" } ], "allowAnalysis": true, "hasRasterAttributeTable": false, "useStandardizedQueries": true, "description": "
Date of Images:<\/span><\/p> Post-Event: 4/8, 4/7<\/span><\/p> Pre-Event: 3/28, 3/24, 3/21, 3/18<\/span><\/p> <\/p> Date of Next Image:<\/span><\/p> Unknown<\/span><\/p> <\/p> Summary:<\/span><\/p> The True Color RGB composite provides a product of how the surface would look to the naked eye from space. The RGB is created using the red, green, and blue channels of the respective instrument.<\/span><\/p> <\/p> Suggested Use:<\/span><\/p> The True Color RGB provides a product of how the surface would look to the naked eye from space and may show damage caused by severe weather. The True Color RGB is produced using the 3 visible wavelength bands (red, green, and blue) from the respective sensor. Some minor atmospheric corrections have occurred.<\/span><\/p> <\/p> Satellite/Sensor:<\/span><\/p> PlanetScope. This product includes copyrighted material of Planet Labs PBC. All rights reserved.<\/span><\/p> <\/p> Resolution:<\/span><\/p> 3 Meters<\/span><\/p> <\/p> Service URL:<\/span><\/p> WMS Endpoint:<\/span><\/p> <\/div><\/div><\/div>",
"pixelType": "U8",
"meanPixelSize": 2.9999999999999978,
"exportTilesAllowed": false,
"editFieldsInfo": null,
"rasterTypeInfos": [{
"help": "",
"name": "Raster Dataset",
"description": "Supports all ArcGIS Raster Datasets"
}],
"defaultResamplingMethod": "Bilinear",
"itemAccess": false,
"minScale": 0,
"serviceProperties": " Date of Images:<\/span><\/p> Post-Event: 4/8, 4/7<\/span><\/p> Pre-Event: 3/28, 3/24, 3/21, 3/18<\/span><\/p> <\/p> Date of Next Image:<\/span><\/p> Unknown<\/span><\/p> <\/p> Summary:<\/span><\/p> The True Color RGB composite provides a product of how the surface would look to the naked eye from space. The RGB is created using the red, green, and blue channels of the respective instrument.<\/span><\/p> <\/p> Suggested Use:<\/span><\/p> The True Color RGB provides a product of how the surface would look to the naked eye from space and may show damage caused by severe weather. The True Color RGB is produced using the 3 visible wavelength bands (red, green, and blue) from the respective sensor. Some minor atmospheric corrections have occurred.<\/span><\/p> <\/p> Satellite/Sensor:<\/span><\/p> PlanetScope. This product includes copyrighted material of Planet Labs PBC. All rights reserved.<\/span><\/p> <\/p> Resolution:<\/span><\/p> 3 Meters<\/span><\/p> <\/p> Service URL:<\/span><\/p> WMS Endpoint:<\/span><\/p> <\/div><\/div><\/div>",
"allowCopy": true,
"copyrightText": "NASA Disasters Program, Includes copyrighted material of Planet Labs PBC. All rights reserved.",
"mensurationCapabilities": "Basic",
"ownershipBasedAccessControlForRasters": null
}