{ "extent": { "ymin": 33.381498661882745, "xmin": -93.133582772999944, "ymax": 39.347461992000035, "xmax": -84.364471514551894, "spatialReference": { "latestWkid": 4326, "wkid": 4326 } }, "blockWidth": 2048, "mosaicOperator": "First", "serviceSourceType": "esriImageServiceSourceTypeMosaicDataset", "hasMultidimensions": false, "maxImageWidth": 15000, "maxRecordCount": 1000, "meanValues": [], "hasColormap": false, "compressionType": "None", "defaultCompressionQuality": 75, "maxValues": [], "hasHistograms": false, "datasetFormat": "AMD", "maxImageHeight": 4100, "sortField": "", "bandNames": ["Band_1"], "spatialReference": { "latestWkid": 4326, "wkid": 4326 }, "fullExtent": { "ymin": 33.381498661882745, "xmin": -93.133582772999944, "ymax": 39.347461992000035, "xmax": -84.364471514551894, "spatialReference": { "latestWkid": 4326, "wkid": 4326 } }, "bandCount": 1, "rasterFunctionInfos": [{ "help": "", "name": "None", "description": "" }], "supportsStatistics": true, "sortableFields": "", "minValues": [], "allowRasterFunction": true, "allowComputeTiePoints": false, "serviceDataType": "esriImageServiceDataTypeGeneric", "supportsAdvancedQueries": true, "maxDownloadSizeLimit": 2048, "currentVersion": 12, "sortValue": null, "objectIdField": "objectid", "blockHeight": 256, "initialExtent": { "ymin": 33.381498661882745, "xmin": -93.133582772999944, "ymax": 39.347461992000035, "xmax": -84.364471514551894, "spatialReference": { "latestWkid": 4326, "wkid": 4326 } }, "pixelSizeX": 0.000026949458523585622, "pixelSizeY": 0.000026949458523585619, "defaultMosaicMethod": "Northwest", "name": "DISASTERS_202504_SEVEREWX_SOUTHEASTUS/2505_planet_water", "allowedMosaicMethods": "NorthWest,Center,LockRaster,ByAttribute,Nadir,Viewpoint,Seamline,None", "maxDownloadImageCount": 20, "fields": [ { "domain": null, "name": "objectid", "alias": "OBJECTID", "type": "esriFieldTypeOID" }, { "domain": null, "name": "name", "length": 200, "alias": "Name", "type": "esriFieldTypeString" }, { "domain": null, "name": "minps", "alias": "MinPS", "type": "esriFieldTypeDouble" }, { "domain": null, "name": "maxps", "alias": "MaxPS", "type": "esriFieldTypeDouble" }, { "domain": null, "name": "lowps", "alias": "LowPS", "type": "esriFieldTypeDouble" }, { "domain": null, "name": "highps", "alias": "HighPS", "type": "esriFieldTypeDouble" }, { "domain": { "splitPolicy": "esriSPTDefaultValue", "name": "MosaicCatalogItemCategoryDomain", "description": "Catalog item categories.", "type": "codedValue", "codedValues": [ { "code": 0, "name": "Unknown" }, { "code": 1, "name": "Primary" }, { "code": 2, "name": "Overview" }, { "code": 3, "name": "Unprocessed Overview" }, { "code": 4, "name": "Partial Overview" }, { "code": 5, "name": "Inactive" }, { "code": 253, "name": "Uploaded" }, { "code": 254, "name": "Incomplete" }, { "code": 255, "name": "Custom" } ], "mergePolicy": "esriMPTDefaultValue" }, "name": "category", "alias": "Category", "type": "esriFieldTypeInteger" }, { "domain": null, "name": "tag", "length": 100, "alias": "Tag", "type": "esriFieldTypeString" }, { "domain": null, "name": "groupname", "length": 100, "alias": "GroupName", "type": "esriFieldTypeString" }, { "domain": null, "name": "productname", "length": 100, "alias": "ProductName", "type": "esriFieldTypeString" }, { "domain": null, "name": "centerx", "alias": "CenterX", "type": "esriFieldTypeDouble" }, { "domain": null, "name": "centery", "alias": "CenterY", "type": "esriFieldTypeDouble" }, { "domain": null, "name": "zorder", "alias": "ZOrder", "type": "esriFieldTypeInteger" }, { "domain": null, "name": "date", "alias": "Date", "type": "esriFieldTypeDateOnly" }, { "domain": null, "name": "shape", "alias": "Shape", "type": "esriFieldTypeGeometry" } ], "allowAnalysis": true, "hasRasterAttributeTable": false, "useStandardizedQueries": true, "description": "
Date of Image(s):<\/span><\/p> Post-Event: April 7,2025; April 8, 2025<\/span><\/p> <\/p> Date of Next Image:<\/span><\/p> Unknown<\/span><\/p> <\/p> Summary:<\/span><\/p> This is an experimental product. Some areas are affected by cloud cover.<\/span><\/p> Water maps use a beta PlanetScope Flood Mapping system created in partnership between NASA GSFC and the Dartmouth Flood Observatory at the University of Colorado. This product distinguishes water covered pixels from non-water covered pixels, using an adaptive NDWI dynamic thresholding approach. Details are in a pending publication.<\/span><\/p> Processed water map raster data include clouds (1), areas not covered by water (2), and water (3).<\/span><\/p> <\/p> Suggested Use:<\/span><\/p> This product shows water that is detected by the sensor with different colors indicating different land cover/land use classifications<\/span><\/p> <\/p> Satellite/Sensor:<\/span><\/p> PlanetScope. This product includes copyrighted material of Planet Labs PBC. All rights reserved.<\/span><\/p> <\/p> Resolution:<\/span><\/p> 3 meters<\/span><\/p> <\/p> Credits:<\/span><\/p> NASA Disasters Program, Dartmouth Flood Observatory at the University of Colorado, NASA GSFC.<\/span><\/p> NASA-GSFC Principle Investigator (PI): Frederick Policelli<\/span><\/p> PlanetScope: Includes copyrighted material of Planet Labs PBC. All rights reserved.<\/span><\/p><\/div><\/div><\/div>",
"pixelType": "F32",
"meanPixelSize": 2.9999999999999969,
"exportTilesAllowed": false,
"editFieldsInfo": null,
"rasterTypeInfos": [{
"help": "",
"name": "Raster Dataset",
"description": "Supports all ArcGIS Raster Datasets"
}],
"defaultResamplingMethod": "Bilinear",
"itemAccess": false,
"minScale": 0,
"serviceProperties": " Date of Image(s):<\/span><\/p> Post-Event: April 7,2025; April 8, 2025<\/span><\/p> <\/p> Date of Next Image:<\/span><\/p> Unknown<\/span><\/p> <\/p> Summary:<\/span><\/p> This is an experimental product. Some areas are affected by cloud cover.<\/span><\/p> Water maps use a beta PlanetScope Flood Mapping system created in partnership between NASA GSFC and the Dartmouth Flood Observatory at the University of Colorado. This product distinguishes water covered pixels from non-water covered pixels, using an adaptive NDWI dynamic thresholding approach. Details are in a pending publication.<\/span><\/p> Processed water map raster data include clouds (1), areas not covered by water (2), and water (3).<\/span><\/p> <\/p> Suggested Use:<\/span><\/p> This product shows water that is detected by the sensor with different colors indicating different land cover/land use classifications<\/span><\/p> <\/p> Satellite/Sensor:<\/span><\/p> PlanetScope. This product includes copyrighted material of Planet Labs PBC. All rights reserved.<\/span><\/p> <\/p> Resolution:<\/span><\/p> 3 meters<\/span><\/p> <\/p> Credits:<\/span><\/p> NASA Disasters Program, Dartmouth Flood Observatory at the University of Colorado, NASA GSFC.<\/span><\/p> NASA-GSFC Principle Investigator (PI): Frederick Policelli<\/span><\/p> PlanetScope: Includes copyrighted material of Planet Labs PBC. All rights reserved.<\/span><\/p><\/div><\/div><\/div>",
"allowCopy": true,
"copyrightText": "NASA Disasters Program, Dartmouth Flood Observatory at the University of Colorado, NASA GSFC. NASA-GSFC, Frederick Policelli. PlanetScope: Includes copyrighted material of Planet Labs PBC. All rights reserved.",
"mensurationCapabilities": "Basic",
"ownershipBasedAccessControlForRasters": null
}