{ "extent": { "ymin": 32.375657062362954, "xmin": -108.91655500499996, "ymax": 36.14489816300005, "xmax": -102.71970668055828, "spatialReference": { "latestWkid": 4326, "wkid": 4326 } }, "blockWidth": 2048, "mosaicOperator": "First", "serviceSourceType": "esriImageServiceSourceTypeMosaicDataset", "hasMultidimensions": false, "maxImageWidth": 15000, "maxRecordCount": 1000, "meanValues": [], "hasColormap": false, "compressionType": "None", "defaultCompressionQuality": 75, "maxValues": [], "hasHistograms": false, "datasetFormat": "AMD", "maxImageHeight": 4100, "sortField": "", "bandNames": [ "Band_1", "Band_2", "Band_3" ], "spatialReference": { "latestWkid": 4326, "wkid": 4326 }, "fullExtent": { "ymin": 32.375657062362954, "xmin": -108.91655500499996, "ymax": 36.14489816300005, "xmax": -102.71970668055828, "spatialReference": { "latestWkid": 4326, "wkid": 4326 } }, "bandCount": 3, "rasterFunctionInfos": [{ "help": "", "name": "None", "description": "" }], "supportsStatistics": true, "sortableFields": "", "minValues": [], "allowRasterFunction": true, "allowComputeTiePoints": false, "serviceDataType": "esriImageServiceDataTypeRGB", "supportsAdvancedQueries": true, "maxDownloadSizeLimit": 2048, "currentVersion": 12, "sortValue": null, "objectIdField": "objectid", "blockHeight": 256, "initialExtent": { "ymin": 32.375657062362954, "xmin": -108.91655500499996, "ymax": 36.14489816300005, "xmax": -102.71970668055828, "spatialReference": { "latestWkid": 4326, "wkid": 4326 } }, "pixelSizeX": 0.000089831528411952053, "pixelSizeY": 0.000089831528411952053, "defaultMosaicMethod": "Northwest", "name": "DISASTERS_202506_FIRE_NM/2506_sentinel2", "allowedMosaicMethods": "NorthWest,Center,LockRaster,ByAttribute,Nadir,Viewpoint,Seamline,None", "maxDownloadImageCount": 20, "fields": [ { "domain": null, "name": "objectid", "alias": "OBJECTID", "type": "esriFieldTypeOID" }, { "domain": null, "name": "name", "length": 200, "alias": "Name", "type": "esriFieldTypeString" }, { "domain": null, "name": "minps", "alias": "MinPS", "type": "esriFieldTypeDouble" }, { "domain": null, "name": "maxps", "alias": "MaxPS", "type": "esriFieldTypeDouble" }, { "domain": null, "name": "lowps", "alias": "LowPS", "type": "esriFieldTypeDouble" }, { "domain": null, "name": "highps", "alias": "HighPS", "type": "esriFieldTypeDouble" }, { "domain": { "splitPolicy": "esriSPTDefaultValue", "name": "MosaicCatalogItemCategoryDomain", "description": "Catalog item categories.", "type": "codedValue", "codedValues": [ { "code": 0, "name": "Unknown" }, { "code": 1, "name": "Primary" }, { "code": 2, "name": "Overview" }, { "code": 3, "name": "Unprocessed Overview" }, { "code": 4, "name": "Partial Overview" }, { "code": 5, "name": "Inactive" }, { "code": 253, "name": "Uploaded" }, { "code": 254, "name": "Incomplete" }, { "code": 255, "name": "Custom" } ], "mergePolicy": "esriMPTDefaultValue" }, "name": "category", "alias": "Category", "type": "esriFieldTypeInteger" }, { "domain": null, "name": "tag", "length": 100, "alias": "Tag", "type": "esriFieldTypeString" }, { "domain": null, "name": "groupname", "length": 100, "alias": "GroupName", "type": "esriFieldTypeString" }, { "domain": null, "name": "productname", "length": 100, "alias": "ProductName", "type": "esriFieldTypeString" }, { "domain": null, "name": "centerx", "alias": "CenterX", "type": "esriFieldTypeDouble" }, { "domain": null, "name": "centery", "alias": "CenterY", "type": "esriFieldTypeDouble" }, { "domain": null, "name": "zorder", "alias": "ZOrder", "type": "esriFieldTypeInteger" }, { "domain": null, "name": "date", "alias": "Date", "type": "esriFieldTypeDateOnly" }, { "domain": null, "name": "shape", "alias": "Shape", "type": "esriFieldTypeGeometry" } ], "allowAnalysis": true, "hasRasterAttributeTable": false, "useStandardizedQueries": true, "description": "
Dates of Images: Post-Event: June 29, 2025; June 28, 2025; June 21, 2025 Pre-Event: June 19, 2025; June 14, 2025; June 9, 2025; June 8, 2025 Date of Next Image: Unknown Summary: The True Color RGB composite provides a product of how the surface would look to the naked eye from space. The RGB is created using the red, green, and blue channels of the respective instrument. The Color Infrared composite is created using the near-infrared, red, and green channels, allowing for the ability to see areas impacted by the fires. The near-infrared gives the ability to see through thin clouds. Healthy vegetation is shown as red, water is in blue. Suggested Use: The True Color RGB provides a product of how the surface would look to the naked eye from space. The True Color RGB is produced using the 3 visible wavelength bands (red, green, and blue) from the respective sensor. Some minor atmospheric corrections have occurred. A Color Infrared composite depicts healthy vegetation as red, water as blue. Some minor atmospheric corrections have occurred. Satellite/Sensor: MultiSpectral Instrument (MSI) on European Space Agency's (ESA) Copernicus Sentinel-2A/2B satellites Resolution: 10 meters Credits: NASA/MSFC, USGS, ESA Copernicus Service URL: WMS Endpoint: ",
"pixelType": "U8",
"meanPixelSize": 9.9999999999999893,
"exportTilesAllowed": false,
"editFieldsInfo": null,
"rasterTypeInfos": [{
"help": "",
"name": "Raster Dataset",
"description": "Supports all ArcGIS Raster Datasets"
}],
"defaultResamplingMethod": "Bilinear",
"itemAccess": false,
"minScale": 0,
"serviceProperties": " Dates of Images: Post-Event: June 29, 2025; June 28, 2025; June 21, 2025 Pre-Event: June 19, 2025; June 14, 2025; June 9, 2025; June 8, 2025 Date of Next Image: Unknown Summary: The True Color RGB composite provides a product of how the surface would look to the naked eye from space. The RGB is created using the red, green, and blue channels of the respective instrument. The Color Infrared composite is created using the near-infrared, red, and green channels, allowing for the ability to see areas impacted by the fires. The near-infrared gives the ability to see through thin clouds. Healthy vegetation is shown as red, water is in blue. Suggested Use: The True Color RGB provides a product of how the surface would look to the naked eye from space. The True Color RGB is produced using the 3 visible wavelength bands (red, green, and blue) from the respective sensor. Some minor atmospheric corrections have occurred. A Color Infrared composite depicts healthy vegetation as red, water as blue. Some minor atmospheric corrections have occurred. Satellite/Sensor: MultiSpectral Instrument (MSI) on European Space Agency's (ESA) Copernicus Sentinel-2A/2B satellites Resolution: 10 meters Credits: NASA/MSFC, USGS, ESA Copernicus Service URL: WMS Endpoint: ",
"allowCopy": true,
"copyrightText": "NASA/MSFC, USGS, ESA Copernicus",
"mensurationCapabilities": "Basic",
"ownershipBasedAccessControlForRasters": null
}