{ "extent": { "ymin": 3501866.4405488679, "xmin": -11068046.626599999, "ymax": 3585709.8458999991, "xmax": -10890314.555729445, "spatialReference": { "latestWkid": 3857, "wkid": 102100 } }, "blockWidth": 2048, "mosaicOperator": "First", "serviceSourceType": "esriImageServiceSourceTypeMosaicDataset", "hasMultidimensions": false, "maxImageWidth": 15000, "maxRecordCount": 1000, "meanValues": [], "hasColormap": false, "compressionType": "None", "defaultCompressionQuality": 75, "maxValues": [], "hasHistograms": false, "datasetFormat": "AMD", "maxImageHeight": 4100, "sortField": "", "bandNames": [ "Band_1", "Band_2", "Band_3" ], "spatialReference": { "latestWkid": 3857, "wkid": 102100 }, "fullExtent": { "ymin": 3501866.4405488679, "xmin": -11068046.626599999, "ymax": 3585709.8458999991, "xmax": -10890314.555729445, "spatialReference": { "latestWkid": 3857, "wkid": 102100 } }, "bandCount": 3, "rasterFunctionInfos": [{ "help": "", "name": "None", "description": "" }], "supportsStatistics": true, "sortableFields": "", "minValues": [], "allowRasterFunction": true, "allowComputeTiePoints": false, "serviceDataType": "esriImageServiceDataTypeRGB", "supportsAdvancedQueries": true, "maxDownloadSizeLimit": 2048, "currentVersion": 12, "sortValue": null, "objectIdField": "objectid", "blockHeight": 256, "initialExtent": { "ymin": 3501866.4405488679, "xmin": -11068046.626599999, "ymax": 3585709.8458999991, "xmax": -10890314.555729445, "spatialReference": { "latestWkid": 3857, "wkid": 102100 } }, "pixelSizeX": 0.065095811608021081, "pixelSizeY": 0.065095811608021137, "defaultMosaicMethod": "Northwest", "name": "DISASTERS_202507_FLOOD_TX/202507_wb57_subset", "allowedMosaicMethods": "NorthWest,Center,LockRaster,ByAttribute,Nadir,Viewpoint,Seamline,None", "maxDownloadImageCount": 20, "fields": [ { "domain": null, "name": "objectid", "alias": "OBJECTID", "type": "esriFieldTypeOID" }, { "domain": null, "name": "name", "length": 200, "alias": "Name", "type": "esriFieldTypeString" }, { "domain": null, "name": "minps", "alias": "MinPS", "type": "esriFieldTypeDouble" }, { "domain": null, "name": "maxps", "alias": "MaxPS", "type": "esriFieldTypeDouble" }, { "domain": null, "name": "lowps", "alias": "LowPS", "type": "esriFieldTypeDouble" }, { "domain": null, "name": "highps", "alias": "HighPS", "type": "esriFieldTypeDouble" }, { "domain": { "splitPolicy": "esriSPTDefaultValue", "name": "MosaicCatalogItemCategoryDomain", "description": "Catalog item categories.", "type": "codedValue", "codedValues": [ { "code": 0, "name": "Unknown" }, { "code": 1, "name": "Primary" }, { "code": 2, "name": "Overview" }, { "code": 3, "name": "Unprocessed Overview" }, { "code": 4, "name": "Partial Overview" }, { "code": 5, "name": "Inactive" }, { "code": 253, "name": "Uploaded" }, { "code": 254, "name": "Incomplete" }, { "code": 255, "name": "Custom" } ], "mergePolicy": "esriMPTDefaultValue" }, "name": "category", "alias": "Category", "type": "esriFieldTypeInteger" }, { "domain": null, "name": "tag", "length": 100, "alias": "Tag", "type": "esriFieldTypeString" }, { "domain": null, "name": "groupname", "length": 100, "alias": "GroupName", "type": "esriFieldTypeString" }, { "domain": null, "name": "productname", "length": 100, "alias": "ProductName", "type": "esriFieldTypeString" }, { "domain": null, "name": "centerx", "alias": "CenterX", "type": "esriFieldTypeDouble" }, { "domain": null, "name": "centery", "alias": "CenterY", "type": "esriFieldTypeDouble" }, { "domain": null, "name": "zorder", "alias": "ZOrder", "type": "esriFieldTypeInteger" }, { "domain": null, "name": "date", "alias": "Date", "type": "esriFieldTypeDateOnly" }, { "domain": null, "name": "shape", "alias": "Shape", "type": "esriFieldTypeGeometry" } ], "allowAnalysis": true, "hasRasterAttributeTable": false, "useStandardizedQueries": true, "description": "
Date of Images:<\/span><\/p> July 8, 2025, July 10, 2025<\/span><\/p> Date of Next Image:<\/span><\/p> None planned<\/span><\/p> Suggested Use:<\/span><\/p> This image provides regional context, and may be useful for visualization of the ongoing event. Higher spatial resolution images may be suitable for spatial analysis to support decision making or research applications.<\/span><\/p> More information on the aircraft and program can be found here:<\/span><\/p> https://www.nasa.gov/specials/jsc-aircraft-ops/wb-57.html#top<\/a><\/p> Sensor:<\/span><\/p> HD resolution, 1280x720. Focal length was 950mm.<\/span><\/p> Photos were collected in batch orbits at 25,000'. <\/span><\/p> Resolution:<\/span><\/p> Up to 3in (7.6cm)<\/span><\/p> Credits:<\/span><\/p> NASA Johnson Space Center, Flight Operations Directorate, Aircraft Operations Division, WB-57 Program<\/span><\/p> Esri REST Endpoint:<\/span><\/p> See URL to the right<\/span><\/p> Data Download:<\/span><\/p> https://nasagov.app.box.com/s/km2xgabrquxnx45kl8l2jv00pay4bjn9/folder/330348891753<\/a><\/span><\/p><\/div>",
"pixelType": "U8",
"meanPixelSize": 0.065095811608021109,
"exportTilesAllowed": false,
"editFieldsInfo": null,
"rasterTypeInfos": [{
"help": "",
"name": "Raster Dataset",
"description": "Supports all ArcGIS Raster Datasets"
}],
"defaultResamplingMethod": "Bilinear",
"itemAccess": false,
"minScale": 0,
"serviceProperties": " Date of Images:<\/span><\/p> July 8, 2025, July 10, 2025<\/span><\/p> Date of Next Image:<\/span><\/p> None planned<\/span><\/p> Suggested Use:<\/span><\/p> This image provides regional context, and may be useful for visualization of the ongoing event. Higher spatial resolution images may be suitable for spatial analysis to support decision making or research applications.<\/span><\/p> More information on the aircraft and program can be found here:<\/span><\/p>