{ "extent": { "ymin": 1852960.4828448794, "xmin": -8844797.3747000005, "ymax": 3230075.3502000012, "xmax": -7792364.3554919269, "spatialReference": { "latestWkid": 3857, "wkid": 102100 } }, "blockWidth": 2048, "mosaicOperator": "First", "serviceSourceType": "esriImageServiceSourceTypeMosaicDataset", "hasMultidimensions": false, "maxImageWidth": 15000, "maxRecordCount": 1000, "meanValues": [0.20284864390284241], "hasColormap": false, "compressionType": "None", "defaultCompressionQuality": 75, "maxValues": [3328.13427734375], "hasHistograms": true, "datasetFormat": "AMD", "maxImageHeight": 4100, "sortField": "", "bandNames": ["Band_1"], "spatialReference": { "latestWkid": 3857, "wkid": 102100 }, "fullExtent": { "ymin": 1852960.4828448794, "xmin": -8844797.3747000005, "ymax": 3230075.3502000012, "xmax": -7792364.3554919269, "spatialReference": { "latestWkid": 3857, "wkid": 102100 } }, "bandCount": 1, "rasterFunctionInfos": [ { "help": "", "name": "None", "description": "Make a Raster or Raster Dataset into a Function Raster Dataset." }, { "help": "", "name": "BlackMarble_BRDF_RFT", "description": "Black Marble BRDF RFT" } ], "supportsStatistics": true, "sortableFields": "MinPS,MaxPS,LowPS,HighPS,CenterX,CenterY,ZOrder,Shape_Length,Shape_Area", "minValues": [0], "allowRasterFunction": true, "allowComputeTiePoints": false, "serviceDataType": "esriImageServiceDataTypeGeneric", "supportsAdvancedQueries": true, "maxDownloadSizeLimit": 2048, "currentVersion": 12, "sortValue": null, "objectIdField": "objectid", "blockHeight": 256, "initialExtent": { "ymin": 1852960.4828448794, "xmin": -8844797.3747000005, "ymax": 3230075.3502000012, "xmax": -7792364.3554919269, "spatialReference": { "latestWkid": 3857, "wkid": 102100 } }, "pixelSizeX": 463.83121163863979, "pixelSizeY": 463.83121163863984, "defaultMosaicMethod": "Northwest", "name": "DISASTERS_202510_HURRICANE_MELISSA/blackmarble_brdf_202511", "allowedMosaicMethods": "NorthWest,Center,LockRaster,ByAttribute,Nadir,Viewpoint,Seamline,None", "maxDownloadImageCount": 20, "fields": [ { "domain": null, "name": "objectid", "alias": "OBJECTID", "type": "esriFieldTypeOID" }, { "domain": null, "name": "name", "length": 200, "alias": "Name", "type": "esriFieldTypeString" }, { "domain": null, "name": "minps", "alias": "MinPS", "type": "esriFieldTypeDouble" }, { "domain": null, "name": "maxps", "alias": "MaxPS", "type": "esriFieldTypeDouble" }, { "domain": null, "name": "lowps", "alias": "LowPS", "type": "esriFieldTypeDouble" }, { "domain": null, "name": "highps", "alias": "HighPS", "type": "esriFieldTypeDouble" }, { "domain": { "splitPolicy": "esriSPTDefaultValue", "name": "MosaicCatalogItemCategoryDomain", "description": "Catalog item categories.", "type": "codedValue", "codedValues": [ { "code": 0, "name": "Unknown" }, { "code": 1, "name": "Primary" }, { "code": 2, "name": "Overview" }, { "code": 3, "name": "Unprocessed Overview" }, { "code": 4, "name": "Partial Overview" }, { "code": 5, "name": "Inactive" }, { "code": 253, "name": "Uploaded" }, { "code": 254, "name": "Incomplete" }, { "code": 255, "name": "Custom" } ], "mergePolicy": "esriMPTDefaultValue" }, "name": "category", "alias": "Category", "type": "esriFieldTypeInteger" }, { "domain": null, "name": "tag", "length": 100, "alias": "Tag", "type": "esriFieldTypeString" }, { "domain": null, "name": "groupname", "length": 100, "alias": "GroupName", "type": "esriFieldTypeString" }, { "domain": null, "name": "productname", "length": 100, "alias": "ProductName", "type": "esriFieldTypeString" }, { "domain": null, "name": "centerx", "alias": "CenterX", "type": "esriFieldTypeDouble" }, { "domain": null, "name": "centery", "alias": "CenterY", "type": "esriFieldTypeDouble" }, { "domain": null, "name": "zorder", "alias": "ZOrder", "type": "esriFieldTypeInteger" }, { "domain": null, "name": "date", "alias": "Date", "type": "esriFieldTypeDateOnly" }, { "domain": null, "name": "shape", "alias": "Shape", "type": "esriFieldTypeGeometry" } ], "allowAnalysis": true, "hasRasterAttributeTable": false, "useStandardizedQueries": true, "description": "
Dates of Images: 10/9/2025 - 10/30/2025 Please Note: Images with majority cloud cover are not shown in the Map Viewer, but are available in the service. Summary: These Black Marble Day-Night Band (BRDF-Corrected) cloud masks were created by the NASA Black Marble Science team. This is the layer to displaying where clouds are present. This comparison between the images is meant as a visual assessment of outage impacts to aid various partners who are working to deliver emergency aids to local communities. Power outage maps like these help disaster response efforts in the short-term as well as long-term monitoring during the crucial stages of disaster recovery. Suggested Use: NASA's Black Marble Nighttime Light product suite is a state-of-the-art daily global collection of standard products for monitoring nighttime lights (NTL). Utilizing the Visible Imaging Radiometer Suite (VIIRS) Day/Night Band (DNB) aboard the Suomi-NPP, NOAA-20, and NOAA-21 satellites. Grey represents cloud cover. Satellite/Sensor: Visible Infrared Imaging Radiometer Suite (VIIRS) Day/Night Band (DNB) onboard the Suomi National Polar-orbiting Platform (SNPP), NOAA-20, and NOAA-21 Resolution: 500 meters Credits: NASA Black Marble Science team Please cite the following two references when using this data: Román MO, Stokes EC, Shrestha R, Wang Z, Schultz L, Carlo EA, Sun Q, Bell J, Molthan A, Kalb V, Ji C. Satellite-based assessment of electricity restoration efforts in Puerto Rico after Hurricane Maria. PloS one. 2019 Jun 28;14(6):e0218883. Román MO, Wang Z, Sun Q, Kalb V, Miller SD, Molthan A, Schultz L, Bell J, Stokes EC, Pandey B, Seto KC. NASA's Black Marble nighttime lights product suite. Remote Sensing of Environment. 2018 Jun 1;210:113-43. Point of Contact: Ranjay Shrestha NASA Goddard Space Flight Center E-mail: ranjay.m.shrestha@nasa.gov Additional Links: NASA\u2019s Black Marble Product Suite Román, M.O. et al. (2019) Satellite-based assessment of electricity restoration efforts in Puerto Rico after Hurricane Maria. PLoS One, 14 (6). Román, M.O. et al. (2018) NASA\u2019s Black Marble nighttime lights product suite. Remote Sensing of Environment. 210, 113\u2013143. REST Endpoint: See URL on the right side of the page. WMS Endpoint: https://gis.earthdata.nasa.gov/gis05/services/DISASTERS_202510_FLOOD_AK/BM_BRDF_CLOUD/ImageServer/WMSServer",
"pixelType": "F32",
"meanPixelSize": 463.83121163863984,
"exportTilesAllowed": false,
"editFieldsInfo": null,
"rasterTypeInfos": [{
"help": "",
"name": "Raster Dataset",
"description": "Supports all ArcGIS Raster Datasets"
}],
"defaultResamplingMethod": "Bilinear",
"itemAccess": false,
"minScale": 0,
"serviceProperties": " Dates of Images: 10/9/2025 - 10/30/2025 Please Note: Images with majority cloud cover are not shown in the Map Viewer, but are available in the service. Summary: These Black Marble Day-Night Band (BRDF-Corrected) cloud masks were created by the NASA Black Marble Science team. This is the layer to displaying where clouds are present. This comparison between the images is meant as a visual assessment of outage impacts to aid various partners who are working to deliver emergency aids to local communities. Power outage maps like these help disaster response efforts in the short-term as well as long-term monitoring during the crucial stages of disaster recovery. Suggested Use: NASA's Black Marble Nighttime Light product suite is a state-of-the-art daily global collection of standard products for monitoring nighttime lights (NTL). Utilizing the Visible Imaging Radiometer Suite (VIIRS) Day/Night Band (DNB) aboard the Suomi-NPP, NOAA-20, and NOAA-21 satellites. Grey represents cloud cover. Satellite/Sensor: Visible Infrared Imaging Radiometer Suite (VIIRS) Day/Night Band (DNB) onboard the Suomi National Polar-orbiting Platform (SNPP), NOAA-20, and NOAA-21 Resolution: 500 meters Credits: NASA Black Marble Science team Please cite the following two references when using this data: Román MO, Stokes EC, Shrestha R, Wang Z, Schultz L, Carlo EA, Sun Q, Bell J, Molthan A, Kalb V, Ji C. Satellite-based assessment of electricity restoration efforts in Puerto Rico after Hurricane Maria. PloS one. 2019 Jun 28;14(6):e0218883. Román MO, Wang Z, Sun Q, Kalb V, Miller SD, Molthan A, Schultz L, Bell J, Stokes EC, Pandey B, Seto KC. NASA's Black Marble nighttime lights product suite. Remote Sensing of Environment. 2018 Jun 1;210:113-43. Point of Contact: Ranjay Shrestha NASA Goddard Space Flight Center E-mail: ranjay.m.shrestha@nasa.gov Additional Links: NASA\u2019s Black Marble Product Suite Román, M.O. et al. (2019) Satellite-based assessment of electricity restoration efforts in Puerto Rico after Hurricane Maria. PLoS One, 14 (6). Román, M.O. et al. (2018) NASA\u2019s Black Marble nighttime lights product suite. Remote Sensing of Environment. 210, 113\u2013143. REST Endpoint: See URL on the right side of the page. WMS Endpoint: https://gis.earthdata.nasa.gov/gis05/services/DISASTERS_202510_FLOOD_AK/BM_BRDF_CLOUD/ImageServer/WMSServer",
"allowCopy": true,
"copyrightText": "USRA/NASA Black Marble Science team",
"mensurationCapabilities": "Basic",
"ownershipBasedAccessControlForRasters": null
}