{ "extent": { "ymin": 5773409.3598000035, "xmin": -13995014.9705, "ymax": 6386349.3598000035, "xmax": -13368954.9705, "spatialReference": { "latestWkid": 3857, "wkid": 102100 } }, "blockWidth": 2048, "mosaicOperator": "First", "serviceSourceType": "esriImageServiceSourceTypeMosaicDataset", "hasMultidimensions": false, "maxImageWidth": 15000, "maxRecordCount": 1000, "meanValues": [], "hasColormap": false, "compressionType": "None", "defaultCompressionQuality": 75, "maxValues": [], "hasHistograms": false, "datasetFormat": "AMD", "maxImageHeight": 4100, "sortField": "", "bandNames": ["Band_1"], "spatialReference": { "latestWkid": 3857, "wkid": 102100 }, "fullExtent": { "ymin": 5773409.3598000035, "xmin": -13995014.9705, "ymax": 6386349.3598000035, "xmax": -13368954.9705, "spatialReference": { "latestWkid": 3857, "wkid": 102100 } }, "bandCount": 1, "rasterFunctionInfos": [ { "help": "", "name": "mNDWI_BlueBrown2", "description": "mNDWI_BlueBrown2" }, { "help": "", "name": "mNDWI_BlueBrown", "description": "mNDWI_BlueBrown" }, { "help": "", "name": "None", "description": "Make a Raster or Raster Dataset into a Function Raster Dataset." }, { "help": "", "name": "mNDWI", "description": "mNDWI_Test_Dec12" }, { "help": "", "name": "mNDWI_BrownGreen", "description": "mNDWI_BrownGreen" } ], "supportsStatistics": true, "sortableFields": "", "minValues": [], "allowRasterFunction": true, "allowComputeTiePoints": false, "serviceDataType": "esriImageServiceDataTypeGeneric", "supportsAdvancedQueries": true, "maxDownloadSizeLimit": 2048, "currentVersion": 12, "sortValue": null, "objectIdField": "objectid", "blockHeight": 256, "initialExtent": { "ymin": 5773409.3598000035, "xmin": -13995014.9705, "ymax": 6386349.3598000035, "xmax": -13368954.9705, "spatialReference": { "latestWkid": 3857, "wkid": 102100 } }, "pixelSizeX": 20, "pixelSizeY": 20, "defaultMosaicMethod": "Northwest", "name": "DISASTERS_202512_FLOOD_WA/2512_sentinel2_mndwi", "allowedMosaicMethods": "NorthWest,Center,LockRaster,ByAttribute,Nadir,Viewpoint,Seamline,None", "maxDownloadImageCount": 20, "fields": [ { "domain": null, "name": "objectid", "alias": "OBJECTID", "type": "esriFieldTypeOID" }, { "domain": null, "name": "name", "length": 200, "alias": "Name", "type": "esriFieldTypeString" }, { "domain": null, "name": "minps", "alias": "MinPS", "type": "esriFieldTypeDouble" }, { "domain": null, "name": "maxps", "alias": "MaxPS", "type": "esriFieldTypeDouble" }, { "domain": null, "name": "lowps", "alias": "LowPS", "type": "esriFieldTypeDouble" }, { "domain": null, "name": "highps", "alias": "HighPS", "type": "esriFieldTypeDouble" }, { "domain": { "splitPolicy": "esriSPTDefaultValue", "name": "MosaicCatalogItemCategoryDomain", "description": "Catalog item categories.", "type": "codedValue", "codedValues": [ { "code": 0, "name": "Unknown" }, { "code": 1, "name": "Primary" }, { "code": 2, "name": "Overview" }, { "code": 3, "name": "Unprocessed Overview" }, { "code": 4, "name": "Partial Overview" }, { "code": 5, "name": "Inactive" }, { "code": 253, "name": "Uploaded" }, { "code": 254, "name": "Incomplete" }, { "code": 255, "name": "Custom" } ], "mergePolicy": "esriMPTDefaultValue" }, "name": "category", "alias": "Category", "type": "esriFieldTypeInteger" }, { "domain": null, "name": "tag", "length": 100, "alias": "Tag", "type": "esriFieldTypeString" }, { "domain": null, "name": "groupname", "length": 100, "alias": "GroupName", "type": "esriFieldTypeString" }, { "domain": null, "name": "productname", "length": 100, "alias": "ProductName", "type": "esriFieldTypeString" }, { "domain": null, "name": "centerx", "alias": "CenterX", "type": "esriFieldTypeDouble" }, { "domain": null, "name": "centery", "alias": "CenterY", "type": "esriFieldTypeDouble" }, { "domain": null, "name": "zorder", "alias": "ZOrder", "type": "esriFieldTypeInteger" }, { "domain": null, "name": "date", "alias": "Date", "type": "esriFieldTypeDateOnly" }, { "domain": null, "name": "shape", "alias": "Shape", "type": "esriFieldTypeGeometry" } ], "allowAnalysis": true, "hasRasterAttributeTable": false, "useStandardizedQueries": true, "description": "
Dates of Images:<\/span><\/p> Pre-Event: October 13, 2025<\/span><\/p> Date of Next Image:<\/span><\/p> Unknown<\/span><\/p> Summary:<\/span><\/p> Modified Normalized Difference Water Index (MNDWI) provides a different view of the Earth's surface combining different bands to make water bodies more obvious. This index can be used to identify flooded areas as well as heavily saturated areas.<\/span><\/p> Suggested Use:<\/span><\/p> For mNDWI, areas of existing water, such as a rivers or lakes appear in the darkest green with high values near 1, while dry land appears in the darkest brown with low values near -1. This product can be used to identify potentially flooded areas that can be seen in varying shades of green and light brown depending on the amount of moisture picked up by the satellite. Note: Areas of cloud cover will show up in varying shades of green/blue similar to water.<\/span><\/p> Satellite/Sensor:<\/span><\/p> MultiSpectral Instrument (MSI) on European Space Agency's (ESA) Copernicus Sentinel-2A/2B satellites<\/span><\/p> Resolution:<\/span><\/p> 10 meters<\/span><\/p> Credits:<\/span><\/p> NASA/MSFC, USGS, ESA Copernicus<\/span><\/p> Esri REST Endpoint:<\/span><\/p> See URL to the right.<\/span><\/p> WMS: <\/span><\/p> https://gis.earthdata.nasa.gov/portal/services/DISASTERS_202504_SEVEREWX_SOUTHEASTUS/SENTINEL2/ImageServer/WMSServer<\/span><\/p><\/div><\/div><\/div>",
"pixelType": "F32",
"meanPixelSize": 20,
"exportTilesAllowed": false,
"editFieldsInfo": null,
"rasterTypeInfos": [{
"help": "",
"name": "Raster Dataset",
"description": "Supports all ArcGIS Raster Datasets"
}],
"defaultResamplingMethod": "Bilinear",
"itemAccess": false,
"minScale": 0,
"serviceProperties": " Dates of Images:<\/span><\/p> Pre-Event: October 13, 2025<\/span><\/p> Date of Next Image:<\/span><\/p> Unknown<\/span><\/p> Summary:<\/span><\/p> Modified Normalized Difference Water Index (MNDWI) provides a different view of the Earth's surface combining different bands to make water bodies more obvious. This index can be used to identify flooded areas as well as heavily saturated areas.<\/span><\/p> Suggested Use:<\/span><\/p> For mNDWI, areas of existing water, such as a rivers or lakes appear in the darkest green with high values near 1, while dry land appears in the darkest brown with low values near -1. This product can be used to identify potentially flooded areas that can be seen in varying shades of green and light brown depending on the amount of moisture picked up by the satellite. Note: Areas of cloud cover will show up in varying shades of green/blue similar to water.<\/span><\/p> Satellite/Sensor:<\/span><\/p> MultiSpectral Instrument (MSI) on European Space Agency's (ESA) Copernicus Sentinel-2A/2B satellites<\/span><\/p> Resolution:<\/span><\/p> 10 meters<\/span><\/p> Credits:<\/span><\/p> NASA/MSFC, USGS, ESA Copernicus<\/span><\/p> Esri REST Endpoint:<\/span><\/p> See URL to the right.<\/span><\/p> WMS: <\/span><\/p> https://gis.earthdata.nasa.gov/portal/services/DISASTERS_202504_SEVEREWX_SOUTHEASTUS/SENTINEL2/ImageServer/WMSServer<\/span><\/p><\/div><\/div><\/div>",
"allowCopy": true,
"copyrightText": "NASA/MSFC, USGS, ESA Copernicus",
"mensurationCapabilities": "Basic",
"ownershipBasedAccessControlForRasters": null
}