{ "extent": { "ymin": 2639410.6810040437, "xmin": -17351035.561300002, "ymax": 11916362.489200003, "xmax": -8975316.2552880794, "spatialReference": { "latestWkid": 3857, "wkid": 102100 } }, "blockWidth": 2048, "mosaicOperator": "First", "serviceSourceType": "esriImageServiceSourceTypeMosaicDataset", "hasMultidimensions": false, "maxImageWidth": 15000, "maxRecordCount": 1000, "meanValues": [ 63.282620556558641, 61.98118278094428, 68.773040691782128 ], "hasColormap": false, "compressionType": "None", "defaultCompressionQuality": 75, "maxValues": [ 255, 255, 255 ], "hasHistograms": true, "datasetFormat": "AMD", "maxImageHeight": 4100, "sortField": "", "bandNames": [ "Band_1", "Band_2", "Band_3" ], "spatialReference": { "latestWkid": 3857, "wkid": 102100 }, "fullExtent": { "ymin": 2639410.6810040437, "xmin": -17351035.561300002, "ymax": 11916362.489200003, "xmax": -8975316.2552880794, "spatialReference": { "latestWkid": 3857, "wkid": 102100 } }, "bandCount": 3, "rasterFunctionInfos": [ { "help": "", "name": "None", "description": "Make a Raster or Raster Dataset into a Function Raster Dataset." }, { "help": "", "name": "VIIRS_FloodwaterFraction", "description": "VIIRS_FloodwaterFraction" } ], "supportsStatistics": true, "sortableFields": "", "minValues": [ 0, 0, 0 ], "allowRasterFunction": true, "allowComputeTiePoints": false, "serviceDataType": "esriImageServiceDataTypeRGB", "supportsAdvancedQueries": true, "maxDownloadSizeLimit": 2048, "currentVersion": 12, "sortValue": null, "objectIdField": "objectid", "blockHeight": 256, "initialExtent": { "ymin": 2639410.6810040437, "xmin": -17351035.561300002, "ymax": 11916362.489200003, "xmax": -8975316.2552880794, "spatialReference": { "latestWkid": 3857, "wkid": 102100 } }, "pixelSizeX": 375.3571437667797, "pixelSizeY": 375.3571437667797, "defaultMosaicMethod": "Northwest", "name": "DISASTERS_202512_FLOOD_WA/2512_viirs_FloodwaterFraction", "allowedMosaicMethods": "NorthWest,Center,LockRaster,ByAttribute,Nadir,Viewpoint,Seamline,None", "maxDownloadImageCount": 20, "fields": [ { "domain": null, "name": "objectid", "alias": "OBJECTID", "type": "esriFieldTypeOID" }, { "domain": null, "name": "name", "length": 200, "alias": "Name", "type": "esriFieldTypeString" }, { "domain": null, "name": "minps", "alias": "MinPS", "type": "esriFieldTypeDouble" }, { "domain": null, "name": "maxps", "alias": "MaxPS", "type": "esriFieldTypeDouble" }, { "domain": null, "name": "lowps", "alias": "LowPS", "type": "esriFieldTypeDouble" }, { "domain": null, "name": "highps", "alias": "HighPS", "type": "esriFieldTypeDouble" }, { "domain": { "splitPolicy": "esriSPTDefaultValue", "name": "MosaicCatalogItemCategoryDomain", "description": "Catalog item categories.", "type": "codedValue", "codedValues": [ { "code": 0, "name": "Unknown" }, { "code": 1, "name": "Primary" }, { "code": 2, "name": "Overview" }, { "code": 3, "name": "Unprocessed Overview" }, { "code": 4, "name": "Partial Overview" }, { "code": 5, "name": "Inactive" }, { "code": 253, "name": "Uploaded" }, { "code": 254, "name": "Incomplete" }, { "code": 255, "name": "Custom" } ], "mergePolicy": "esriMPTDefaultValue" }, "name": "category", "alias": "Category", "type": "esriFieldTypeInteger" }, { "domain": null, "name": "tag", "length": 100, "alias": "Tag", "type": "esriFieldTypeString" }, { "domain": null, "name": "groupname", "length": 100, "alias": "GroupName", "type": "esriFieldTypeString" }, { "domain": null, "name": "productname", "length": 100, "alias": "ProductName", "type": "esriFieldTypeString" }, { "domain": null, "name": "centerx", "alias": "CenterX", "type": "esriFieldTypeDouble" }, { "domain": null, "name": "centery", "alias": "CenterY", "type": "esriFieldTypeDouble" }, { "domain": null, "name": "zorder", "alias": "ZOrder", "type": "esriFieldTypeInteger" }, { "domain": null, "name": "date", "alias": "Date", "type": "esriFieldTypeDateOnly" }, { "domain": null, "name": "shape", "alias": "Shape", "type": "esriFieldTypeGeometry" } ], "allowAnalysis": true, "hasRasterAttributeTable": false, "useStandardizedQueries": true, "description": "
Date of Image(s):<\/span><\/p> December 8; December 9; December 12<\/span><\/p> Date of Next Image:<\/span><\/p> Typically, there are two daytime images expected each day around 1:00pm EST.<\/span><\/p> Summary:<\/span><\/p> Floodwater derived from Visible Infrared Imaging Radiometer Suite (VIIRS) instrument onboard NASA and NOAA Suomi National Polar-orbiting Partnership (Suomi NPP) satellite.<\/span><\/p> VIIRS floodwater product was produced by NASA SatCORPS Ground Station Observation Network (GSON) low latency system..<\/span><\/p> The image shows where floodwater was detected from the VIIRS observation.<\/span><\/p> Suggested Usage:<\/span>The floodwater fraction percentage (1-100%) that contains water<\/span><\/p> Satellite/Sensor/Resolution:<\/span><\/p> 375m spatial resolution<\/span><\/p> VIIRS instrument onboard SNPP Satellite<\/span><\/p> Generated using CSPP v4.1<\/span><\/p> Credits:<\/span><\/p> Image Credit: NASA Langley SatCORPS<\/span><\/p> Louis Nguyen of NASA Langley SatCORPS: https://satcorps.larc.nasa.gov/new/<\/span><\/p> NOAA Joint Polar Satellite System (JPSS) VIIRS Data: https://registry.opendata.aws/noaa-jpss/ o Additional information on VIIRS Flooding products: https://disasters-geoplatform.hub.arcgis.com/pages/viirs-floodwater-fraction-map/<\/span><\/p> <\/p><\/div><\/div><\/div>",
"pixelType": "U8",
"meanPixelSize": 375.3571437667797,
"exportTilesAllowed": false,
"editFieldsInfo": null,
"rasterTypeInfos": [{
"help": "",
"name": "Raster Dataset",
"description": "Supports all ArcGIS Raster Datasets"
}],
"defaultResamplingMethod": "Bilinear",
"itemAccess": false,
"minScale": 0,
"serviceProperties": " Date of Image(s):<\/span><\/p> December 8; December 9; December 12<\/span><\/p> Date of Next Image:<\/span><\/p> Typically, there are two daytime images expected each day around 1:00pm EST.<\/span><\/p> Summary:<\/span><\/p> Floodwater derived from Visible Infrared Imaging Radiometer Suite (VIIRS) instrument onboard NASA and NOAA Suomi National Polar-orbiting Partnership (Suomi NPP) satellite.<\/span><\/p> VIIRS floodwater product was produced by NASA SatCORPS Ground Station Observation Network (GSON) low latency system..<\/span><\/p> The image shows where floodwater was detected from the VIIRS observation.<\/span><\/p> Suggested Usage:<\/span>The floodwater fraction percentage (1-100%) that contains water<\/span><\/p> Satellite/Sensor/Resolution:<\/span><\/p> 375m spatial resolution<\/span><\/p> VIIRS instrument onboard SNPP Satellite<\/span><\/p> Generated using CSPP v4.1<\/span><\/p> Credits:<\/span><\/p> Image Credit: NASA Langley SatCORPS<\/span><\/p> Louis Nguyen of NASA Langley SatCORPS: https://satcorps.larc.nasa.gov/new/<\/span><\/p> NOAA Joint Polar Satellite System (JPSS) VIIRS Data: https://registry.opendata.aws/noaa-jpss/ o Additional information on VIIRS Flooding products: https://disasters-geoplatform.hub.arcgis.com/pages/viirs-floodwater-fraction-map/<\/span><\/p> <\/p><\/div><\/div><\/div>",
"allowCopy": true,
"copyrightText": "NASA Langley SatCORPS; Louis Nguyen",
"mensurationCapabilities": "None",
"ownershipBasedAccessControlForRasters": null
}