{ "extent": { "ymin": 2103343.5533598214, "xmin": -17916766.762200002, "ymax": 2555827.1316, "xmax": -17189753.867266953, "spatialReference": { "latestWkid": 3857, "wkid": 102100 } }, "blockWidth": 2048, "mosaicOperator": "First", "serviceSourceType": "esriImageServiceSourceTypeMosaicDataset", "hasMultidimensions": false, "maxImageWidth": 15000, "maxRecordCount": 1000, "meanValues": [ 52.49959217713274, 71.833736573919296, 92.59978829869145 ], "hasColormap": false, "compressionType": "None", "defaultCompressionQuality": 75, "maxValues": [ 243, 238, 229 ], "hasHistograms": true, "datasetFormat": "AMD", "maxImageHeight": 4100, "sortField": "", "bandNames": [ "Band_1", "Band_2", "Band_3" ], "spatialReference": { "latestWkid": 3857, "wkid": 102100 }, "fullExtent": { "ymin": 2103343.5533598214, "xmin": -17916766.762200002, "ymax": 2555827.1316, "xmax": -17189753.867266953, "spatialReference": { "latestWkid": 3857, "wkid": 102100 } }, "bandCount": 3, "rasterFunctionInfos": [{ "help": "", "name": "None", "description": "" }], "supportsStatistics": true, "sortableFields": "", "minValues": [ 0, 0, 0 ], "allowRasterFunction": true, "allowComputeTiePoints": false, "serviceDataType": "esriImageServiceDataTypeRGB", "supportsAdvancedQueries": true, "maxDownloadSizeLimit": 2048, "currentVersion": 12, "sortValue": null, "objectIdField": "objectid", "blockHeight": 256, "initialExtent": { "ymin": 2103343.5533598214, "xmin": -17916766.762200002, "ymax": 2555827.1316, "xmax": -17189753.867266953, "spatialReference": { "latestWkid": 3857, "wkid": 102100 } }, "pixelSizeX": 5.2022761875437293, "pixelSizeY": 5.2022761875437293, "defaultMosaicMethod": "Northwest", "name": "DISASTERS_202603_FLOOD_HI/2603_iss", "allowedMosaicMethods": "NorthWest,Center,LockRaster,ByAttribute,Nadir,Viewpoint,Seamline,None", "maxDownloadImageCount": 20, "fields": [ { "domain": null, "name": "objectid", "alias": "OBJECTID", "type": "esriFieldTypeOID" }, { "domain": null, "name": "name", "length": 200, "alias": "Name", "type": "esriFieldTypeString" }, { "domain": null, "name": "minps", "alias": "MinPS", "type": "esriFieldTypeDouble" }, { "domain": null, "name": "maxps", "alias": "MaxPS", "type": "esriFieldTypeDouble" }, { "domain": null, "name": "lowps", "alias": "LowPS", "type": "esriFieldTypeDouble" }, { "domain": null, "name": "highps", "alias": "HighPS", "type": "esriFieldTypeDouble" }, { "domain": { "splitPolicy": "esriSPTDefaultValue", "name": "MosaicCatalogItemCategoryDomain", "description": "Catalog item categories.", "type": "codedValue", "codedValues": [ { "code": 0, "name": "Unknown" }, { "code": 1, "name": "Primary" }, { "code": 2, "name": "Overview" }, { "code": 3, "name": "Unprocessed Overview" }, { "code": 4, "name": "Partial Overview" }, { "code": 5, "name": "Inactive" }, { "code": 253, "name": "Uploaded" }, { "code": 254, "name": "Incomplete" }, { "code": 255, "name": "Custom" } ], "mergePolicy": "esriMPTDefaultValue" }, "name": "category", "alias": "Category", "type": "esriFieldTypeInteger" }, { "domain": null, "name": "tag", "length": 100, "alias": "Tag", "type": "esriFieldTypeString" }, { "domain": null, "name": "groupname", "length": 100, "alias": "GroupName", "type": "esriFieldTypeString" }, { "domain": null, "name": "productname", "length": 100, "alias": "ProductName", "type": "esriFieldTypeString" }, { "domain": null, "name": "centerx", "alias": "CenterX", "type": "esriFieldTypeDouble" }, { "domain": null, "name": "centery", "alias": "CenterY", "type": "esriFieldTypeDouble" }, { "domain": null, "name": "zorder", "alias": "ZOrder", "type": "esriFieldTypeInteger" }, { "domain": null, "name": "shape", "alias": "Shape", "type": "esriFieldTypeGeometry" } ], "allowAnalysis": true, "hasRasterAttributeTable": false, "useStandardizedQueries": true, "description": "

The visible-wavelength true color RGB digital camera images were taken by astronauts aboard the International Space Station showing areas affected by the flooding in Hawaii March 2026. <\/SPAN><\/P>
Date of Images:<\/SPAN><\/P>
April 4, 2026<\/SPAN><\/P>
Suggested Use:<\/SPAN><\/P>
This image provides regional context, and may be useful for visualization of the ongoing event. Higher spatial resolution images may be suitable for spatial analysis to support decision making or research applications.<\/SPAN><\/P>
Sensor:<\/SPAN><\/P>
Camera: Nikon Z9<\/SPAN><\/P>
Focal Length: 200mm <\/SPAN><\/P>
Additional Information about the astronaut photography from the ISS.<\/SPAN><\/P>
Credits:<\/SPAN><\/P>
International Space Station Program, NASA Johnson Space Center Earth Science and Remote Sensing Unit, ARES Division, Exploration Architecture, Integration & Science Directorate<\/SPAN><\/P>
Esri REST Endpoint:<\/SPAN><\/P>
See URL to the right<\/SPAN><\/P>
WMS Endpoint:<\/SPAN><\/P>
https://gis.earthdata.nasa.gov/portal/services/DISASTERS_202510_HURRICANE_MELISSA/202511_iss/MapServer/WMSServer<\/SPAN><\/P>
Data Download:<\/SPAN><\/P>
Full datasets are available for download at the Gateway to Astronaut Photography of Earth. Download for this specific data can be found at:<\/SPAN><\/P>
https://eol.jsc.nasa.gov/WebShare/WebShare.pl?folder=NASADisastersProgram<\/SPAN><\/SPAN><\/A><\/P><\/DIV><\/DIV><\/DIV>", "pixelType": "U8", "meanPixelSize": 5.2022761875437293, "exportTilesAllowed": false, "editFieldsInfo": null, "rasterTypeInfos": [{ "help": "", "name": "Raster Dataset", "description": "Supports all ArcGIS Raster Datasets" }], "defaultResamplingMethod": "Bilinear", "itemAccess": false, "minScale": 0, "serviceProperties": "NorthWest<\/MosaicMethod>First<\/MosaicOperator>true<\/SortAscending><\/LockImageID>Name<\/TileOrderField>0<\/TileOrderBase>600.000000<\/AvgImageSpacingX>300.000000<\/AvgImageSpacingY>0.0<\/ViewPointX>0.0<\/ViewPointY>0.0<\/ViewPointDefShiftX>0.0<\/ViewPointDefShiftY>None<\/CompressionMethod>75<\/CompressionQuality>0.010000<\/CompressionTolerance>Bilinear<\/SamplingMethod><\/ImageServiceProperties><\/ImageServer>", "advancedQueryCapabilities": { "supportsStatistics": true, "supportsSqlExpression": true, "supportsOrderBy": true, "useStandardizedQueries": true, "supportsPagination": true, "supportsDistinct": true }, "serviceItemId": "ee247f573d66426a8a52683ac48872d3", "capabilities": "Image,Metadata,Catalog", "maxScale": 0, "stdvValues": [ 45.347291520212259, 38.997582720372712, 36.130765187002694 ], "allowedFields": "Name,MinPS,MaxPS,LowPS,HighPS,Tag,GroupName,ProductName,CenterX,CenterY,ZOrder,Shape_Length,Shape_Area", "minPixelSize": 0, "sortAscending": true, "maxMosaicImageCount": 20, "inspectionCapabilities": "", "maxPixelSize": 0, "uncompressedSize": 36465265566, "serviceDescription": "

The visible-wavelength true color RGB digital camera images were taken by astronauts aboard the International Space Station showing areas affected by the flooding in Hawaii March 2026. <\/SPAN><\/P>
Date of Images:<\/SPAN><\/P>
April 4, 2026<\/SPAN><\/P>
Suggested Use:<\/SPAN><\/P>
This image provides regional context, and may be useful for visualization of the ongoing event. Higher spatial resolution images may be suitable for spatial analysis to support decision making or research applications.<\/SPAN><\/P>
Sensor:<\/SPAN><\/P>
Camera: Nikon Z9<\/SPAN><\/P>
Focal Length: 200mm <\/SPAN><\/P>
Additional Information about the astronaut photography from the ISS.<\/SPAN><\/P>
Credits:<\/SPAN><\/P>
International Space Station Program, NASA Johnson Space Center Earth Science and Remote Sensing Unit, ARES Division, Exploration Architecture, Integration & Science Directorate<\/SPAN><\/P>
Esri REST Endpoint:<\/SPAN><\/P>
See URL to the right<\/SPAN><\/P>
WMS Endpoint:<\/SPAN><\/P>
https://gis.earthdata.nasa.gov/portal/services/DISASTERS_202510_HURRICANE_MELISSA/202511_iss/MapServer/WMSServer<\/SPAN><\/P>
Data Download:<\/SPAN><\/P>
Full datasets are available for download at the Gateway to Astronaut Photography of Earth. Download for this specific data can be found at:<\/SPAN><\/P>
https://eol.jsc.nasa.gov/WebShare/WebShare.pl?folder=NASADisastersProgram<\/SPAN><\/SPAN><\/A><\/P><\/DIV><\/DIV><\/DIV>", "allowCopy": true, "copyrightText": "International Space Station Program, NASA Johnson Space Center Earth Science and Remote Sensing Unit, ARES Division, Exploration Architecture, Integration & Science Directorate", "mensurationCapabilities": "None", "ownershipBasedAccessControlForRasters": null }