{ "extent": { "ymin": 2004325.3407999985, "xmin": -17997692.979400001, "ymax": 2723953.3407999985, "xmax": -17127851.979400001, "spatialReference": { "latestWkid": 3857, "wkid": 102100 } }, "blockWidth": 2048, "mosaicOperator": "First", "serviceSourceType": "esriImageServiceSourceTypeMosaicDataset", "hasMultidimensions": false, "maxImageWidth": 15000, "maxRecordCount": 1000, "meanValues": [ 32.82870560974861, 58.159787319878447, 116.33032450269792 ], "hasColormap": false, "compressionType": "None", "defaultCompressionQuality": 75, "maxValues": [ 255, 254, 246 ], "hasHistograms": true, "datasetFormat": "AMD", "maxImageHeight": 4100, "sortField": "", "bandNames": [ "Band_1", "Band_2", "Band_3" ], "spatialReference": { "latestWkid": 3857, "wkid": 102100 }, "fullExtent": { "ymin": 2004325.3407999985, "xmin": -17997692.979400001, "ymax": 2723953.3407999985, "xmax": -17127851.979400001, "spatialReference": { "latestWkid": 3857, "wkid": 102100 } }, "bandCount": 3, "rasterFunctionInfos": [{ "help": "", "name": "None", "description": "" }], "supportsStatistics": true, "sortableFields": "", "minValues": [ 0, 0, 0 ], "allowRasterFunction": true, "allowComputeTiePoints": false, "serviceDataType": "esriImageServiceDataTypeRGB", "supportsAdvancedQueries": true, "maxDownloadSizeLimit": 2048, "currentVersion": 12, "sortValue": null, "objectIdField": "objectid", "blockHeight": 256, "initialExtent": { "ymin": 2004325.3407999985, "xmin": -17997692.979400001, "ymax": 2723953.3407999985, "xmax": -17127851.979400001, "spatialReference": { "latestWkid": 3857, "wkid": 102100 } }, "pixelSizeX": 3, "pixelSizeY": 3, "defaultMosaicMethod": "Northwest", "name": "DISASTERS_202603_FLOOD_HI/2605_sentinel1", "allowedMosaicMethods": "NorthWest,Center,LockRaster,ByAttribute,Nadir,Viewpoint,Seamline,None", "maxDownloadImageCount": 20, "fields": [ { "domain": null, "name": "objectid", "alias": "OBJECTID", "type": "esriFieldTypeOID" }, { "domain": null, "name": "name", "length": 200, "alias": "Name", "type": "esriFieldTypeString" }, { "domain": null, "name": "minps", "alias": "MinPS", "type": "esriFieldTypeDouble" }, { "domain": null, "name": "maxps", "alias": "MaxPS", "type": "esriFieldTypeDouble" }, { "domain": null, "name": "lowps", "alias": "LowPS", "type": "esriFieldTypeDouble" }, { "domain": null, "name": "highps", "alias": "HighPS", "type": "esriFieldTypeDouble" }, { "domain": { "splitPolicy": "esriSPTDefaultValue", "name": "MosaicCatalogItemCategoryDomain", "description": "Catalog item categories.", "type": "codedValue", "codedValues": [ { "code": 0, "name": "Unknown" }, { "code": 1, "name": "Primary" }, { "code": 2, "name": "Overview" }, { "code": 3, "name": "Unprocessed Overview" }, { "code": 4, "name": "Partial Overview" }, { "code": 5, "name": "Inactive" }, { "code": 253, "name": "Uploaded" }, { "code": 254, "name": "Incomplete" }, { "code": 255, "name": "Custom" } ], "mergePolicy": "esriMPTDefaultValue" }, "name": "category", "alias": "Category", "type": "esriFieldTypeInteger" }, { "domain": null, "name": "tag", "length": 100, "alias": "Tag", "type": "esriFieldTypeString" }, { "domain": null, "name": "groupname", "length": 100, "alias": "GroupName", "type": "esriFieldTypeString" }, { "domain": null, "name": "productname", "length": 100, "alias": "ProductName", "type": "esriFieldTypeString" }, { "domain": null, "name": "centerx", "alias": "CenterX", "type": "esriFieldTypeDouble" }, { "domain": null, "name": "centery", "alias": "CenterY", "type": "esriFieldTypeDouble" }, { "domain": null, "name": "zorder", "alias": "ZOrder", "type": "esriFieldTypeInteger" }, { "domain": null, "name": "date", "alias": "Date", "type": "esriFieldTypeDateOnly" }, { "domain": null, "name": "shape", "alias": "Shape", "type": "esriFieldTypeGeometry" } ], "allowAnalysis": true, "hasRasterAttributeTable": false, "useStandardizedQueries": true, "description": "

Dates of Images:<\/span><\/p>
Post-Event: <\/span>3/12, 3/14, 3/15, 3/16, 3/17, 3/18, 3/19, 3/20, 3/21<\/span><\/p>
Pre-Event: 3/10, 3/11, <\/span><\/p>
Date of Next Image:<\/span><\/p>
Varies by region, typically 6 days since previous pass.<\/span><\/p>
Summary:<\/span><\/p>
The Alaska Satellite Facility has developed false color Red, Green, Blue (RGB) and Radiometrically Terrain-Correct (RTC) composite products of the Sentinel-1A/B Synthetic Aperture Radar (SAR) instrument which assigns the co- and cross-polarization information to a channel in the composite. When used to support a flooding event, areas in blue denotes water present at the time of the satellite overpass before or after the start of the flooding event.<\/span><\/p>
Sentinel-1 RGB Decomposition of RTC VV and VH imagery over United States coastlines. Blue areas have low returns in VV and VH (smooth surfaces such as calm water, but also frozen/crusted soil or dry sand), Green areas have high returns in VH (volume scatterers such as vegetation or some types of snow/ice), and Red areas have relatively high VV returns and relatively low VH returns (such as urban or sparsely vegetated areas).<\/span><\/p>
Suggested Use:<\/span><\/p>
In the RGB images, water appears in blue, vegetated areas in shades of green and urban areas in bright orange. It is recommended to use this product with ancillary information to derive flooded areas.<\/span><\/p>
Satellite/Sensor:<\/span><\/p>
Synthetic Aperture Radar on European Space Agency's (ESA) Copernicus Sentinel-1A satellite<\/span><\/p>
Resolution:<\/span><\/p>
20 meters<\/span><\/p>
REST Endpoint:<\/span><\/p>
See URL below to the right.<\/span><\/span><\/span><\/p>
WMS Endpoint:<\/span><\/p>
https://gis.earthdata.nasa.gov/portal/services/DISASTERS_202603_FLOOD_HI/2605_sentinel1/ImageServer/WMSServer<\/a><\/p>
<\/p><\/div>", "pixelType": "U8", "meanPixelSize": 3, "exportTilesAllowed": false, "editFieldsInfo": null, "rasterTypeInfos": [{ "help": "", "name": "Raster Dataset", "description": "Supports all ArcGIS Raster Datasets" }], "defaultResamplingMethod": "Bilinear", "itemAccess": false, "minScale": 0, "serviceProperties": "NorthWest<\/MosaicMethod>First<\/MosaicOperator>true<\/SortAscending><\/LockImageID>Name<\/TileOrderField>0<\/TileOrderBase>600.000000<\/AvgImageSpacingX>300.000000<\/AvgImageSpacingY>0.0<\/ViewPointX>0.0<\/ViewPointY>0.0<\/ViewPointDefShiftX>0.0<\/ViewPointDefShiftY>None<\/CompressionMethod>75<\/CompressionQuality>0.010000<\/CompressionTolerance>Bilinear<\/SamplingMethod><\/ImageServiceProperties><\/ImageServer>", "advancedQueryCapabilities": { "supportsStatistics": true, "supportsSqlExpression": true, "supportsOrderBy": true, "useStandardizedQueries": true, "supportsPagination": true, "supportsDistinct": true }, "serviceItemId": "08b17335567f48a6bcb9e73da0102182", "capabilities": "Catalog,Image,Metadata", "maxScale": 0, "stdvValues": [ 25.047555555128891, 30.89306668450358, 46.147154509310347 ], "allowedFields": "Name,MinPS,MaxPS,LowPS,HighPS,Tag,GroupName,ProductName,CenterX,CenterY,ZOrder,Shape_Length,Shape_Area,Date", "minPixelSize": 0, "sortAscending": true, "maxMosaicImageCount": 20, "inspectionCapabilities": "", "maxPixelSize": 0, "uncompressedSize": 208653979716, "serviceDescription": "

Dates of Images:<\/span><\/p>
Post-Event: <\/span>3/12, 3/14, 3/15, 3/16, 3/17, 3/18, 3/19, 3/20, 3/21<\/span><\/p>
Pre-Event: 3/10, 3/11, <\/span><\/p>
Date of Next Image:<\/span><\/p>
Varies by region, typically 6 days since previous pass.<\/span><\/p>
Summary:<\/span><\/p>
The Alaska Satellite Facility has developed false color Red, Green, Blue (RGB) and Radiometrically Terrain-Correct (RTC) composite products of the Sentinel-1A/B Synthetic Aperture Radar (SAR) instrument which assigns the co- and cross-polarization information to a channel in the composite. When used to support a flooding event, areas in blue denotes water present at the time of the satellite overpass before or after the start of the flooding event.<\/span><\/p>
Sentinel-1 RGB Decomposition of RTC VV and VH imagery over United States coastlines. Blue areas have low returns in VV and VH (smooth surfaces such as calm water, but also frozen/crusted soil or dry sand), Green areas have high returns in VH (volume scatterers such as vegetation or some types of snow/ice), and Red areas have relatively high VV returns and relatively low VH returns (such as urban or sparsely vegetated areas).<\/span><\/p>
Suggested Use:<\/span><\/p>
In the RGB images, water appears in blue, vegetated areas in shades of green and urban areas in bright orange. It is recommended to use this product with ancillary information to derive flooded areas.<\/span><\/p>
Satellite/Sensor:<\/span><\/p>
Synthetic Aperture Radar on European Space Agency's (ESA) Copernicus Sentinel-1A satellite<\/span><\/p>
Resolution:<\/span><\/p>
20 meters<\/span><\/p>
REST Endpoint:<\/span><\/p>
See URL below to the right.<\/span><\/span><\/span><\/p>
WMS Endpoint:<\/span><\/p>
https://gis.earthdata.nasa.gov/portal/services/DISASTERS_202603_FLOOD_HI/2605_sentinel1/ImageServer/WMSServer<\/a><\/p>
<\/p><\/div>", "allowCopy": true, "copyrightText": "NASA/MSFC, USGS, ESA Copernicus. Sentinel data used in this derived product, contains modified Copernicus Sentinel data, processed by ESA, Alaska Satellite Facility.", "mensurationCapabilities": "", "ownershipBasedAccessControlForRasters": null }