{ "extent": { "ymin": 4016350.8133046613, "xmin": -13369632.8466, "ymax": 4031280.4518999979, "xmax": -13354773.19671315, "spatialReference": { "latestWkid": 3857, "wkid": 102100 } }, "blockWidth": 2048, "mosaicOperator": "First", "serviceSourceType": "esriImageServiceSourceTypeMosaicDataset", "hasMultidimensions": false, "maxImageWidth": 15000, "maxRecordCount": 1000, "meanValues": [ 96.814653143321081, 102.63818295256448, 108.01681633793179 ], "hasColormap": false, "compressionType": "None", "defaultCompressionQuality": 75, "maxValues": [ 255, 255, 255 ], "hasHistograms": true, "datasetFormat": "AMD", "maxImageHeight": 4100, "sortField": "", "bandNames": [ "Band_1", "Band_2", "Band_3" ], "spatialReference": { "latestWkid": 3857, "wkid": 102100 }, "fullExtent": { "ymin": 4016350.8133046613, "xmin": -13369632.8466, "ymax": 4031280.4518999979, "xmax": -13354773.19671315, "spatialReference": { "latestWkid": 3857, "wkid": 102100 } }, "bandCount": 3, "rasterFunctionInfos": [{ "help": "", "name": "None", "description": "" }], "supportsStatistics": true, "sortableFields": "", "minValues": [ 0, 0, 0 ], "allowRasterFunction": true, "allowComputeTiePoints": false, "serviceDataType": "esriImageServiceDataTypeRGB", "supportsAdvancedQueries": true, "maxDownloadSizeLimit": 2048, "currentVersion": 12, "sortValue": null, "objectIdField": "objectid", "blockHeight": 256, "initialExtent": { "ymin": 4016350.8133046613, "xmin": -13369632.8466, "ymax": 4031280.4518999979, "xmax": -13354773.19671315, "spatialReference": { "latestWkid": 3857, "wkid": 102100 } }, "pixelSizeX": 0.55109219280708599, "pixelSizeY": 0.55109219280707922, "defaultMosaicMethod": "Northwest", "name": "DISASTERS_202605_FIRE_CA/202609_satellogic", "allowedMosaicMethods": "NorthWest,Center,LockRaster,ByAttribute,Nadir,Viewpoint,Seamline,None", "maxDownloadImageCount": 20, "fields": [ { "domain": null, "name": "objectid", "alias": "OBJECTID", "type": "esriFieldTypeOID" }, { "domain": null, "name": "name", "length": 200, "alias": "Name", "type": "esriFieldTypeString" }, { "domain": null, "name": "minps", "alias": "MinPS", "type": "esriFieldTypeDouble" }, { "domain": null, "name": "maxps", "alias": "MaxPS", "type": "esriFieldTypeDouble" }, { "domain": null, "name": "lowps", "alias": "LowPS", "type": "esriFieldTypeDouble" }, { "domain": null, "name": "highps", "alias": "HighPS", "type": "esriFieldTypeDouble" }, { "domain": { "splitPolicy": "esriSPTDefaultValue", "name": "MosaicCatalogItemCategoryDomain", "description": "Catalog item categories.", "type": "codedValue", "codedValues": [ { "code": 0, "name": "Unknown" }, { "code": 1, "name": "Primary" }, { "code": 2, "name": "Overview" }, { "code": 3, "name": "Unprocessed Overview" }, { "code": 4, "name": "Partial Overview" }, { "code": 5, "name": "Inactive" }, { "code": 253, "name": "Uploaded" }, { "code": 254, "name": "Incomplete" }, { "code": 255, "name": "Custom" } ], "mergePolicy": "esriMPTDefaultValue" }, "name": "category", "alias": "Category", "type": "esriFieldTypeInteger" }, { "domain": null, "name": "tag", "length": 100, "alias": "Tag", "type": "esriFieldTypeString" }, { "domain": null, "name": "groupname", "length": 100, "alias": "GroupName", "type": "esriFieldTypeString" }, { "domain": null, "name": "productname", "length": 100, "alias": "ProductName", "type": "esriFieldTypeString" }, { "domain": null, "name": "centerx", "alias": "CenterX", "type": "esriFieldTypeDouble" }, { "domain": null, "name": "centery", "alias": "CenterY", "type": "esriFieldTypeDouble" }, { "domain": null, "name": "zorder", "alias": "ZOrder", "type": "esriFieldTypeInteger" }, { "domain": null, "name": "date", "alias": "Date", "type": "esriFieldTypeDateOnly" }, { "domain": null, "name": "shape", "alias": "Shape", "type": "esriFieldTypeGeometry" } ], "allowAnalysis": true, "hasRasterAttributeTable": false, "useStandardizedQueries": true, "description": "
Date(s) of Images:<\/SPAN><\/P> Post-Event: 5/21/2026<\/SPAN><\/P> Summary:<\/SPAN><\/P> Satellogic\u2019s operates a commercial constellation of satellites and sensors that offers 4 band (R,G, B and NIR) acquisitions.<\/SPAN><\/P> True Color: The True Color RGB composite provides a product of how the surface would look to the naked eye from space. The RGB is created using the red, green, and blue channels of the respective instrument.<\/SPAN><\/P> Color Infrared: The Color Infrared composite is created using the near-infrared, red, and green channels, allowing for the ability to see areas impacted from the fires. The near-infrared gives the ability to see through thin clouds. Healthy vegetation is shown as red, water is in blue.<\/SPAN><\/P> Resolution:<\/SPAN><\/P> 0.5 m to 1 m depending on generation of sensor used and viewing angle.<\/SPAN><\/P> Credits:<\/SPAN><\/P> NASA Disasters Program, Satellogic. For derived products: \u201cIncludes copyrighted material of Satellogic. All rights reserved.\u201d This work utilized data made available through the NASA Commercial Satellite Data Acquisition (CSDA) program.\"<\/SPAN><\/P><\/DIV><\/DIV><\/DIV>",
"pixelType": "U8",
"meanPixelSize": 0.55109219280708266,
"exportTilesAllowed": false,
"editFieldsInfo": null,
"rasterTypeInfos": [{
"help": "",
"name": "Raster Dataset",
"description": "Supports all ArcGIS Raster Datasets"
}],
"defaultResamplingMethod": "Bilinear",
"itemAccess": false,
"minScale": 0,
"serviceProperties": " Date(s) of Images:<\/SPAN><\/P> Post-Event: 5/21/2026<\/SPAN><\/P> Summary:<\/SPAN><\/P> Satellogic\u2019s operates a commercial constellation of satellites and sensors that offers 4 band (R,G, B and NIR) acquisitions.<\/SPAN><\/P> True Color: The True Color RGB composite provides a product of how the surface would look to the naked eye from space. The RGB is created using the red, green, and blue channels of the respective instrument.<\/SPAN><\/P> Color Infrared: The Color Infrared composite is created using the near-infrared, red, and green channels, allowing for the ability to see areas impacted from the fires. The near-infrared gives the ability to see through thin clouds. Healthy vegetation is shown as red, water is in blue.<\/SPAN><\/P> Resolution:<\/SPAN><\/P> 0.5 m to 1 m depending on generation of sensor used and viewing angle.<\/SPAN><\/P> Credits:<\/SPAN><\/P> NASA Disasters Program, Satellogic. For derived products: \u201cIncludes copyrighted material of Satellogic. All rights reserved.\u201d This work utilized data made available through the NASA Commercial Satellite Data Acquisition (CSDA) program.\"<\/SPAN><\/P><\/DIV><\/DIV><\/DIV>",
"allowCopy": true,
"copyrightText": "NASA Disasters Program, Satellogic. For derived products: \u201cIncludes copyrighted material of Satellogic. All rights reserved.\u201d This work utilized data made available through the NASA Commercial Satellite Data Acquisition (CSDA) program.\"",
"mensurationCapabilities": "None",
"ownershipBasedAccessControlForRasters": null
}