{ "extent": { "ymin": 4345724.4480104586, "xmin": -11511005.594599999, "ymax": 4664963.9057999998, "xmax": -11197660.673072278, "spatialReference": { "latestWkid": 3857, "wkid": 102100 } }, "blockWidth": 2048, "mosaicOperator": "First", "serviceSourceType": "esriImageServiceSourceTypeMosaicDataset", "hasMultidimensions": false, "maxImageWidth": 15000, "maxRecordCount": 1000, "meanValues": [-0.0013810115375556947], "hasColormap": false, "compressionType": "None", "defaultCompressionQuality": 75, "maxValues": [0.84625893831253052], "hasHistograms": true, "datasetFormat": "AMD", "maxImageHeight": 4100, "sortField": "", "bandNames": ["Band_1"], "spatialReference": { "latestWkid": 3857, "wkid": 102100 }, "fullExtent": { "ymin": 4345724.4480104586, "xmin": -11511005.594599999, "ymax": 4664963.9057999998, "xmax": -11197660.673072278, "spatialReference": { "latestWkid": 3857, "wkid": 102100 } }, "bandCount": 1, "rasterFunctionInfos": [{ "help": "", "name": "None", "description": "" }], "supportsStatistics": true, "sortableFields": "", "minValues": [-0.38882255554199219], "allowRasterFunction": true, "allowComputeTiePoints": false, "serviceDataType": "esriImageServiceDataTypeGeneric", "supportsAdvancedQueries": true, "maxDownloadSizeLimit": 2048, "currentVersion": 12, "sortValue": null, "objectIdField": "objectid", "blockHeight": 256, "initialExtent": { "ymin": 4345724.4480104586, "xmin": -11511005.594599999, "ymax": 4664963.9057999998, "xmax": -11197660.673072278, "spatialReference": { "latestWkid": 3857, "wkid": 102100 } }, "pixelSizeX": 35.942294279389884, "pixelSizeY": 35.942294279389913, "defaultMosaicMethod": "Northwest", "name": "DISASTERS_202605_FIRE_KS/202608_landsat_nbr", "allowedMosaicMethods": "NorthWest,Center,LockRaster,ByAttribute,Nadir,Viewpoint,Seamline,None", "maxDownloadImageCount": 20, "fields": [ { "domain": null, "name": "objectid", "alias": "OBJECTID", "type": "esriFieldTypeOID" }, { "domain": null, "name": "name", "length": 200, "alias": "Name", "type": "esriFieldTypeString" }, { "domain": null, "name": "minps", "alias": "MinPS", "type": "esriFieldTypeDouble" }, { "domain": null, "name": "maxps", "alias": "MaxPS", "type": "esriFieldTypeDouble" }, { "domain": null, "name": "lowps", "alias": "LowPS", "type": "esriFieldTypeDouble" }, { "domain": null, "name": "highps", "alias": "HighPS", "type": "esriFieldTypeDouble" }, { "domain": { "splitPolicy": "esriSPTDefaultValue", "name": "MosaicCatalogItemCategoryDomain", "description": "Catalog item categories.", "type": "codedValue", "codedValues": [ { "code": 0, "name": "Unknown" }, { "code": 1, "name": "Primary" }, { "code": 2, "name": "Overview" }, { "code": 3, "name": "Unprocessed Overview" }, { "code": 4, "name": "Partial Overview" }, { "code": 5, "name": "Inactive" }, { "code": 253, "name": "Uploaded" }, { "code": 254, "name": "Incomplete" }, { "code": 255, "name": "Custom" } ], "mergePolicy": "esriMPTDefaultValue" }, "name": "category", "alias": "Category", "type": "esriFieldTypeInteger" }, { "domain": null, "name": "tag", "length": 100, "alias": "Tag", "type": "esriFieldTypeString" }, { "domain": null, "name": "groupname", "length": 100, "alias": "GroupName", "type": "esriFieldTypeString" }, { "domain": null, "name": "productname", "length": 100, "alias": "ProductName", "type": "esriFieldTypeString" }, { "domain": null, "name": "centerx", "alias": "CenterX", "type": "esriFieldTypeDouble" }, { "domain": null, "name": "centery", "alias": "CenterY", "type": "esriFieldTypeDouble" }, { "domain": null, "name": "zorder", "alias": "ZOrder", "type": "esriFieldTypeInteger" }, { "domain": null, "name": "date", "alias": "Date", "type": "esriFieldTypeDateOnly" }, { "domain": null, "name": "shape", "alias": "Shape", "type": "esriFieldTypeGeometry" } ], "allowAnalysis": true, "hasRasterAttributeTable": false, "useStandardizedQueries": true, "description": "
Dates of Images:<\/SPAN><\/P> Post-Event: May 19, 2026<\/SPAN><\/P> Pre-Event: May 11, 2026<\/SPAN><\/P> Date of Next Image:<\/SPAN><\/P> Unknown<\/SPAN><\/P> Summary:<\/SPAN><\/P> These pre-fire and post-fire images pair were analyzed for normalized burn ratio (NBR). The input images were generated from the Landsat datasets at 30m resolution.<\/SPAN><\/P> NBR is defined mathematically as (NIR \u2013 SWIR)/(NIR + SWIR) where NIR is near-infrared and SWIR is short-wave infrared. dNBR is computed by the difference between the pre-fire NBR and the post-fire NBR. More information on dNBR can be found here: https://un-spider.org/advisory-support/recommended-practices/recommended-practice-burn-severity/in-detail/normalized-burn-ratio.<\/SPAN><\/P> dNBR data may be computed while the fire is in progress. This is intentionally done to prioritize rapid data availability for proactive disaster response but means data can change over the course of the fire.<\/SPAN><\/P> Check fire containment and image dates for further context on image timing.<\/SPAN><\/P> Suggested Use:<\/SPAN><\/P> NBR is commonly used as a proxy to indicate areas which have charred vegetation. Darker areas (more negative values) in the NBR image more strongly represent the presence of burned vegetation. Since the dNBR considers the condition of the scene before the fire occurred, the resulting value has been used as a proxy for burn severity. Higher dNBR values represent a proxy for greater burn severity. Negative dNBR values may represent a re-greening of or growth of vegetation in between pre and post imagery.<\/SPAN><\/P> The use of this dNBR product as a quantitative metric of burn severity at the time of posting this dataset should be strongly caveated. This is due to several dNBR limitations:<\/SPAN><\/P> The spectral band selections used for dNBR calculations, and the implication of changes observed following fire in those wavelengths, primarily pertain to how vegetation spectral signatures change in NIR and SWIR wavelengths following charring. Because of this, dNBR may not accurately describe burned surfaces that are not vegetation (e.g. human built infrastructure).<\/SPAN><\/P> This dataset has not been validated by independent burn severity assessments.<\/SPAN><\/P> The degree to which dNBR is accurately determined depends on careful selection of pre and post event imagery. An effort was made to use the highest quality imagery (i.e. cloud free) with representative conditions for each scene; however, it is unknown at the time of this posting how selection of different pre/post image pairs could affect the derived dNBR values.<\/SPAN><\/P> Satellite/Sensor:<\/SPAN><\/P> Landsat 9 Operational Land Imager (OLI)<\/SPAN><\/P> Resolution:<\/SPAN><\/P> 30 meters<\/SPAN><\/P> Credits:<\/SPAN><\/P> NASA/MSFC, USGS<\/SPAN><\/P> Service URL:<\/SPAN><\/P> See individual Layers.<\/SPAN><\/P> WMS Endpoint:<\/SPAN><\/P> <\/P> <\/P><\/DIV><\/DIV><\/DIV>",
"pixelType": "F32",
"meanPixelSize": 35.942294279389898,
"exportTilesAllowed": false,
"editFieldsInfo": null,
"rasterTypeInfos": [{
"help": "",
"name": "Raster Dataset",
"description": "Supports all ArcGIS Raster Datasets"
}],
"defaultResamplingMethod": "Bilinear",
"itemAccess": false,
"minScale": 0,
"serviceProperties": " Dates of Images:<\/SPAN><\/P> Post-Event: May 19, 2026<\/SPAN><\/P> Pre-Event: May 11, 2026<\/SPAN><\/P> Date of Next Image:<\/SPAN><\/P> Unknown<\/SPAN><\/P> Summary:<\/SPAN><\/P> These pre-fire and post-fire images pair were analyzed for normalized burn ratio (NBR). The input images were generated from the Landsat datasets at 30m resolution.<\/SPAN><\/P> NBR is defined mathematically as (NIR \u2013 SWIR)/(NIR + SWIR) where NIR is near-infrared and SWIR is short-wave infrared. dNBR is computed by the difference between the pre-fire NBR and the post-fire NBR. More information on dNBR can be found here: https://un-spider.org/advisory-support/recommended-practices/recommended-practice-burn-severity/in-detail/normalized-burn-ratio.<\/SPAN><\/P> dNBR data may be computed while the fire is in progress. This is intentionally done to prioritize rapid data availability for proactive disaster response but means data can change over the course of the fire.<\/SPAN><\/P> Check fire containment and image dates for further context on image timing.<\/SPAN><\/P> Suggested Use:<\/SPAN><\/P> NBR is commonly used as a proxy to indicate areas which have charred vegetation. Darker areas (more negative values) in the NBR image more strongly represent the presence of burned vegetation. Since the dNBR considers the condition of the scene before the fire occurred, the resulting value has been used as a proxy for burn severity. Higher dNBR values represent a proxy for greater burn severity. Negative dNBR values may represent a re-greening of or growth of vegetation in between pre and post imagery.<\/SPAN><\/P> The use of this dNBR product as a quantitative metric of burn severity at the time of posting this dataset should be strongly caveated. This is due to several dNBR limitations:<\/SPAN><\/P> The spectral band selections used for dNBR calculations, and the implication of changes observed following fire in those wavelengths, primarily pertain to how vegetation spectral signatures change in NIR and SWIR wavelengths following charring. Because of this, dNBR may not accurately describe burned surfaces that are not vegetation (e.g. human built infrastructure).<\/SPAN><\/P> This dataset has not been validated by independent burn severity assessments.<\/SPAN><\/P> The degree to which dNBR is accurately determined depends on careful selection of pre and post event imagery. An effort was made to use the highest quality imagery (i.e. cloud free) with representative conditions for each scene; however, it is unknown at the time of this posting how selection of different pre/post image pairs could affect the derived dNBR values.<\/SPAN><\/P> Satellite/Sensor:<\/SPAN><\/P> Landsat 9 Operational Land Imager (OLI)<\/SPAN><\/P> Resolution:<\/SPAN><\/P> 30 meters<\/SPAN><\/P> Credits:<\/SPAN><\/P> NASA/MSFC, USGS<\/SPAN><\/P> Service URL:<\/SPAN><\/P> See individual Layers.<\/SPAN><\/P> WMS Endpoint:<\/SPAN><\/P> <\/P> <\/P><\/DIV><\/DIV><\/DIV>",
"allowCopy": true,
"copyrightText": "NASA/MSFC, USGS",
"mensurationCapabilities": "",
"ownershipBasedAccessControlForRasters": null
}