{ "extent": { "ymin": 4305606.8860567436, "xmin": -11273940.233100001, "ymax": 4572024.6193000004, "xmax": -11008269.179987283, "spatialReference": { "latestWkid": 3857, "wkid": 102100 } }, "blockWidth": 2048, "mosaicOperator": "First", "serviceSourceType": "esriImageServiceSourceTypeMosaicDataset", "hasMultidimensions": false, "maxImageWidth": 15000, "maxRecordCount": 1000, "meanValues": [ 173.40188983169253, 145.23522848871201, 122.01640797366422 ], "hasColormap": false, "compressionType": "None", "defaultCompressionQuality": 75, "maxValues": [ 255, 255, 255 ], "hasHistograms": true, "datasetFormat": "AMD", "maxImageHeight": 4100, "sortField": "", "bandNames": [ "Band_1", "Band_2", "Band_3" ], "spatialReference": { "latestWkid": 3857, "wkid": 102100 }, "fullExtent": { "ymin": 4305606.8860567436, "xmin": -11273940.233100001, "ymax": 4572024.6193000004, "xmax": -11008269.179987283, "spatialReference": { "latestWkid": 3857, "wkid": 102100 } }, "bandCount": 3, "rasterFunctionInfos": [{ "help": "", "name": "None", "description": "" }], "supportsStatistics": true, "sortableFields": "", "minValues": [ 0, 50, 42 ], "allowRasterFunction": true, "allowComputeTiePoints": false, "serviceDataType": "esriImageServiceDataTypeRGB", "supportsAdvancedQueries": true, "maxDownloadSizeLimit": 2048, "currentVersion": 12, "sortValue": null, "objectIdField": "objectid", "blockHeight": 256, "initialExtent": { "ymin": 4305606.8860567436, "xmin": -11273940.233100001, "ymax": 4572024.6193000004, "xmax": -11008269.179987283, "spatialReference": { "latestWkid": 3857, "wkid": 102100 } }, "pixelSizeX": 11.313335311191812, "pixelSizeY": 11.313335311191848, "defaultMosaicMethod": "Northwest", "name": "DISASTERS_202605_FIRE_KS/202608_sentinel2", "allowedMosaicMethods": "NorthWest,Center,LockRaster,ByAttribute,Nadir,Viewpoint,Seamline,None", "maxDownloadImageCount": 20, "fields": [ { "domain": null, "name": "objectid", "alias": "OBJECTID", "type": "esriFieldTypeOID" }, { "domain": null, "name": "name", "length": 200, "alias": "Name", "type": "esriFieldTypeString" }, { "domain": null, "name": "minps", "alias": "MinPS", "type": "esriFieldTypeDouble" }, { "domain": null, "name": "maxps", "alias": "MaxPS", "type": "esriFieldTypeDouble" }, { "domain": null, "name": "lowps", "alias": "LowPS", "type": "esriFieldTypeDouble" }, { "domain": null, "name": "highps", "alias": "HighPS", "type": "esriFieldTypeDouble" }, { "domain": { "splitPolicy": "esriSPTDefaultValue", "name": "MosaicCatalogItemCategoryDomain", "description": "Catalog item categories.", "type": "codedValue", "codedValues": [ { "code": 0, "name": "Unknown" }, { "code": 1, "name": "Primary" }, { "code": 2, "name": "Overview" }, { "code": 3, "name": "Unprocessed Overview" }, { "code": 4, "name": "Partial Overview" }, { "code": 5, "name": "Inactive" }, { "code": 253, "name": "Uploaded" }, { "code": 254, "name": "Incomplete" }, { "code": 255, "name": "Custom" } ], "mergePolicy": "esriMPTDefaultValue" }, "name": "category", "alias": "Category", "type": "esriFieldTypeInteger" }, { "domain": null, "name": "tag", "length": 100, "alias": "Tag", "type": "esriFieldTypeString" }, { "domain": null, "name": "groupname", "length": 100, "alias": "GroupName", "type": "esriFieldTypeString" }, { "domain": null, "name": "productname", "length": 100, "alias": "ProductName", "type": "esriFieldTypeString" }, { "domain": null, "name": "centerx", "alias": "CenterX", "type": "esriFieldTypeDouble" }, { "domain": null, "name": "centery", "alias": "CenterY", "type": "esriFieldTypeDouble" }, { "domain": null, "name": "zorder", "alias": "ZOrder", "type": "esriFieldTypeInteger" }, { "domain": null, "name": "date", "alias": "Date", "type": "esriFieldTypeDateOnly" }, { "domain": null, "name": "shape", "alias": "Shape", "type": "esriFieldTypeGeometry" } ], "allowAnalysis": true, "hasRasterAttributeTable": false, "useStandardizedQueries": true, "description": "
Dates of Images:<\/SPAN><\/P> Post-Event: May 16, 2026<\/SPAN><\/P> Pre-Event: May 11, 2026<\/SPAN><\/P> Date of Next Image:<\/SPAN><\/P> None<\/SPAN><\/P> Summary:<\/SPAN><\/P> The True Color RGB composite provides a product of how the surface would look to the naked eye from space. The RGB is created using the red, green, and blue channels of the respective instrument.<\/SPAN><\/P> Suggested Use:<\/SPAN><\/P> The True Color RGB provides a product of how the surface would look to the naked eye from space. The True Color RGB is produced using the 3 visible wavelength bands (red, green, and blue) from the respective sensor. Some minor atmospheric corrections have occurred.<\/SPAN><\/P> Satellite/Sensor:<\/SPAN><\/P> MultiSpectral Instrument (MSI) on European Space Agency's (ESA) Copernicus Sentinel-2A/2B satellites<\/SPAN><\/P> Resolution:<\/SPAN><\/P> 10 meters<\/SPAN><\/P> Credits:<\/SPAN><\/P> NASA/MSFC, USGS, ESA Copernicus<\/SPAN><\/P> Esri REST Endpoint:<\/SPAN><\/P> See URL section on right side of page<\/SPAN><\/P> WMS Endpoint:<\/SPAN><\/P> <\/P><\/DIV><\/DIV><\/DIV>",
"pixelType": "U8",
"meanPixelSize": 11.31333531119183,
"exportTilesAllowed": false,
"editFieldsInfo": null,
"rasterTypeInfos": [{
"help": "",
"name": "Raster Dataset",
"description": "Supports all ArcGIS Raster Datasets"
}],
"defaultResamplingMethod": "Bilinear",
"itemAccess": false,
"minScale": 0,
"serviceProperties": " Dates of Images:<\/SPAN><\/P> Post-Event: May 16, 2026<\/SPAN><\/P> Pre-Event: May 11, 2026<\/SPAN><\/P> Date of Next Image:<\/SPAN><\/P> None<\/SPAN><\/P> Summary:<\/SPAN><\/P> The True Color RGB composite provides a product of how the surface would look to the naked eye from space. The RGB is created using the red, green, and blue channels of the respective instrument.<\/SPAN><\/P> Suggested Use:<\/SPAN><\/P> The True Color RGB provides a product of how the surface would look to the naked eye from space. The True Color RGB is produced using the 3 visible wavelength bands (red, green, and blue) from the respective sensor. Some minor atmospheric corrections have occurred.<\/SPAN><\/P> Satellite/Sensor:<\/SPAN><\/P> MultiSpectral Instrument (MSI) on European Space Agency's (ESA) Copernicus Sentinel-2A/2B satellites<\/SPAN><\/P> Resolution:<\/SPAN><\/P> 10 meters<\/SPAN><\/P> Credits:<\/SPAN><\/P> NASA/MSFC, USGS, ESA Copernicus<\/SPAN><\/P> Esri REST Endpoint:<\/SPAN><\/P> See URL section on right side of page<\/SPAN><\/P> WMS Endpoint:<\/SPAN><\/P> <\/P><\/DIV><\/DIV><\/DIV>",
"allowCopy": true,
"copyrightText": "NASA/MSFC, USGS, ESA Copernicus",
"mensurationCapabilities": "None",
"ownershipBasedAccessControlForRasters": null
}