{ "extent": { "ymin": 1140705.8571937745, "xmin": -7578280.0427999999, "ymax": 1192563.8790000007, "xmax": -7454300.4930259492, "spatialReference": { "latestWkid": 3857, "wkid": 102100 } }, "blockWidth": 2048, "mosaicOperator": "First", "serviceSourceType": "esriImageServiceSourceTypeMosaicDataset", "hasMultidimensions": false, "maxImageWidth": 15000, "maxRecordCount": 1000, "meanValues": [ 1409.5504734025467, 870.77544362177616, 1215.2237768905482, 1287.4039758065653, 1231.0293586093799, 1608.401682394333, 2778.9050261243569, 2948.5834926708185 ], "hasColormap": false, "compressionType": "None", "defaultCompressionQuality": 75, "maxValues": [ 12727, 12094, 12488, 14181, 14523, 15379, 16383, 16382 ], "hasHistograms": true, "datasetFormat": "AMD", "maxImageHeight": 4100, "sortField": "", "bandNames": [ "Band_1", "Band_2", "Band_3", "Band_4", "Band_5", "Band_6", "Band_7", "Band_8" ], "spatialReference": { "latestWkid": 3857, "wkid": 102100 }, "fullExtent": { "ymin": 1140705.8571937745, "xmin": -7578280.0427999999, "ymax": 1192563.8790000007, "xmax": -7454300.4930259492, "spatialReference": { "latestWkid": 3857, "wkid": 102100 } }, "bandCount": 8, "rasterFunctionInfos": [{ "help": "", "name": "None", "description": "" }], "supportsStatistics": true, "sortableFields": "", "minValues": [ 0, 0, 0, 0, 0, 0, 0, 0 ], "allowRasterFunction": true, "allowComputeTiePoints": false, "serviceDataType": "esriImageServiceDataTypeGeneric", "supportsAdvancedQueries": true, "maxDownloadSizeLimit": 2048, "currentVersion": 12, "sortValue": null, "objectIdField": "objectid", "blockHeight": 256, "initialExtent": { "ymin": 1140705.8571937745, "xmin": -7578280.0427999999, "ymax": 1192563.8790000007, "xmax": -7454300.4930259492, "spatialReference": { "latestWkid": 3857, "wkid": 102100 } }, "pixelSizeX": 0.3775996228681921, "pixelSizeY": 0.37759962286819271, "defaultMosaicMethod": "Northwest", "name": "DISASTERS_202606_EARTHQUAKE_VENEZUELA/202611_vantor", "allowedMosaicMethods": "NorthWest,Center,LockRaster,ByAttribute,Nadir,Viewpoint,Seamline,None", "maxDownloadImageCount": 20, "fields": [ { "domain": null, "name": "objectid", "alias": "OBJECTID", "type": "esriFieldTypeOID" }, { "domain": null, "name": "name", "length": 200, "alias": "Name", "type": "esriFieldTypeString" }, { "domain": null, "name": "minps", "alias": "MinPS", "type": "esriFieldTypeDouble" }, { "domain": null, "name": "maxps", "alias": "MaxPS", "type": "esriFieldTypeDouble" }, { "domain": null, "name": "lowps", "alias": "LowPS", "type": "esriFieldTypeDouble" }, { "domain": null, "name": "highps", "alias": "HighPS", "type": "esriFieldTypeDouble" }, { "domain": { "splitPolicy": "esriSPTDefaultValue", "name": "MosaicCatalogItemCategoryDomain", "description": "Catalog item categories.", "type": "codedValue", "codedValues": [ { "code": 0, "name": "Unknown" }, { "code": 1, "name": "Primary" }, { "code": 2, "name": "Overview" }, { "code": 3, "name": "Unprocessed Overview" }, { "code": 4, "name": "Partial Overview" }, { "code": 5, "name": "Inactive" }, { "code": 253, "name": "Uploaded" }, { "code": 254, "name": "Incomplete" }, { "code": 255, "name": "Custom" } ], "mergePolicy": "esriMPTDefaultValue" }, "name": "category", "alias": "Category", "type": "esriFieldTypeInteger" }, { "domain": null, "name": "tag", "length": 100, "alias": "Tag", "type": "esriFieldTypeString" }, { "domain": null, "name": "groupname", "length": 100, "alias": "GroupName", "type": "esriFieldTypeString" }, { "domain": null, "name": "productname", "length": 100, "alias": "ProductName", "type": "esriFieldTypeString" }, { "domain": null, "name": "centerx", "alias": "CenterX", "type": "esriFieldTypeDouble" }, { "domain": null, "name": "centery", "alias": "CenterY", "type": "esriFieldTypeDouble" }, { "domain": null, "name": "zorder", "alias": "ZOrder", "type": "esriFieldTypeInteger" }, { "domain": null, "name": "shape", "alias": "Shape", "type": "esriFieldTypeGeometry" } ], "allowAnalysis": true, "hasRasterAttributeTable": false, "useStandardizedQueries": true, "description": "
Dates of Images:<\/SPAN><\/P> Post-Event: 6/25/2026<\/SPAN><\/P> Summary:<\/SPAN><\/P> Legion is a high-resolution satellite constellation operated by Vantor and allows for multiple viewing opportunities of any location on Earth daily. Legion collects 4-band imagery which allows for multiple derived products to be produced.<\/SPAN><\/P> The True Color RGB composite provides a product of how the surface would look to the naked eye from space. The RGB is created using the red, green, and blue channels of the respective instrument.<\/SPAN><\/P> Resolution:<\/SPAN><\/P> ~0.4 m<\/SPAN><\/P> Credits:<\/SPAN><\/P> NASA Disasters Program, Processing from MSFC, Vantor. For derived products: \u201cIncludes copyrighted material of Vantor. All rights reserved.\u201d This work utilized data made available through the NASA Commercial Satellite Data Acquisition (CSDA) program.<\/SPAN><\/P><\/DIV><\/DIV><\/DIV>",
"pixelType": "U16",
"meanPixelSize": 0.37759962286819237,
"exportTilesAllowed": false,
"editFieldsInfo": null,
"rasterTypeInfos": [{
"help": "",
"name": "Raster Dataset",
"description": "Supports all ArcGIS Raster Datasets"
}],
"defaultResamplingMethod": "Bilinear",
"itemAccess": false,
"minScale": 0,
"serviceProperties": " Dates of Images:<\/SPAN><\/P> Post-Event: 6/25/2026<\/SPAN><\/P> Summary:<\/SPAN><\/P> Legion is a high-resolution satellite constellation operated by Vantor and allows for multiple viewing opportunities of any location on Earth daily. Legion collects 4-band imagery which allows for multiple derived products to be produced.<\/SPAN><\/P> The True Color RGB composite provides a product of how the surface would look to the naked eye from space. The RGB is created using the red, green, and blue channels of the respective instrument.<\/SPAN><\/P> Resolution:<\/SPAN><\/P> ~0.4 m<\/SPAN><\/P> Credits:<\/SPAN><\/P> NASA Disasters Program, Processing from MSFC, Vantor. For derived products: \u201cIncludes copyrighted material of Vantor. All rights reserved.\u201d This work utilized data made available through the NASA Commercial Satellite Data Acquisition (CSDA) program.<\/SPAN><\/P><\/DIV><\/DIV><\/DIV>",
"allowCopy": true,
"copyrightText": "NASA Disasters Program, Processing from MSFC, Planet. For derived products: \u201cIncludes copyrighted material of Vantor. All rights reserved.\u201d This work utilized data made available through the NASA Commercial Satellite Data Acquisition (CSDA) program.",
"mensurationCapabilities": "None",
"ownershipBasedAccessControlForRasters": null
}