{ "extent": { "ymin": 5169816.7239000425, "xmin": -13541894.4143, "ymax": 6262876.7238999978, "xmax": -12957439.014300026, "spatialReference": { "latestWkid": 3857, "wkid": 102100 } }, "blockWidth": 2048, "mosaicOperator": "First", "serviceSourceType": "esriImageServiceSourceTypeMosaicDataset", "hasMultidimensions": false, "maxImageWidth": 15000, "maxRecordCount": 1000, "meanValues": [ 15.206139466074722, 16.523541344450365, 8.2027323874206477, 53.009279806334206 ], "hasColormap": false, "compressionType": "None", "defaultCompressionQuality": 75, "maxValues": [ 255, 232, 78, 255 ], "hasHistograms": true, "datasetFormat": "AMD", "maxImageHeight": 4100, "sortField": "", "bandNames": [ "Band_1", "Band_2", "Band_3", "Band_4" ], "spatialReference": { "latestWkid": 3857, "wkid": 102100 }, "fullExtent": { "ymin": 5169816.7239000425, "xmin": -13541894.4143, "ymax": 6262876.7238999978, "xmax": -12957439.014300026, "spatialReference": { "latestWkid": 3857, "wkid": 102100 } }, "bandCount": 4, "rasterFunctionInfos": [{ "help": "", "name": "None", "description": "" }], "supportsStatistics": true, "sortableFields": "", "minValues": [ 0, 0, 0, 0 ], "allowRasterFunction": true, "allowComputeTiePoints": false, "serviceDataType": "esriImageServiceDataTypeGeneric", "supportsAdvancedQueries": true, "maxDownloadSizeLimit": 2048, "currentVersion": 12, "sortValue": null, "objectIdField": "objectid", "blockHeight": 256, "initialExtent": { "ymin": 5169816.7239000425, "xmin": -13541894.4143, "ymax": 6262876.7238999978, "xmax": -12957439.014300026, "spatialReference": { "latestWkid": 3857, "wkid": 102100 } }, "pixelSizeX": 3.0999999999998638, "pixelSizeY": 3.0999999999998731, "defaultMosaicMethod": "Northwest", "name": "DISASTERS_202607_FIRE_OR/202618_aviris", "allowedMosaicMethods": "NorthWest,Center,LockRaster,ByAttribute,Nadir,Viewpoint,Seamline,None", "maxDownloadImageCount": 20, "fields": [ { "domain": null, "name": "objectid", "alias": "OBJECTID", "type": "esriFieldTypeOID" }, { "domain": null, "name": "name", "length": 200, "alias": "Name", "type": "esriFieldTypeString" }, { "domain": null, "name": "minps", "alias": "MinPS", "type": "esriFieldTypeDouble" }, { "domain": null, "name": "maxps", "alias": "MaxPS", "type": "esriFieldTypeDouble" }, { "domain": null, "name": "lowps", "alias": "LowPS", "type": "esriFieldTypeDouble" }, { "domain": null, "name": "highps", "alias": "HighPS", "type": "esriFieldTypeDouble" }, { "domain": { "splitPolicy": "esriSPTDefaultValue", "name": "MosaicCatalogItemCategoryDomain", "description": "Catalog item categories.", "type": "codedValue", "codedValues": [ { "code": 0, "name": "Unknown" }, { "code": 1, "name": "Primary" }, { "code": 2, "name": "Overview" }, { "code": 3, "name": "Unprocessed Overview" }, { "code": 4, "name": "Partial Overview" }, { "code": 5, "name": "Inactive" }, { "code": 253, "name": "Uploaded" }, { "code": 254, "name": "Incomplete" }, { "code": 255, "name": "Custom" } ], "mergePolicy": "esriMPTDefaultValue" }, "name": "category", "alias": "Category", "type": "esriFieldTypeInteger" }, { "domain": null, "name": "tag", "length": 100, "alias": "Tag", "type": "esriFieldTypeString" }, { "domain": null, "name": "groupname", "length": 100, "alias": "GroupName", "type": "esriFieldTypeString" }, { "domain": null, "name": "productname", "length": 100, "alias": "ProductName", "type": "esriFieldTypeString" }, { "domain": null, "name": "centerx", "alias": "CenterX", "type": "esriFieldTypeDouble" }, { "domain": null, "name": "centery", "alias": "CenterY", "type": "esriFieldTypeDouble" }, { "domain": null, "name": "zorder", "alias": "ZOrder", "type": "esriFieldTypeInteger" }, { "domain": null, "name": "shape", "alias": "Shape", "type": "esriFieldTypeGeometry" } ], "allowAnalysis": true, "hasRasterAttributeTable": false, "useStandardizedQueries": true, "description": "
Summary:<\/SPAN><\/P> The images are false-color \u201cquick looks\u201d generated from the NASA AVIRIS-3 (Airborne Visible/Infrared Imaging Spectrometer -3). They are generated from un-atmospherically-corrected, at-sensor radiance data. Specifically: AVIRIS 3 L1B calibrated spectral radiance (units: uW nm-1 cm-2 sr-1). The images have been orthorectified.<\/SPAN><\/P> Given that these images were derived from solely calibrated, at-sensor radiance data, they have not undergone atmospheric correction and do not quantitatively represent surface reflectance.<\/SPAN><\/P> Suggested Usage:<\/SPAN><\/P> Despite the rawer form of this quick-look product, it is still useful for burned area mapping.<\/SPAN><\/P> Sensor:<\/SPAN><\/P> Airborne Visible/Infrared Imaging Spectrometer 3rd-Generation (AVIRIS-3)<\/SPAN><\/P> AV320250110t223109 Resolution: 3.70 x 3.70 m pixels<\/SPAN><\/P> Dimensions for AV320250110t223109: X: 6210 Y: 3068 Bands: 3<\/SPAN><\/P> AV320250110t222449 Resolution: 3.40 x 3.40 m pixels<\/SPAN><\/P> Dimensions for AV320250110t222449: X: 6593 Y: 3465 Bands: 3<\/SPAN><\/P> The AVIRIS-3 False color RGB wavelengths are 1660nm, 850nm, and 560nm for (R, G, B) respectively.<\/SPAN><\/P> Caveats and Limitations:<\/SPAN><\/P> These results are intended to support rapid emergency response. All information is provisional for use under emergency response guidelines. These data are provided with absolutely no warranty of any kind. Use at your own risk.<\/SPAN><\/P> Credits:<\/SPAN><\/P> Rob Green (JPL), Phil Brodrick (JPL), David Thompson (JPL), John Chapman (JPL), Michael Eastwood (JPL), and Adam Chlus (JPL).<\/SPAN><\/P><\/DIV><\/DIV><\/DIV>",
"pixelType": "U8",
"meanPixelSize": 3.0999999999998682,
"exportTilesAllowed": false,
"editFieldsInfo": null,
"rasterTypeInfos": [{
"help": "",
"name": "Raster Dataset",
"description": "Supports all ArcGIS Raster Datasets"
}],
"defaultResamplingMethod": "Bilinear",
"itemAccess": false,
"minScale": 0,
"serviceProperties": " Summary:<\/SPAN><\/P> The images are false-color \u201cquick looks\u201d generated from the NASA AVIRIS-3 (Airborne Visible/Infrared Imaging Spectrometer -3). They are generated from un-atmospherically-corrected, at-sensor radiance data. Specifically: AVIRIS 3 L1B calibrated spectral radiance (units: uW nm-1 cm-2 sr-1). The images have been orthorectified.<\/SPAN><\/P> Given that these images were derived from solely calibrated, at-sensor radiance data, they have not undergone atmospheric correction and do not quantitatively represent surface reflectance.<\/SPAN><\/P> Suggested Usage:<\/SPAN><\/P> Despite the rawer form of this quick-look product, it is still useful for burned area mapping.<\/SPAN><\/P> Sensor:<\/SPAN><\/P> Airborne Visible/Infrared Imaging Spectrometer 3rd-Generation (AVIRIS-3)<\/SPAN><\/P> AV320250110t223109 Resolution: 3.70 x 3.70 m pixels<\/SPAN><\/P> Dimensions for AV320250110t223109: X: 6210 Y: 3068 Bands: 3<\/SPAN><\/P> AV320250110t222449 Resolution: 3.40 x 3.40 m pixels<\/SPAN><\/P> Dimensions for AV320250110t222449: X: 6593 Y: 3465 Bands: 3<\/SPAN><\/P> The AVIRIS-3 False color RGB wavelengths are 1660nm, 850nm, and 560nm for (R, G, B) respectively.<\/SPAN><\/P> Caveats and Limitations:<\/SPAN><\/P> These results are intended to support rapid emergency response. All information is provisional for use under emergency response guidelines. These data are provided with absolutely no warranty of any kind. Use at your own risk.<\/SPAN><\/P> Credits:<\/SPAN><\/P> Rob Green (JPL), Phil Brodrick (JPL), David Thompson (JPL), John Chapman (JPL), Michael Eastwood (JPL), and Adam Chlus (JPL).<\/SPAN><\/P><\/DIV><\/DIV><\/DIV>",
"allowCopy": true,
"copyrightText": "Rob Green (JPL), Phil Brodrick (JPL), David Thompson (JPL), John Chapman (JPL), Adam Chlus (JPL), Michael Eastwood (JPL)",
"mensurationCapabilities": "None",
"ownershipBasedAccessControlForRasters": null
}