{ "extent": { "ymin": 5503842.0430000909, "xmin": -13511562.8693, "ymax": 6251605.7430000007, "xmax": -13010807.469300061, "spatialReference": { "latestWkid": 3857, "wkid": 102100 } }, "blockWidth": 2048, "mosaicOperator": "First", "serviceSourceType": "esriImageServiceSourceTypeMosaicDataset", "hasMultidimensions": false, "maxImageWidth": 15000, "maxRecordCount": 1000, "meanValues": [ 1204.4778435239964, 2422.9737015121473, 4300.6402366863858 ], "hasColormap": false, "compressionType": "None", "defaultCompressionQuality": 75, "maxValues": [ 8116, 13096, 21599 ], "hasHistograms": true, "datasetFormat": "AMD", "maxImageHeight": 4100, "sortField": "", "bandNames": [ "Band_1", "Band_2", "Band_3" ], "spatialReference": { "latestWkid": 3857, "wkid": 102100 }, "fullExtent": { "ymin": 5503842.0430000909, "xmin": -13511562.8693, "ymax": 6251605.7430000007, "xmax": -13010807.469300061, "spatialReference": { "latestWkid": 3857, "wkid": 102100 } }, "bandCount": 3, "rasterFunctionInfos": [ { "help": "", "name": "None", "description": "Make a Raster or Raster Dataset into a Function Raster Dataset." }, { "help": "", "name": "None", "description": "Make a Raster or Raster Dataset into a Function Raster Dataset." } ], "supportsStatistics": true, "sortableFields": "", "minValues": [ 4, 59, 156 ], "allowRasterFunction": true, "allowComputeTiePoints": false, "serviceDataType": "esriImageServiceDataTypeGeneric", "supportsAdvancedQueries": true, "maxDownloadSizeLimit": 2048, "currentVersion": 12, "sortValue": null, "objectIdField": "objectid", "blockHeight": 256, "initialExtent": { "ymin": 5503842.0430000909, "xmin": -13511562.8693, "ymax": 6251605.7430000007, "xmax": -13010807.469300061, "spatialReference": { "latestWkid": 3857, "wkid": 102100 } }, "pixelSizeX": 1.6999999999997926, "pixelSizeY": 1.699999999999795, "defaultMosaicMethod": "Northwest", "name": "DISASTERS_202607_FIRE_OR/202618_aviris_CIR", "allowedMosaicMethods": "NorthWest,Center,LockRaster,ByAttribute,Nadir,Viewpoint,Seamline,None", "maxDownloadImageCount": 20, "fields": [ { "domain": null, "name": "objectid", "alias": "OBJECTID", "type": "esriFieldTypeOID" }, { "domain": null, "name": "name", "length": 200, "alias": "Name", "type": "esriFieldTypeString" }, { "domain": null, "name": "minps", "alias": "MinPS", "type": "esriFieldTypeDouble" }, { "domain": null, "name": "maxps", "alias": "MaxPS", "type": "esriFieldTypeDouble" }, { "domain": null, "name": "lowps", "alias": "LowPS", "type": "esriFieldTypeDouble" }, { "domain": null, "name": "highps", "alias": "HighPS", "type": "esriFieldTypeDouble" }, { "domain": { "splitPolicy": "esriSPTDefaultValue", "name": "MosaicCatalogItemCategoryDomain", "description": "Catalog item categories.", "type": "codedValue", "codedValues": [ { "code": 0, "name": "Unknown" }, { "code": 1, "name": "Primary" }, { "code": 2, "name": "Overview" }, { "code": 3, "name": "Unprocessed Overview" }, { "code": 4, "name": "Partial Overview" }, { "code": 5, "name": "Inactive" }, { "code": 253, "name": "Uploaded" }, { "code": 254, "name": "Incomplete" }, { "code": 255, "name": "Custom" } ], "mergePolicy": "esriMPTDefaultValue" }, "name": "category", "alias": "Category", "type": "esriFieldTypeInteger" }, { "domain": null, "name": "tag", "length": 100, "alias": "Tag", "type": "esriFieldTypeString" }, { "domain": null, "name": "groupname", "length": 100, "alias": "GroupName", "type": "esriFieldTypeString" }, { "domain": null, "name": "productname", "length": 100, "alias": "ProductName", "type": "esriFieldTypeString" }, { "domain": null, "name": "centerx", "alias": "CenterX", "type": "esriFieldTypeDouble" }, { "domain": null, "name": "centery", "alias": "CenterY", "type": "esriFieldTypeDouble" }, { "domain": null, "name": "zorder", "alias": "ZOrder", "type": "esriFieldTypeInteger" }, { "domain": null, "name": "shape", "alias": "Shape", "type": "esriFieldTypeGeometry" } ], "allowAnalysis": true, "hasRasterAttributeTable": false, "useStandardizedQueries": true, "description": "
Summary:<\/SPAN><\/P> The images are color infrared \u201cquick looks\u201d generated from the NASA AVIRIS-3 (Airborne Visible/Infrared Imaging Spectrometer -3). They are generated from un-atmospherically-corrected, at-sensor radiance data. Specifically: AVIRIS 3 L1B calibrated spectral radiance (units: uW nm-1 cm-2 sr-1). The images have been orthorectified.<\/SPAN><\/P> Given that these images were derived from solely calibrated, at-sensor radiance data, they have not undergone atmospheric correction and do not quantitatively represent surface reflectance.<\/SPAN><\/P> Suggested Usage:<\/SPAN><\/P> Despite the rawer form of this quick-look product, it is still useful for burned area mapping.<\/SPAN><\/P> Sensor:<\/SPAN><\/P> Airborne Visible/Infrared Imaging Spectrometer 3rd-Generation (AVIRIS-3)<\/SPAN><\/P> The AVIRIS-3 Color Infrared wavelengths are 2338nm, 1209nm, 1000nm (R, G, B).<\/SPAN><\/P> Caveats and Limitations:<\/SPAN><\/P> These results are intended to support rapid emergency response. All information is provisional for use under emergency response guidelines. These data are provided with absolutely no warranty of any kind. Use at your own risk.<\/SPAN><\/P> Data is dark-subtracted DN. No other calibration steps (e.g., bad pixel replacement, flatfield, radiometric coefficients) have been applied. <\/SPAN><\/P> Values are not in physical units.<\/SPAN><\/P> Orthorectified with a 30 m DEM. Geolocation error is larger over rugged terrain due to the coarse DEM.<\/SPAN><\/P> Credits:<\/SPAN><\/P> Rob Green (JPL), Phil Brodrick (JPL), David Thompson (JPL), John Chapman (JPL), Michael Eastwood (JPL), and Adam Chlus (JPL).<\/SPAN><\/P> Esri REST Endpoint:<\/SPAN><\/P> See URL to the right.<\/SPAN><\/P> WMS Endpoint:<\/SPAN><\/P> https://gis.earthdata.nasa.gov/portal/services/DISASTERS_202607_FIRE_OR/202618_aviris/ImageServer/WMSServer<\/SPAN><\/P><\/DIV><\/DIV>",
"pixelType": "U16",
"meanPixelSize": 1.6999999999997937,
"exportTilesAllowed": false,
"editFieldsInfo": null,
"rasterTypeInfos": [{
"help": "",
"name": "Raster Dataset",
"description": "Supports all ArcGIS Raster Datasets"
}],
"defaultResamplingMethod": "Bilinear",
"itemAccess": false,
"minScale": 0,
"serviceProperties": " Summary:<\/SPAN><\/P> The images are color infrared \u201cquick looks\u201d generated from the NASA AVIRIS-3 (Airborne Visible/Infrared Imaging Spectrometer -3). They are generated from un-atmospherically-corrected, at-sensor radiance data. Specifically: AVIRIS 3 L1B calibrated spectral radiance (units: uW nm-1 cm-2 sr-1). The images have been orthorectified.<\/SPAN><\/P> Given that these images were derived from solely calibrated, at-sensor radiance data, they have not undergone atmospheric correction and do not quantitatively represent surface reflectance.<\/SPAN><\/P> Suggested Usage:<\/SPAN><\/P> Despite the rawer form of this quick-look product, it is still useful for burned area mapping.<\/SPAN><\/P> Sensor:<\/SPAN><\/P> Airborne Visible/Infrared Imaging Spectrometer 3rd-Generation (AVIRIS-3)<\/SPAN><\/P> The AVIRIS-3 Color Infrared wavelengths are 2338nm, 1209nm, 1000nm (R, G, B).<\/SPAN><\/P> Caveats and Limitations:<\/SPAN><\/P> These results are intended to support rapid emergency response. All information is provisional for use under emergency response guidelines. These data are provided with absolutely no warranty of any kind. Use at your own risk.<\/SPAN><\/P> Data is dark-subtracted DN. No other calibration steps (e.g., bad pixel replacement, flatfield, radiometric coefficients) have been applied. <\/SPAN><\/P> Values are not in physical units.<\/SPAN><\/P> Orthorectified with a 30 m DEM. Geolocation error is larger over rugged terrain due to the coarse DEM.<\/SPAN><\/P> Credits:<\/SPAN><\/P> Rob Green (JPL), Phil Brodrick (JPL), David Thompson (JPL), John Chapman (JPL), Michael Eastwood (JPL), and Adam Chlus (JPL).<\/SPAN><\/P> Esri REST Endpoint:<\/SPAN><\/P> See URL to the right.<\/SPAN><\/P> WMS Endpoint:<\/SPAN><\/P> https://gis.earthdata.nasa.gov/portal/services/DISASTERS_202607_FIRE_OR/202618_aviris/ImageServer/WMSServer<\/SPAN><\/P><\/DIV><\/DIV>",
"allowCopy": true,
"copyrightText": "Rob Green (JPL), Phil Brodrick (JPL), David Thompson (JPL), John Chapman (JPL), Adam Chlus (JPL), Michael Eastwood (JPL)",
"mensurationCapabilities": "",
"ownershipBasedAccessControlForRasters": null
}