{ "extent": { "ymin": 42.294586074633052, "xmin": -121.77227208399995, "ymax": 45.45894886800005, "xmax": -120.33965561980939, "spatialReference": { "latestWkid": 4326, "wkid": 4326 } }, "blockWidth": 2048, "mosaicOperator": "First", "serviceSourceType": "esriImageServiceSourceTypeMosaicDataset", "hasMultidimensions": false, "maxImageWidth": 15000, "maxRecordCount": 1000, "meanValues": [1742.030803642597], "hasColormap": false, "compressionType": "None", "defaultCompressionQuality": 75, "maxValues": [5956.8681640625], "hasHistograms": true, "datasetFormat": "AMD", "maxImageHeight": 4100, "sortField": "", "bandNames": ["Band_1"], "spatialReference": { "latestWkid": 4326, "wkid": 4326 }, "fullExtent": { "ymin": 42.294586074633052, "xmin": -121.77227208399995, "ymax": 45.45894886800005, "xmax": -120.33965561980939, "spatialReference": { "latestWkid": 4326, "wkid": 4326 } }, "bandCount": 1, "rasterFunctionInfos": [ { "help": "", "name": "AVIRIS_fireRetardant", "description": "AVIRIS_fireRetardant" }, { "help": "", "name": "AVIRIS_fireRetardant", "description": "AVIRIS_fireRetardant" }, { "help": "", "name": "None", "description": "" } ], "supportsStatistics": true, "sortableFields": "", "minValues": [1494.06201171875], "allowRasterFunction": true, "allowComputeTiePoints": false, "serviceDataType": "esriImageServiceDataTypeGeneric", "supportsAdvancedQueries": true, "maxDownloadSizeLimit": 2048, "currentVersion": 12, "sortValue": null, "objectIdField": "objectid", "blockHeight": 256, "initialExtent": { "ymin": 42.294586074633052, "xmin": -121.77227208399995, "ymax": 45.45894886800005, "xmax": -120.33965561980939, "spatialReference": { "latestWkid": 4326, "wkid": 4326 } }, "pixelSizeX": 0.000026948636485215837, "pixelSizeY": 0.000026948636485215695, "defaultMosaicMethod": "Northwest", "name": "DISASTERS_202607_FIRE_OR/202618_aviris_fireRetardant", "allowedMosaicMethods": "NorthWest,Center,LockRaster,ByAttribute,Nadir,Viewpoint,Seamline,None", "maxDownloadImageCount": 20, "fields": [ { "domain": null, "name": "objectid", "alias": "OBJECTID", "type": "esriFieldTypeOID" }, { "domain": null, "name": "name", "length": 200, "alias": "Name", "type": "esriFieldTypeString" }, { "domain": null, "name": "minps", "alias": "MinPS", "type": "esriFieldTypeDouble" }, { "domain": null, "name": "maxps", "alias": "MaxPS", "type": "esriFieldTypeDouble" }, { "domain": null, "name": "lowps", "alias": "LowPS", "type": "esriFieldTypeDouble" }, { "domain": null, "name": "highps", "alias": "HighPS", "type": "esriFieldTypeDouble" }, { "domain": { "splitPolicy": "esriSPTDefaultValue", "name": "MosaicCatalogItemCategoryDomain", "description": "Catalog item categories.", "type": "codedValue", "codedValues": [ { "code": 0, "name": "Unknown" }, { "code": 1, "name": "Primary" }, { "code": 2, "name": "Overview" }, { "code": 3, "name": "Unprocessed Overview" }, { "code": 4, "name": "Partial Overview" }, { "code": 5, "name": "Inactive" }, { "code": 253, "name": "Uploaded" }, { "code": 254, "name": "Incomplete" }, { "code": 255, "name": "Custom" } ], "mergePolicy": "esriMPTDefaultValue" }, "name": "category", "alias": "Category", "type": "esriFieldTypeInteger" }, { "domain": null, "name": "tag", "length": 100, "alias": "Tag", "type": "esriFieldTypeString" }, { "domain": null, "name": "groupname", "length": 100, "alias": "GroupName", "type": "esriFieldTypeString" }, { "domain": null, "name": "productname", "length": 100, "alias": "ProductName", "type": "esriFieldTypeString" }, { "domain": null, "name": "centerx", "alias": "CenterX", "type": "esriFieldTypeDouble" }, { "domain": null, "name": "centery", "alias": "CenterY", "type": "esriFieldTypeDouble" }, { "domain": null, "name": "zorder", "alias": "ZOrder", "type": "esriFieldTypeInteger" }, { "domain": null, "name": "date", "alias": "Date", "type": "esriFieldTypeDateOnly" }, { "domain": null, "name": "fire", "length": 255, "alias": "Fire", "type": "esriFieldTypeString" }, { "domain": null, "name": "shape", "alias": "Shape", "type": "esriFieldTypeGeometry" } ], "allowAnalysis": true, "hasRasterAttributeTable": false, "useStandardizedQueries": true, "description": "
Fire Retardant Detection<\/SPAN><\/P> <\/P> This is an EXPERIMENTAL, UNVALIDATED data product under active development. It is provided as-is. No guarantee is made as to the accuracy or completeness of the detections. Retardant may be missed entirely, and spectrally similar surfaces may produce elevated scores.<\/SPAN><\/P> <\/P> Product: retardant detection score, unitless.<\/SPAN><\/P> <\/P> Higher values indicate greater likelihood of retardant presence. <\/SPAN><\/P> <\/P> Values are relative, not physical units. <\/SPAN><\/P> <\/P> Files are mosaics, with all acquisition chunks covering a given flightbox combined into a single mosaicked GeoTiff.<\/SPAN><\/P> <\/P> Orthorectified with a 30 m DEM. Geolocation error is larger over rugged terrain due to the coarse DEM. Resolution varies from scene to scene. Files are provided as 32-bit floating point values, as Cloud Optimized GeoTiffs, in WGS 84 / Pseudo-Mercator projection.<\/SPAN><\/P> <\/P> Caveats and Limitations:<\/SPAN><\/P> <\/P> These results are intended to support rapid emergency response. All information is provisional for use under emergency response guidelines. These data are provided with absolutely no warranty of any kind. Use at your own risk.<\/SPAN><\/P> <\/P> These are PRELIMINARY data products generated for rapid response.<\/SPAN><\/P> <\/P> POCs: Adam Chlus (adam.chlus@jpl.nasa.gov) Philip Brodrick (philip.brodrick@jpl.nasa.gov)<\/SPAN><\/P><\/DIV><\/DIV><\/DIV>",
"pixelType": "F32",
"meanPixelSize": 2.9999084911072527,
"exportTilesAllowed": false,
"editFieldsInfo": null,
"rasterTypeInfos": [{
"help": "",
"name": "Raster Dataset",
"description": "Supports all ArcGIS Raster Datasets"
}],
"defaultResamplingMethod": "Bilinear",
"itemAccess": false,
"minScale": 0,
"serviceProperties": " Fire Retardant Detection<\/SPAN><\/P> <\/P> This is an EXPERIMENTAL, UNVALIDATED data product under active development. It is provided as-is. No guarantee is made as to the accuracy or completeness of the detections. Retardant may be missed entirely, and spectrally similar surfaces may produce elevated scores.<\/SPAN><\/P> <\/P> Product: retardant detection score, unitless.<\/SPAN><\/P> <\/P> Higher values indicate greater likelihood of retardant presence. <\/SPAN><\/P> <\/P> Values are relative, not physical units. <\/SPAN><\/P> <\/P> Files are mosaics, with all acquisition chunks covering a given flightbox combined into a single mosaicked GeoTiff.<\/SPAN><\/P> <\/P> Orthorectified with a 30 m DEM. Geolocation error is larger over rugged terrain due to the coarse DEM. Resolution varies from scene to scene. Files are provided as 32-bit floating point values, as Cloud Optimized GeoTiffs, in WGS 84 / Pseudo-Mercator projection.<\/SPAN><\/P> <\/P> Caveats and Limitations:<\/SPAN><\/P> <\/P> These results are intended to support rapid emergency response. All information is provisional for use under emergency response guidelines. These data are provided with absolutely no warranty of any kind. Use at your own risk.<\/SPAN><\/P> <\/P> These are PRELIMINARY data products generated for rapid response.<\/SPAN><\/P> <\/P> POCs: Adam Chlus (adam.chlus@jpl.nasa.gov) Philip Brodrick (philip.brodrick@jpl.nasa.gov)<\/SPAN><\/P><\/DIV><\/DIV><\/DIV>",
"allowCopy": true,
"copyrightText": "Rob Green (JPL), Phil Brodrick (JPL), David Thompson (JPL), John Chapman (JPL), Michael Eastwood (JPL), and Adam Chlus (JPL).",
"mensurationCapabilities": "None",
"ownershipBasedAccessControlForRasters": null
}