{ "extent": { "ymin": 5175301.5944000036, "xmin": -13723966.583900001, "ymax": 5963941.5944000036, "xmax": -13105936.583900001, "spatialReference": { "latestWkid": 3857, "wkid": 102100 } }, "blockWidth": 2048, "mosaicOperator": "Min", "serviceSourceType": "esriImageServiceSourceTypeMosaicDataset", "hasMultidimensions": false, "maxImageWidth": 15000, "maxRecordCount": 1000, "meanValues": [333.93500526812772], "hasColormap": false, "compressionType": "None", "defaultCompressionQuality": 75, "maxValues": [999], "hasHistograms": true, "datasetFormat": "AMD", "maxImageHeight": 4100, "sortField": "", "bandNames": ["Band_1"], "spatialReference": { "latestWkid": 3857, "wkid": 102100 }, "fullExtent": { "ymin": 5175301.5944000036, "xmin": -13723966.583900001, "ymax": 5963941.5944000036, "xmax": -13105936.583900001, "spatialReference": { "latestWkid": 3857, "wkid": 102100 } }, "bandCount": 1, "rasterFunctionInfos": [{ "help": "", "name": "None", "description": "" }], "supportsStatistics": true, "sortableFields": "", "minValues": [-0.99494796991348267], "allowRasterFunction": true, "allowComputeTiePoints": false, "serviceDataType": "esriImageServiceDataTypeGeneric", "supportsAdvancedQueries": true, "maxDownloadSizeLimit": 2048, "currentVersion": 12, "sortValue": null, "objectIdField": "objectid", "blockHeight": 256, "initialExtent": { "ymin": 5175301.5944000036, "xmin": -13723966.583900001, "ymax": 5963941.5944000036, "xmax": -13105936.583900001, "spatialReference": { "latestWkid": 3857, "wkid": 102100 } }, "pixelSizeX": 30, "pixelSizeY": 30, "defaultMosaicMethod": "Northwest", "name": "DISASTERS_202607_FIRE_OR/202618_landsat_nbr", "allowedMosaicMethods": "NorthWest,Center,LockRaster,ByAttribute,Nadir,Viewpoint,Seamline,None", "maxDownloadImageCount": 20, "fields": [ { "domain": null, "name": "objectid", "alias": "OBJECTID", "type": "esriFieldTypeOID" }, { "domain": null, "name": "name", "length": 200, "alias": "Name", "type": "esriFieldTypeString" }, { "domain": null, "name": "minps", "alias": "MinPS", "type": "esriFieldTypeDouble" }, { "domain": null, "name": "maxps", "alias": "MaxPS", "type": "esriFieldTypeDouble" }, { "domain": null, "name": "lowps", "alias": "LowPS", "type": "esriFieldTypeDouble" }, { "domain": null, "name": "highps", "alias": "HighPS", "type": "esriFieldTypeDouble" }, { "domain": { "splitPolicy": "esriSPTDefaultValue", "name": "MosaicCatalogItemCategoryDomain", "description": "Catalog item categories.", "type": "codedValue", "codedValues": [ { "code": 0, "name": "Unknown" }, { "code": 1, "name": "Primary" }, { "code": 2, "name": "Overview" }, { "code": 3, "name": "Unprocessed Overview" }, { "code": 4, "name": "Partial Overview" }, { "code": 5, "name": "Inactive" }, { "code": 253, "name": "Uploaded" }, { "code": 254, "name": "Incomplete" }, { "code": 255, "name": "Custom" } ], "mergePolicy": "esriMPTDefaultValue" }, "name": "category", "alias": "Category", "type": "esriFieldTypeInteger" }, { "domain": null, "name": "tag", "length": 100, "alias": "Tag", "type": "esriFieldTypeString" }, { "domain": null, "name": "groupname", "length": 100, "alias": "GroupName", "type": "esriFieldTypeString" }, { "domain": null, "name": "productname", "length": 100, "alias": "ProductName", "type": "esriFieldTypeString" }, { "domain": null, "name": "centerx", "alias": "CenterX", "type": "esriFieldTypeDouble" }, { "domain": null, "name": "centery", "alias": "CenterY", "type": "esriFieldTypeDouble" }, { "domain": null, "name": "zorder", "alias": "ZOrder", "type": "esriFieldTypeInteger" }, { "domain": null, "name": "date", "alias": "Date", "type": "esriFieldTypeDateOnly" }, { "domain": null, "name": "shape", "alias": "Shape", "type": "esriFieldTypeGeometry" } ], "allowAnalysis": true, "hasRasterAttributeTable": false, "useStandardizedQueries": true, "description": "
Dates of Images:<\/SPAN><\/P> Post-Event: 7/2/2026, 7/12/2026, 7/18/2026<\/SPAN><\/P> Pre-Event: 6/10/2026. 6/12/2026<\/SPAN><\/P> Date of Next Image:<\/SPAN><\/P> Unknown<\/SPAN><\/P> The True Color RGB composite provides a product of how the surface would look to the naked eye from space. The RGB is created using the red, green, and blue channels of the respective instrument.<\/SPAN><\/P> The Color Infrared composite is created using the near-infrared, red, and green channels. The near-infrared gives the ability to see through thin clouds. Healthy vegetation is shown as red, water is in blue.<\/SPAN><\/P> These pre-fire and post-fire images pair were analyzed for normalized burn ratio (NBR). The input images were generated from the Sentinel2- dataset at 10m resolution.<\/SPAN><\/P> NBR is defined mathematically as (NIR \u2013 SWIR)/(NIR + SWIR) where NIR is near-infrared and SWIR is short-wave infrared. dNBR is computed by the difference between the pre-fire NBR and the post-fire NBR. More information on dNBR can be found here: https://un-spider.org/advisory-support/recommended-practices/recommended-practice-burn-severity/in-detail/normalized-burn-ratio.<\/SPAN><\/P> Suggested Use:<\/SPAN><\/P> The True Color RGB provides a product of how the surface would look to the naked eye from space. The True Color RGB is produced using the 3 visible wavelength bands (red, green, and blue) from the respective sensor. Some minor atmospheric corrections have occurred.<\/SPAN><\/P> A Color Infrared composite depicts healthy vegetation as red, water as blue. Some minor atmospheric corrections have occurred.<\/SPAN><\/P> NBR is commonly used as a proxy to indicate areas which have charred vegetation. Darker areas (more negative values) in the NBR image more strongly represent the presence of burned vegetation. Since the dNBR considers the condition of the scene before the fire occurred, the resulting value has been used as a proxy for burn severity. Higher dNBR values represent a proxy for greater burn severity. Negative dNBR values may represent a re-greening of or growth of vegetation in between pre and post imagery.<\/SPAN><\/P> Satellite/Sensor:<\/SPAN><\/P> Landsat 8 Operational Land Imager (OLI), Landsat 9 Operational Land Imager (OLI-2)<\/SPAN><\/P> Resolution:<\/SPAN><\/P> 30 meters<\/SPAN><\/P> Esri REST Endpoint:<\/SPAN><\/P> See Layers below.<\/SPAN><\/P> WMS Endpoint:<\/SPAN><\/P><\/DIV><\/DIV><\/DIV>",
"pixelType": "F32",
"meanPixelSize": 30,
"exportTilesAllowed": false,
"editFieldsInfo": null,
"rasterTypeInfos": [{
"help": "",
"name": "Raster Dataset",
"description": "Supports all ArcGIS Raster Datasets"
}],
"defaultResamplingMethod": "Bilinear",
"itemAccess": false,
"minScale": 0,
"serviceProperties": " Dates of Images:<\/SPAN><\/P> Post-Event: 7/2/2026, 7/12/2026, 7/18/2026<\/SPAN><\/P> Pre-Event: 6/10/2026. 6/12/2026<\/SPAN><\/P> Date of Next Image:<\/SPAN><\/P> Unknown<\/SPAN><\/P> The True Color RGB composite provides a product of how the surface would look to the naked eye from space. The RGB is created using the red, green, and blue channels of the respective instrument.<\/SPAN><\/P> The Color Infrared composite is created using the near-infrared, red, and green channels. The near-infrared gives the ability to see through thin clouds. Healthy vegetation is shown as red, water is in blue.<\/SPAN><\/P> These pre-fire and post-fire images pair were analyzed for normalized burn ratio (NBR). The input images were generated from the Sentinel2- dataset at 10m resolution.<\/SPAN><\/P> NBR is defined mathematically as (NIR \u2013 SWIR)/(NIR + SWIR) where NIR is near-infrared and SWIR is short-wave infrared. dNBR is computed by the difference between the pre-fire NBR and the post-fire NBR. More information on dNBR can be found here: https://un-spider.org/advisory-support/recommended-practices/recommended-practice-burn-severity/in-detail/normalized-burn-ratio.<\/SPAN><\/P> Suggested Use:<\/SPAN><\/P> The True Color RGB provides a product of how the surface would look to the naked eye from space. The True Color RGB is produced using the 3 visible wavelength bands (red, green, and blue) from the respective sensor. Some minor atmospheric corrections have occurred.<\/SPAN><\/P> A Color Infrared composite depicts healthy vegetation as red, water as blue. Some minor atmospheric corrections have occurred.<\/SPAN><\/P> NBR is commonly used as a proxy to indicate areas which have charred vegetation. Darker areas (more negative values) in the NBR image more strongly represent the presence of burned vegetation. Since the dNBR considers the condition of the scene before the fire occurred, the resulting value has been used as a proxy for burn severity. Higher dNBR values represent a proxy for greater burn severity. Negative dNBR values may represent a re-greening of or growth of vegetation in between pre and post imagery.<\/SPAN><\/P> Satellite/Sensor:<\/SPAN><\/P> Landsat 8 Operational Land Imager (OLI), Landsat 9 Operational Land Imager (OLI-2)<\/SPAN><\/P> Resolution:<\/SPAN><\/P> 30 meters<\/SPAN><\/P> Esri REST Endpoint:<\/SPAN><\/P> See Layers below.<\/SPAN><\/P> WMS Endpoint:<\/SPAN><\/P><\/DIV><\/DIV><\/DIV>",
"allowCopy": true,
"copyrightText": "NASA/MSFC, USGS",
"mensurationCapabilities": "Basic",
"ownershipBasedAccessControlForRasters": null
}