{ "extent": { "ymin": 5162881.7845000029, "xmin": -13725618.6017, "ymax": 5963941.7845000029, "xmax": -13102158.6017, "spatialReference": { "latestWkid": 3857, "wkid": 102100 } }, "blockWidth": 2048, "mosaicOperator": "First", "serviceSourceType": "esriImageServiceSourceTypeMosaicDataset", "hasMultidimensions": false, "maxImageWidth": 15000, "maxRecordCount": 1000, "meanValues": [ 82.488926624393855, 70.774529488762596, 47.943390921454402 ], "hasColormap": false, "compressionType": "None", "defaultCompressionQuality": 75, "maxValues": [ 255, 255, 255 ], "hasHistograms": true, "datasetFormat": "AMD", "maxImageHeight": 4100, "sortField": "", "bandNames": [ "Band_1", "Band_2", "Band_3" ], "spatialReference": { "latestWkid": 3857, "wkid": 102100 }, "fullExtent": { "ymin": 5162881.7845000029, "xmin": -13725618.6017, "ymax": 5963941.7845000029, "xmax": -13102158.6017, "spatialReference": { "latestWkid": 3857, "wkid": 102100 } }, "bandCount": 3, "rasterFunctionInfos": [{ "help": "", "name": "None", "description": "" }], "supportsStatistics": true, "sortableFields": "", "minValues": [ 0, 0, 0 ], "allowRasterFunction": true, "allowComputeTiePoints": false, "serviceDataType": "esriImageServiceDataTypeRGB", "supportsAdvancedQueries": true, "maxDownloadSizeLimit": 2048, "currentVersion": 12, "sortValue": null, "objectIdField": "objectid", "blockHeight": 256, "initialExtent": { "ymin": 5162881.7845000029, "xmin": -13725618.6017, "ymax": 5963941.7845000029, "xmax": -13102158.6017, "spatialReference": { "latestWkid": 3857, "wkid": 102100 } }, "pixelSizeX": 30, "pixelSizeY": 30, "defaultMosaicMethod": "Northwest", "name": "DISASTERS_202607_FIRE_OR/202618_landsat_tempP", "allowedMosaicMethods": "NorthWest,Center,LockRaster,ByAttribute,Nadir,Viewpoint,Seamline,None", "maxDownloadImageCount": 20, "fields": [ { "domain": null, "name": "objectid", "alias": "OBJECTID", "type": "esriFieldTypeOID" }, { "domain": null, "name": "name", "length": 200, "alias": "Name", "type": "esriFieldTypeString" }, { "domain": null, "name": "minps", "alias": "MinPS", "type": "esriFieldTypeDouble" }, { "domain": null, "name": "maxps", "alias": "MaxPS", "type": "esriFieldTypeDouble" }, { "domain": null, "name": "lowps", "alias": "LowPS", "type": "esriFieldTypeDouble" }, { "domain": null, "name": "highps", "alias": "HighPS", "type": "esriFieldTypeDouble" }, { "domain": { "splitPolicy": "esriSPTDefaultValue", "name": "MosaicCatalogItemCategoryDomain", "description": "Catalog item categories.", "type": "codedValue", "codedValues": [ { "code": 0, "name": "Unknown" }, { "code": 1, "name": "Primary" }, { "code": 2, "name": "Overview" }, { "code": 3, "name": "Unprocessed Overview" }, { "code": 4, "name": "Partial Overview" }, { "code": 5, "name": "Inactive" }, { "code": 253, "name": "Uploaded" }, { "code": 254, "name": "Incomplete" }, { "code": 255, "name": "Custom" } ], "mergePolicy": "esriMPTDefaultValue" }, "name": "category", "alias": "Category", "type": "esriFieldTypeInteger" }, { "domain": null, "name": "tag", "length": 100, "alias": "Tag", "type": "esriFieldTypeString" }, { "domain": null, "name": "groupname", "length": 100, "alias": "GroupName", "type": "esriFieldTypeString" }, { "domain": null, "name": "productname", "length": 100, "alias": "ProductName", "type": "esriFieldTypeString" }, { "domain": null, "name": "centerx", "alias": "CenterX", "type": "esriFieldTypeDouble" }, { "domain": null, "name": "centery", "alias": "CenterY", "type": "esriFieldTypeDouble" }, { "domain": null, "name": "zorder", "alias": "ZOrder", "type": "esriFieldTypeInteger" }, { "domain": null, "name": "date", "alias": "Date", "type": "esriFieldTypeDateOnly" }, { "domain": null, "name": "shape", "alias": "Shape", "type": "esriFieldTypeGeometry" } ], "allowAnalysis": true, "hasRasterAttributeTable": false, "useStandardizedQueries": true, "description": "
Dates of Images:<\/SPAN><\/P> Post-Event: 7/2/2026, 7/12/2026, 7/18/2026<\/SPAN><\/P> Pre-Event: 6/10/2026. 6/12/2026<\/SPAN><\/P> Date of Next Image:<\/SPAN><\/P> Unknown<\/SPAN><\/P> The True Color RGB composite provides a product of how the surface would look to the naked eye from space. The RGB is created using the red, green, and blue channels of the respective instrument.<\/SPAN><\/P> The Color Infrared composite is created using the near-infrared, red, and green channels. The near-infrared gives the ability to see through thin clouds. Healthy vegetation is shown as red, water is in blue.<\/SPAN><\/P> Suggested Use:<\/SPAN><\/P> The True Color RGB provides a product of how the surface would look to the naked eye from space. The True Color RGB is produced using the 3 visible wavelength bands (red, green, and blue) from the respective sensor. Some minor atmospheric corrections have occurred.<\/SPAN><\/P> A Color Infrared composite depicts healthy vegetation as red, water as blue. Some minor atmospheric corrections have occurred.<\/SPAN><\/P> Satellite/Sensor:<\/SPAN><\/P> Landsat 8 Operational Land Imager (OLI), Landsat 9 Operational Land Imager (OLI-2)<\/SPAN><\/P> Resolution:<\/SPAN><\/P> 30 meters<\/SPAN><\/P> Esri REST Endpoint:<\/SPAN><\/P> See Layers below.<\/SPAN><\/P> WMS Endpoint:<\/SPAN><\/P><\/DIV><\/DIV><\/DIV>",
"pixelType": "U8",
"meanPixelSize": 30,
"exportTilesAllowed": false,
"editFieldsInfo": null,
"rasterTypeInfos": [{
"help": "",
"name": "Raster Dataset",
"description": "Supports all ArcGIS Raster Datasets"
}],
"defaultResamplingMethod": "Bilinear",
"itemAccess": false,
"minScale": 0,
"serviceProperties": " Dates of Images:<\/SPAN><\/P> Post-Event: 7/2/2026, 7/12/2026, 7/18/2026<\/SPAN><\/P> Pre-Event: 6/10/2026. 6/12/2026<\/SPAN><\/P> Date of Next Image:<\/SPAN><\/P> Unknown<\/SPAN><\/P> The True Color RGB composite provides a product of how the surface would look to the naked eye from space. The RGB is created using the red, green, and blue channels of the respective instrument.<\/SPAN><\/P> The Color Infrared composite is created using the near-infrared, red, and green channels. The near-infrared gives the ability to see through thin clouds. Healthy vegetation is shown as red, water is in blue.<\/SPAN><\/P> Suggested Use:<\/SPAN><\/P> The True Color RGB provides a product of how the surface would look to the naked eye from space. The True Color RGB is produced using the 3 visible wavelength bands (red, green, and blue) from the respective sensor. Some minor atmospheric corrections have occurred.<\/SPAN><\/P> A Color Infrared composite depicts healthy vegetation as red, water as blue. Some minor atmospheric corrections have occurred.<\/SPAN><\/P> Satellite/Sensor:<\/SPAN><\/P> Landsat 8 Operational Land Imager (OLI), Landsat 9 Operational Land Imager (OLI-2)<\/SPAN><\/P> Resolution:<\/SPAN><\/P> 30 meters<\/SPAN><\/P> Esri REST Endpoint:<\/SPAN><\/P> See Layers below.<\/SPAN><\/P> WMS Endpoint:<\/SPAN><\/P><\/DIV><\/DIV><\/DIV>",
"allowCopy": true,
"copyrightText": "NASA/MSFC, USGS",
"mensurationCapabilities": "None",
"ownershipBasedAccessControlForRasters": null
}