{ "extent": { "ymin": 6012430.2620057408, "xmin": -13499500.8355, "ymax": 6305405.6190000027, "xmax": -13017941.805247549, "spatialReference": { "latestWkid": 3857, "wkid": 102100 } }, "blockWidth": 2048, "mosaicOperator": "First", "serviceSourceType": "esriImageServiceSourceTypeMosaicDataset", "hasMultidimensions": false, "maxImageWidth": 15000, "maxRecordCount": 1000, "meanValues": [ 102.0394900434966, 113.28192257706215, 126.27091992547598, 234.14627149128742 ], "hasColormap": false, "compressionType": "None", "defaultCompressionQuality": 75, "maxValues": [ 219, 207, 202, 255 ], "hasHistograms": true, "datasetFormat": "AMD", "maxImageHeight": 4100, "sortField": "", "bandNames": [ "Band_1", "Band_2", "Band_3", "Band_4" ], "spatialReference": { "latestWkid": 3857, "wkid": 102100 }, "fullExtent": { "ymin": 6012430.2620057408, "xmin": -13499500.8355, "ymax": 6305405.6190000027, "xmax": -13017941.805247549, "spatialReference": { "latestWkid": 3857, "wkid": 102100 } }, "bandCount": 4, "rasterFunctionInfos": [{ "help": "", "name": "None", "description": "" }], "supportsStatistics": true, "sortableFields": "", "minValues": [ 1, 1, 1, 1 ], "allowRasterFunction": true, "allowComputeTiePoints": false, "serviceDataType": "esriImageServiceDataTypeGeneric", "supportsAdvancedQueries": true, "maxDownloadSizeLimit": 2048, "currentVersion": 12, "sortValue": null, "objectIdField": "objectid", "blockHeight": 256, "initialExtent": { "ymin": 6012430.2620057408, "xmin": -13499500.8355, "ymax": 6305405.6190000027, "xmax": -13017941.805247549, "spatialReference": { "latestWkid": 3857, "wkid": 102100 } }, "pixelSizeX": 8.3990412532039951, "pixelSizeY": 8.3990412532040004, "defaultMosaicMethod": "Northwest", "name": "DISASTERS_202608_FIRE_WA/202619_iss", "allowedMosaicMethods": "NorthWest,Center,LockRaster,ByAttribute,Nadir,Viewpoint,Seamline,None", "maxDownloadImageCount": 20, "fields": [ { "domain": null, "name": "objectid", "alias": "OBJECTID", "type": "esriFieldTypeOID" }, { "domain": null, "name": "name", "length": 200, "alias": "Name", "type": "esriFieldTypeString" }, { "domain": null, "name": "minps", "alias": "MinPS", "type": "esriFieldTypeDouble" }, { "domain": null, "name": "maxps", "alias": "MaxPS", "type": "esriFieldTypeDouble" }, { "domain": null, "name": "lowps", "alias": "LowPS", "type": "esriFieldTypeDouble" }, { "domain": null, "name": "highps", "alias": "HighPS", "type": "esriFieldTypeDouble" }, { "domain": { "splitPolicy": "esriSPTDefaultValue", "name": "MosaicCatalogItemCategoryDomain", "description": "Catalog item categories.", "type": "codedValue", "codedValues": [ { "code": 0, "name": "Unknown" }, { "code": 1, "name": "Primary" }, { "code": 2, "name": "Overview" }, { "code": 3, "name": "Unprocessed Overview" }, { "code": 4, "name": "Partial Overview" }, { "code": 5, "name": "Inactive" }, { "code": 253, "name": "Uploaded" }, { "code": 254, "name": "Incomplete" }, { "code": 255, "name": "Custom" } ], "mergePolicy": "esriMPTDefaultValue" }, "name": "category", "alias": "Category", "type": "esriFieldTypeInteger" }, { "domain": null, "name": "tag", "length": 100, "alias": "Tag", "type": "esriFieldTypeString" }, { "domain": null, "name": "groupname", "length": 100, "alias": "GroupName", "type": "esriFieldTypeString" }, { "domain": null, "name": "productname", "length": 100, "alias": "ProductName", "type": "esriFieldTypeString" }, { "domain": null, "name": "centerx", "alias": "CenterX", "type": "esriFieldTypeDouble" }, { "domain": null, "name": "centery", "alias": "CenterY", "type": "esriFieldTypeDouble" }, { "domain": null, "name": "zorder", "alias": "ZOrder", "type": "esriFieldTypeInteger" }, { "domain": null, "name": "shape", "alias": "Shape", "type": "esriFieldTypeGeometry" } ], "allowAnalysis": true, "hasRasterAttributeTable": false, "useStandardizedQueries": true, "description": "
The visible-wavelength true color RGB digital camera images were taken by astronauts aboard the International Space Station showing areas affected by the fires in Washington August 2026.<\/SPAN><\/P> Date of Images:<\/SPAN><\/P> Dates:<\/SPAN><\/P> July 30, 2026: ISS075-E-658<\/SPAN><\/P> July 31, 2026: ISS075-E-1496, ISS075-E-1537, ISS075-E-1547, ISS075-E-1557<\/SPAN><\/P> August 4, 2026: ISS075-E-2214-2215, ISS075-E-2218<\/SPAN><\/P> Locations:<\/SPAN><\/P> Little Giant fire: ISS075-E-1496, ISS075-E-1537<\/SPAN><\/P> Kaiser Canyon and Modrite fires: ISS075-E-658, ISS075-E-1547, ISS075-E-1557<\/SPAN><\/P> Sinlahekin fire: ISS075-E-2214-2215, ISS075-E-2218<\/SPAN><\/P> Camera:<\/SPAN><\/P> Nikon Z9<\/SPAN><\/P> Focal Length:<\/SPAN><\/P> 400 mm: ISS075-E-1496, ISS075-E-1537, ISS075-E-1547, ISS075-E-1557, ISS075-E-2214-2215, ISS075-E-2218<\/SPAN><\/P> 240 mm: ISS075-E-658<\/SPAN><\/P> Suggested Use:<\/SPAN><\/P> This image provides regional context, and may be useful for visualization of the ongoing event. Higher spatial resolution images may be suitable for spatial analysis to support decision making or research applications.<\/SPAN><\/P> Credits:<\/SPAN><\/P> International Space Station Program, NASA Johnson Space Center Earth Science and Remote Sensing Unit, ARES Division, Exploration Architecture, Integration & Science Directorate<\/SPAN><\/P> Esri REST Endpoint:<\/SPAN><\/P> See URL to the right<\/SPAN><\/P> WMS Endpoint:<\/SPAN><\/P> https://gis.earthdata.nasa.gov/portal/services/DISASTERS_202603_FLOOD_HI/2603_iss/ImageServer/WMSServer<\/SPAN><\/P> Data Download:<\/SPAN><\/P> Full datasets are available for download at the Gateway to Astronaut Photography of Earth. Download for this specific data can be found at:<\/SPAN><\/P> https://eol.jsc.nasa.gov/WebShare/WebShare.pl?folder=NASADisastersProgram/NDP_WashingtonFires_AUGUST2026<\/SPAN><\/P><\/DIV><\/DIV>",
"pixelType": "U8",
"meanPixelSize": 8.3990412532039969,
"exportTilesAllowed": false,
"editFieldsInfo": null,
"rasterTypeInfos": [{
"help": "",
"name": "Raster Dataset",
"description": "Supports all ArcGIS Raster Datasets"
}],
"defaultResamplingMethod": "Bilinear",
"itemAccess": false,
"minScale": 0,
"serviceProperties": " The visible-wavelength true color RGB digital camera images were taken by astronauts aboard the International Space Station showing areas affected by the fires in Washington August 2026.<\/SPAN><\/P> Date of Images:<\/SPAN><\/P> Dates:<\/SPAN><\/P> July 30, 2026: ISS075-E-658<\/SPAN><\/P> July 31, 2026: ISS075-E-1496, ISS075-E-1537, ISS075-E-1547, ISS075-E-1557<\/SPAN><\/P> August 4, 2026: ISS075-E-2214-2215, ISS075-E-2218<\/SPAN><\/P> Locations:<\/SPAN><\/P> Little Giant fire: ISS075-E-1496, ISS075-E-1537<\/SPAN><\/P> Kaiser Canyon and Modrite fires: ISS075-E-658, ISS075-E-1547, ISS075-E-1557<\/SPAN><\/P> Sinlahekin fire: ISS075-E-2214-2215, ISS075-E-2218<\/SPAN><\/P> Camera:<\/SPAN><\/P> Nikon Z9<\/SPAN><\/P> Focal Length:<\/SPAN><\/P> 400 mm: ISS075-E-1496, ISS075-E-1537, ISS075-E-1547, ISS075-E-1557, ISS075-E-2214-2215, ISS075-E-2218<\/SPAN><\/P> 240 mm: ISS075-E-658<\/SPAN><\/P> Suggested Use:<\/SPAN><\/P> This image provides regional context, and may be useful for visualization of the ongoing event. Higher spatial resolution images may be suitable for spatial analysis to support decision making or research applications.<\/SPAN><\/P> Credits:<\/SPAN><\/P> International Space Station Program, NASA Johnson Space Center Earth Science and Remote Sensing Unit, ARES Division, Exploration Architecture, Integration & Science Directorate<\/SPAN><\/P> Esri REST Endpoint:<\/SPAN><\/P> See URL to the right<\/SPAN><\/P> WMS Endpoint:<\/SPAN><\/P> https://gis.earthdata.nasa.gov/portal/services/DISASTERS_202603_FLOOD_HI/2603_iss/ImageServer/WMSServer<\/SPAN><\/P> Data Download:<\/SPAN><\/P> Full datasets are available for download at the Gateway to Astronaut Photography of Earth. Download for this specific data can be found at:<\/SPAN><\/P> https://eol.jsc.nasa.gov/WebShare/WebShare.pl?folder=NASADisastersProgram/NDP_WashingtonFires_AUGUST2026<\/SPAN><\/P><\/DIV><\/DIV>",
"allowCopy": true,
"copyrightText": "",
"mensurationCapabilities": "None",
"ownershipBasedAccessControlForRasters": null
}